BEGIN:VCALENDAR
VERSION:2.0
PRODID:IEEE vTools.Events//EN
CALSCALE:GREGORIAN
BEGIN:VTIMEZONE
TZID:America/Regina
BEGIN:STANDARD
DTSTART:19600424T030000
TZOFFSETFROM:-0700
TZOFFSETTO:-0600
TZNAME:CST
END:STANDARD
END:VTIMEZONE
BEGIN:VEVENT
DTSTAMP:20210110T222948Z
UID:3CBE8E08-781F-45BC-BE73-CDD4992E5A13
DTSTART;TZID=America/Regina:20210119T180000
DTEND;TZID=America/Regina:20210119T200000
DESCRIPTION:This is a test event for demonstration purposes.\n\nSaskatoon\,
  Saskatchewan\, Canada
LOCATION:Saskatoon\, Saskatchewan\, Canada
ORGANIZER:c.loi@ieee.org
SEQUENCE:0
SUMMARY:Test Event for IEEE Canada Volunteer Orientation
URL;VALUE=URI:https://events.vtools.ieee.org/m/255947
X-ALT-DESC:Description: &lt;br /&gt;&lt;p&gt;This is a test event for demonstration pur
 poses.&lt;/p&gt;
END:VEVENT
END:VCALENDAR

