BEGIN:VCALENDAR
VERSION:2.0
PRODID:IEEE vTools.Events//EN
CALSCALE:GREGORIAN
BEGIN:VEVENT
DTSTAMP:20220113T043825Z
UID:13F3B34D-37AE-4427-B96D-544CDE6DA3F1
DTSTART;TZID=Etc/GMT-5:20210305T160000
DTEND;TZID=Etc/GMT-5:20210305T173000
DESCRIPTION:If you are an engineering undergraduate or post-graduate studen
 t\, or a recent graduate starting out your engineering career\, then this 
 seminar might be for you. In it you will learn:\n\n- What is PEO?\n\n- Wha
 t engineering experience is PEO looking for once I graduate?\n\n- I have i
 nternational engineering education and experience\; how is that evaluated 
 by PEO?\n\n- How is my engineering experience evaluated by PEO?\n\n- How d
 o I prepare my Experience Record?\n\n- What is the PPE?\n\n- What is the E
 IT Program and the Student Membership Program?\n\nOttawa\, Ontario\, Canad
 a\, Virtual: https://events.vtools.ieee.org/m/256044
LOCATION:Ottawa\, Ontario\, Canada\, Virtual: https://events.vtools.ieee.or
 g/m/256044
ORGANIZER:botros@ieee.org
SEQUENCE:4
SUMMARY:Clarifying the Path to Becoming a Professional Engineer
URL;VALUE=URI:https://events.vtools.ieee.org/m/256044
X-ALT-DESC:Description: &lt;br /&gt;&lt;h4&gt;If you are an engineering undergraduate o
 r post-graduate student\, or a recent graduate starting out your engineeri
 ng career\, then this seminar might be for you.&amp;nbsp\; In it you will lear
 n:&lt;/h4&gt;\n&lt;p&gt;&amp;nbsp\;&lt;/p&gt;\n&lt;h4&gt;&lt;strong&gt;-&amp;nbsp\;&amp;nbsp\;&amp;nbsp\;&amp;nbsp\;&amp;nbsp\;&amp;
 nbsp\;&amp;nbsp\;&amp;nbsp\;&amp;nbsp\; What is PEO?&lt;/strong&gt;&lt;/h4&gt;\n&lt;h4&gt;&lt;strong&gt;-&amp;nbsp
 \;&amp;nbsp\;&amp;nbsp\;&amp;nbsp\;&amp;nbsp\;&amp;nbsp\;&amp;nbsp\;&amp;nbsp\;&amp;nbsp\; What engineerin
 g experience is PEO looking for once I graduate?&lt;/strong&gt;&lt;/h4&gt;\n&lt;h4&gt;&lt;stron
 g&gt;-&amp;nbsp\;&amp;nbsp\;&amp;nbsp\;&amp;nbsp\;&amp;nbsp\;&amp;nbsp\;&amp;nbsp\;&amp;nbsp\;&amp;nbsp\; I have 
 international engineering education and experience\; how is that evaluated
  by PEO?&lt;/strong&gt;&lt;/h4&gt;\n&lt;h4&gt;&lt;strong&gt;-&amp;nbsp\;&amp;nbsp\;&amp;nbsp\;&amp;nbsp\;&amp;nbsp\;&amp;n
 bsp\;&amp;nbsp\;&amp;nbsp\;&amp;nbsp\; How is my engineering experience evaluated by P
 EO?&lt;/strong&gt;&lt;/h4&gt;\n&lt;h4&gt;&lt;strong&gt;-&amp;nbsp\;&amp;nbsp\;&amp;nbsp\;&amp;nbsp\;&amp;nbsp\;&amp;nbsp\;
 &amp;nbsp\;&amp;nbsp\;&amp;nbsp\; How do I prepare my Experience Record?&lt;/strong&gt;&lt;/h4&gt;
 \n&lt;h4&gt;&lt;strong&gt;-&amp;nbsp\;&amp;nbsp\;&amp;nbsp\;&amp;nbsp\;&amp;nbsp\;&amp;nbsp\;&amp;nbsp\;&amp;nbsp\;&amp;nb
 sp\; What is the PPE?&lt;/strong&gt;&lt;/h4&gt;\n&lt;h4&gt;&lt;strong&gt;-&amp;nbsp\;&amp;nbsp\;&amp;nbsp\;&amp;nb
 sp\;&amp;nbsp\;&amp;nbsp\;&amp;nbsp\;&amp;nbsp\;&amp;nbsp\; What is the EIT Program and the St
 udent Membership Program?&lt;/strong&gt;&lt;/h4&gt;
END:VEVENT
END:VCALENDAR

