BEGIN:VCALENDAR
VERSION:2.0
PRODID:IEEE vTools.Events//EN
CALSCALE:GREGORIAN
BEGIN:VTIMEZONE
TZID:Asia/Dili
BEGIN:DAYLIGHT
DTSTART:20380119T121407
TZOFFSETFROM:+0900
TZOFFSETTO:+0900
RRULE:FREQ=YEARLY;BYDAY=3TU;BYMONTH=1
TZNAME:+09
END:DAYLIGHT
BEGIN:STANDARD
DTSTART:20000917T010000
TZOFFSETFROM:+0800
TZOFFSETTO:+0900
RRULE:FREQ=YEARLY;BYDAY=3SU;BYMONTH=9
TZNAME:+09
END:STANDARD
END:VTIMEZONE
BEGIN:VEVENT
DTSTAMP:20210202T061432Z
UID:90FDE44C-47C7-49A3-9D6C-D15417966E51
DTSTART;TZID=Asia/Dili:20210130T160000
DTEND;TZID=Asia/Dili:20210130T180000
DESCRIPTION:An expert talk is organized under IEEE Signal Processing Societ
 y\, Gujarat Section on &quot;Recent Developments in the Field of Quantum Machin
 e Learning&quot; on 30th January 2021 from 4:00 PM Onwards over Webex Platform.
 \n\nSpeaker(s): Mr. Srinjoy Ganguly\, \n\nVirtual: https://events.vtools.i
 eee.org/m/256765
LOCATION:Virtual: https://events.vtools.ieee.org/m/256765
ORGANIZER:ankit.p.dave@ieee.org
SEQUENCE:1
SUMMARY:Expert Talk on &quot;Recent Developments in the field of Quantum Machine
  Learning&quot;
URL;VALUE=URI:https://events.vtools.ieee.org/m/256765
X-ALT-DESC:Description: &lt;br /&gt;&lt;p&gt;An expert talk is organized under IEEE Sig
 nal Processing Society\, Gujarat Section on &quot;Recent Developments in the Fi
 eld of Quantum Machine Learning&quot; on 30th January 2021 from 4:00 PM Onwards
  over Webex Platform.&amp;nbsp\;&amp;nbsp\;&lt;/p&gt;
END:VEVENT
END:VCALENDAR

