BEGIN:VCALENDAR
VERSION:2.0
PRODID:IEEE vTools.Events//EN
CALSCALE:GREGORIAN
BEGIN:VTIMEZONE
TZID:Canada/Pacific
BEGIN:DAYLIGHT
DTSTART:20210314T030000
TZOFFSETFROM:-0800
TZOFFSETTO:-0700
RRULE:FREQ=YEARLY;BYDAY=2SU;BYMONTH=3
TZNAME:PDT
END:DAYLIGHT
BEGIN:STANDARD
DTSTART:20201101T010000
TZOFFSETFROM:-0700
TZOFFSETTO:-0800
RRULE:FREQ=YEARLY;BYDAY=1SU;BYMONTH=11
TZNAME:PST
END:STANDARD
END:VTIMEZONE
BEGIN:VEVENT
DTSTAMP:20210125T043321Z
UID:7C8978EA-1583-4F7C-B2F5-1E6639731758
DTSTART;TZID=Canada/Pacific:20210203T190000
DTEND;TZID=Canada/Pacific:20210203T203000
DESCRIPTION:OMICRON and IEEE BCIT Student Branch is bringing you an online 
 technical talk/event on IEC61850 topics\, Wednesday February 3\, 2021 at 7
 :00 pm.\n\nAs OMICRON has received an overwhelming amount of interest from
  industry\, [BCIT](https://www.bcit.ca/programs/electrical-engineering/) i
 s working in conjunction with [OMICRON](https://www.omicronenergy.com/en/)
  to bring you an interactive online technical talk/event on IEC61850 topic
 s.\n\nThis event is an excellent opportunity to learn and foster discussio
 ns on [IEC61850](https://www.omicronenergy.com/en/solutions/ied-testing-an
 d-verification-12/#contact-menu-open) for practicing professionals and alu
 mni. It will provide some perspective on how it is being used and applied 
 in the real world. Current students are welcome to join as well.\n\nTopics
  that will be covered include an overview of the IEC61850 standard and con
 cepts (data model\, data exchange services\, SCL) as well as a live demons
 tration using real world relays and test tools.\n\nThis online event requi
 res registration\, so please register. Your contact information will be us
 ed to remind you of the event\, send you the link to access the Zoom event
 \, and follow up on the event.\n\n[Register here for the Introduction to t
 he IEC61850 protocol\, the basis for Smart Grids](https://www.eventbrite.c
 a/e/introduction-to-the-iec61850-protocol-the-basis-for-smart-grids-regist
 ration-127799940061)\n\nRegistration through Eventbrite is required for ac
 cess to the Zoom meeting link. This way we can ensure quality discussions 
 of participants from industry and education.\n\nWe look forward to seeing 
 you at 7:00 pm on February 3\, 2021.\n\nMain Organizers: BCIT and OMICRON\
 n\nVirtual: https://events.vtools.ieee.org/m/258646
LOCATION:Virtual: https://events.vtools.ieee.org/m/258646
ORGANIZER:EXEC@IEEEBCIT.ORG
SEQUENCE:15
SUMMARY:Introduction to the IEC61850 protocol\, the basis for Smart Grids
URL;VALUE=URI:https://events.vtools.ieee.org/m/258646
X-ALT-DESC:Description: &lt;br /&gt;&lt;p&gt;&lt;strong&gt;&lt;u&gt;OMICRON and IEEE BCIT Student B
 ranch is bringing you an online technical talk/event on IEC61850 topics\, 
 Wednesday February 3\, 2021 at 7:00 pm.&lt;/u&gt;&lt;/strong&gt;&lt;/p&gt;\n&lt;p&gt;&amp;nbsp\;&lt;/p&gt;\n
 &lt;p&gt;As OMICRON has received an overwhelming amount of interest from industr
 y\,&lt;strong&gt;&amp;nbsp\;&lt;/strong&gt;&lt;a href=&quot;https://www.bcit.ca/programs/electrica
 l-engineering/&quot;&gt;&lt;strong&gt;BCIT&lt;/strong&gt;&lt;/a&gt;&amp;nbsp\;is working in conjunction 
 with&amp;nbsp\;&lt;a href=&quot;https://www.omicronenergy.com/en/&quot;&gt;&lt;strong&gt;OMICRON&lt;/st
 rong&gt;&lt;/a&gt;&lt;strong&gt;&amp;nbsp\;&lt;/strong&gt;to bring you an interactive online techni
 cal talk/event on IEC61850 topics.&lt;/p&gt;\n&lt;p&gt;This event is an excellent oppo
 rtunity to learn and foster discussions on&amp;nbsp\;&lt;a href=&quot;https://www.omic
 ronenergy.com/en/solutions/ied-testing-and-verification-12/#contact-menu-o
 pen&quot;&gt;&lt;strong&gt;IEC61850&lt;/strong&gt;&lt;/a&gt;&amp;nbsp\;for practicing professionals and 
 alumni. It will provide some perspective on how it is being used and appli
 ed in the real world. Current students are welcome to join as well.&lt;/p&gt;\n&lt;
 p&gt;Topics that will be covered include an overview of the IEC61850 standard
  and concepts (data model\, data exchange services\, SCL) as well as a liv
 e demonstration using real world relays and test tools.&lt;/p&gt;\n&lt;p&gt;This onlin
 e event requires registration\, so please register. Your contact informati
 on will be used to remind you of the event\, send you the link to access t
 he Zoom event\, and follow up on the event.&lt;/p&gt;\n&lt;p&gt;&lt;a href=&quot;https://www.e
 ventbrite.ca/e/introduction-to-the-iec61850-protocol-the-basis-for-smart-g
 rids-registration-127799940061&quot;&gt;&lt;strong&gt;Register here for the Introduction
  to the IEC61850 protocol\, the basis for Smart Grids&lt;/strong&gt;&lt;/a&gt;&lt;/p&gt;\n&lt;d
 iv class=&quot;dc-content&quot;&gt;\n&lt;div class=&quot;dc-modules&quot;&gt;\n&lt;div class=&quot;dc-modules__
 item&quot;&gt;\n&lt;div class=&quot;eds-l-mar-bot-12 eds-l-lg-mar-bot-14&quot;&gt;\n&lt;div&gt;\n&lt;div cl
 ass=&quot;dc-modules__item--text&quot;&gt;\n&lt;p&gt;Registration through Eventbrite is requi
 red for access to the Zoom meeting link. This way we can ensure quality di
 scussions of participants from industry and education.&lt;/p&gt;\n&lt;/div&gt;\n&lt;/div&gt;
 \n&lt;/div&gt;\n&lt;/div&gt;\n&lt;/div&gt;\n&lt;/div&gt;\n&lt;p&gt;We look forward to seeing you at 7:00
  pm on February 3\, 2021.&lt;/p&gt;\n&lt;p&gt;&lt;strong&gt;Main Organizers:&lt;/strong&gt; BCIT a
 nd OMICRON&lt;/p&gt;
END:VEVENT
END:VCALENDAR

