BEGIN:VCALENDAR
VERSION:2.0
PRODID:IEEE vTools.Events//EN
CALSCALE:GREGORIAN
BEGIN:VTIMEZONE
TZID:Canada/Pacific
BEGIN:DAYLIGHT
DTSTART:20210314T030000
TZOFFSETFROM:-0800
TZOFFSETTO:-0700
RRULE:FREQ=YEARLY;BYDAY=2SU;BYMONTH=3
TZNAME:PDT
END:DAYLIGHT
BEGIN:STANDARD
DTSTART:20201101T010000
TZOFFSETFROM:-0700
TZOFFSETTO:-0800
RRULE:FREQ=YEARLY;BYDAY=1SU;BYMONTH=11
TZNAME:PST
END:STANDARD
END:VTIMEZONE
BEGIN:VEVENT
DTSTAMP:20210125T043418Z
UID:5997CDB2-09AB-4E03-8E26-0270134E1911
DTSTART;TZID=Canada/Pacific:20210127T173000
DTEND;TZID=Canada/Pacific:20210127T183000
DESCRIPTION:The Master of Engineering in Smart Grid Systems and Technologie
 s (MEng SGST) program focuses on Smart Grid Systems and the modernization 
 of critical infrastructure\, especially in the electrical utility sector. 
 The market is changing and the demand for specialized people are on the ri
 se.\n\nThis offering is being developed as a Part-time Studies program\, a
 llowing for your professional development outside working hours. The speci
 alization of skill set will differentiate you in the marketplace with appl
 ied and interdisciplinary technical and practical skills to support the pr
 ovincial and national economy.\n\nThe ideal candidates and the prerequisit
 e criteria for this program is as follows:\n\n- Practicing Engineers\, wit
 h a Bachelor’s degree in relevant engineering\, technology or science di
 sciplines. Key areas in electrical power systems\, computer science\, or i
 nformation and communications technology.\n- Experience working within tho
 se disciplines.\n- Newcomers to Canada with stated relevant Bachelor’s d
 egrees and experience\, to learn about engineering practice in Canada.\n\n
 [Register and attend this online information session for a brief presentat
 ion and to speak to our Program Champion for details and information. We a
 re hosting this session on Wednesday January 27\, 2021 at 5:30 pm.](https:
 //www.bcit.ca/event/new-master-of-engineering-in-smart-grid-systems-and-te
 chnologies-pts-online-information-session/#rsvp-now)\n\n(A valid email wil
 l be required to receive log in information for the session.)\n\nMain Orga
 nizer: [BCIT School of Energy](https://www.bcit.ca/organizer/school-of-ene
 rgy/)\n\nVirtual: https://events.vtools.ieee.org/m/258795
LOCATION:Virtual: https://events.vtools.ieee.org/m/258795
ORGANIZER:amine.doulfikar@ieee.org
SEQUENCE:3
SUMMARY:BCIT Master of Engineering in Smart Grid Systems Technology – Onl
 ine Information Session
URL;VALUE=URI:https://events.vtools.ieee.org/m/258795
X-ALT-DESC:Description: &lt;br /&gt;&lt;p&gt;The&amp;nbsp\;Master of Engineering in Smart G
 rid Systems and Technologies&amp;nbsp\;(MEng SGST) program focuses on Smart Gr
 id Systems and the modernization of critical infrastructure\, especially i
 n the electrical utility sector. The market is changing and the demand for
  specialized people are on the rise.&lt;/p&gt;\n&lt;p&gt;This offering is being develo
 ped as a Part-time Studies program\, allowing for your professional develo
 pment outside working hours. The specialization of skill set will differen
 tiate you in the marketplace with applied and interdisciplinary technical 
 and practical skills to support the provincial and national economy.&lt;/p&gt;\n
 &lt;p&gt;The ideal candidates and the prerequisite criteria for this program is 
 as follows:&lt;/p&gt;\n&lt;ol&gt;\n&lt;li&gt;Practicing Engineers\, with a Bachelor&amp;rsquo\;s
  degree in relevant engineering\, technology or science disciplines. Key a
 reas in electrical power systems\, computer science\, or information and c
 ommunications technology.&lt;/li&gt;\n&lt;li&gt;Experience working within those discip
 lines.&lt;/li&gt;\n&lt;li&gt;Newcomers to Canada with stated relevant Bachelor&amp;rsquo\;
 s degrees and experience\, to learn about engineering practice in Canada.&lt;
 /li&gt;\n&lt;/ol&gt;\n&lt;p&gt;&lt;a href=&quot;https://www.bcit.ca/event/new-master-of-engineeri
 ng-in-smart-grid-systems-and-technologies-pts-online-information-session/#
 rsvp-now&quot;&gt;Register and attend this online information session for a brief 
 presentation and to speak to our Program Champion for details and informat
 ion. We are hosting this session on&amp;nbsp\; Wednesday January 27\, 2021 at 
 5:30 pm.&lt;/a&gt;&lt;/p&gt;\n&lt;p&gt;(A valid email will be required to receive log in inf
 ormation for the session.)&lt;/p&gt;\n&lt;p&gt;&lt;strong&gt;Main Organizer:&lt;/strong&gt; &lt;a hre
 f=&quot;https://www.bcit.ca/organizer/school-of-energy/&quot;&gt;BCIT&amp;nbsp\;School of E
 nergy&lt;/a&gt;&lt;/p&gt;\n&lt;p&gt;&amp;nbsp\;&lt;/p&gt;
END:VEVENT
END:VCALENDAR

