BEGIN:VCALENDAR
VERSION:2.0
PRODID:IEEE vTools.Events//EN
CALSCALE:GREGORIAN
BEGIN:VTIMEZONE
TZID:Canada/Pacific
BEGIN:DAYLIGHT
DTSTART:20210314T030000
TZOFFSETFROM:-0800
TZOFFSETTO:-0700
RRULE:FREQ=YEARLY;BYDAY=2SU;BYMONTH=3
TZNAME:PDT
END:DAYLIGHT
BEGIN:STANDARD
DTSTART:20201101T010000
TZOFFSETFROM:-0700
TZOFFSETTO:-0800
RRULE:FREQ=YEARLY;BYDAY=1SU;BYMONTH=11
TZNAME:PST
END:STANDARD
END:VTIMEZONE
BEGIN:VEVENT
DTSTAMP:20210408T172016Z
UID:C8682F1A-ED5D-4ADB-8157-6B2FE775739B
DTSTART;TZID=Canada/Pacific:20210301T133000
DTEND;TZID=Canada/Pacific:20210301T153000
DESCRIPTION:Interested in learning more about Employment Law in BC?\n\nAtte
 nd this information by Anita Atwal to learn more about Common law\, Employ
 ment Standards Act\, and Human Rights Code.\n\nAnita Atwal practices exclu
 sively in the area of Employment Law with HHBG Lawyers in Vancouver\, Brit
 ish Columbia. HHBG is a leading employment law firm in British Columbia wi
 th offices in Vancouver and Surrey. Prior to joining HHBG Lawyer\, Anita w
 orked at a large regional firm. She is an experienced litigator\, having a
 ppeared at all levels of court in British Columbia and before administrati
 ve tribunals. She advises on wide array of workplace issues\, including co
 ntract review\, termination\, severance packages\, restrictive covenants a
 nd human rights. She has a keen interest in issues surrounding workplace i
 nvestigations and disciplinary proceedings.\n\nAnita received her undergra
 duate degree from Simon Fraser University in 2000 and her Bachelor of Laws
  from the University of British Columbia in 2005. She was called to the ba
 r of British Columbia in 2006.\n\nShe is a member of the Canadian Bar Asso
 ciation Employment Law and Human Rights Subsection and serves on the Execu
 tive of the Canadian Bar Association Work Place Investigations Subsection.
 \n\nShe is a director of British Columbia Infrastructure Benefits\, a Crow
 n Corporation responsible for executing British Columbia’s Community Ben
 efits Agreement for large public infrastructure for projects.\n\nShe also 
 serves on the Kwantlen Polytechnic University Foundation Board as a Direct
 or. In this role\, she is responsible for raising funds for the University
 .\n\nShe has served as president and director of the South Asian Bar Assoc
 iation of British Columbia and remains on the Board of Directors.\n\nRegis
 tration is required for access to the Zoom meeting link. This way we can e
 nsure quality discussions of participants from industry and education.\n\n
 Virtual: https://events.vtools.ieee.org/m/258798
LOCATION:Virtual: https://events.vtools.ieee.org/m/258798
ORGANIZER:amine.doulfikar@ieee.org
SEQUENCE:8
SUMMARY:Employment Law in BC - Information Session for Young Professionals
URL;VALUE=URI:https://events.vtools.ieee.org/m/258798
X-ALT-DESC:Description: &lt;br /&gt;&lt;p&gt;&lt;strong&gt;Interested in learning more about 
 Employment Law in BC?&lt;/strong&gt;&lt;/p&gt;\n&lt;p&gt;Attend this information by Anita At
 wal to learn more about&amp;nbsp\;Common law\, Employment Standards Act\, and 
 Human Rights Code.&lt;/p&gt;\n&lt;p&gt;&lt;span style=&quot;font-weight: 400\;&quot;&gt;Anita Atwal pr
 actices exclusively in the area of Employment Law with HHBG Lawyers in Van
 couver\, British Columbia. HHBG is a leading employment law firm in Britis
 h Columbia with offices in Vancouver and Surrey. Prior to joining HHBG Law
 yer\, Anita worked at a large regional firm. She is an experienced litigat
 or\, having appeared at all levels of court in British Columbia and before
  administrative tribunals. She advises on wide array of workplace issues\,
  including contract review\, termination\, severance packages\, restrictiv
 e covenants and human rights. She has a keen interest in issues surroundin
 g workplace investigations and disciplinary proceedings.&lt;/span&gt;&lt;/p&gt;\n&lt;p&gt;&lt;s
 pan style=&quot;font-weight: 400\;&quot;&gt;Anita received her undergraduate degree fro
 m Simon Fraser University in 2000 and her Bachelor of Laws from the Univer
 sity of British Columbia in 2005. She was called to the bar of British Col
 umbia in 2006.&amp;nbsp\;&lt;/span&gt;&lt;/p&gt;\n&lt;p&gt;&lt;span style=&quot;font-weight: 400\;&quot;&gt;She 
 is a member of the Canadian Bar Association Employment Law and Human Right
 s Subsection and serves on the Executive of the Canadian Bar Association W
 ork Place Investigations Subsection.&amp;nbsp\;&lt;/span&gt;&lt;/p&gt;\n&lt;p&gt;&lt;span style=&quot;fo
 nt-weight: 400\;&quot;&gt;She is a director of British Columbia Infrastructure Ben
 efits\, a Crown Corporation responsible for executing British Columbia&amp;rsq
 uo\;s Community Benefits Agreement for large public infrastructure for pro
 jects.&amp;nbsp\;&lt;/span&gt;&lt;/p&gt;\n&lt;p&gt;&lt;span style=&quot;font-weight: 400\;&quot;&gt;She also ser
 ves on the Kwantlen Polytechnic University Foundation Board as a Director.
  In this role\, she is responsible for raising funds for the University.&lt;/
 span&gt;&lt;/p&gt;\n&lt;p&gt;&lt;span style=&quot;font-weight: 400\;&quot;&gt;She has served as president
  and director of the South Asian Bar Association of British Columbia and r
 emains on the Board of Directors.&lt;/span&gt;&lt;/p&gt;\n&lt;div class=&quot;dc-content&quot;&gt;\n&lt;d
 iv class=&quot;dc-modules&quot;&gt;\n&lt;div class=&quot;dc-modules__item&quot;&gt;\n&lt;div class=&quot;eds-l-
 mar-bot-12 eds-l-lg-mar-bot-14&quot;&gt;\n&lt;div class=&quot;dc-modules__item--text&quot;&gt;\n&lt;p
 &gt;&lt;strong&gt;Registration is required for access to the Zoom meeting link.&lt;/st
 rong&gt; This way we can ensure quality discussions of participants from indu
 stry and education.&lt;/p&gt;\n&lt;/div&gt;\n&lt;/div&gt;\n&lt;/div&gt;\n&lt;/div&gt;\n&lt;/div&gt;
END:VEVENT
END:VCALENDAR

