BEGIN:VCALENDAR
VERSION:2.0
PRODID:IEEE vTools.Events//EN
CALSCALE:GREGORIAN
BEGIN:VTIMEZONE
TZID:US/Central
BEGIN:DAYLIGHT
DTSTART:20210314T030000
TZOFFSETFROM:-0600
TZOFFSETTO:-0500
RRULE:FREQ=YEARLY;BYDAY=2SU;BYMONTH=3
TZNAME:CDT
END:DAYLIGHT
BEGIN:STANDARD
DTSTART:20201101T010000
TZOFFSETFROM:-0500
TZOFFSETTO:-0600
RRULE:FREQ=YEARLY;BYDAY=1SU;BYMONTH=11
TZNAME:CST
END:STANDARD
END:VTIMEZONE
BEGIN:VEVENT
DTSTAMP:20210210T025933Z
UID:95EE5F07-6B7F-420D-812D-E676DC29345B
DTSTART;TZID=US/Central:20210127T190000
DTEND;TZID=US/Central:20210127T210000
DESCRIPTION:Second week of the Amateur Radio Technician Preparation Class. 
 The first class touched on basic electronic principles which should be old
  hat to EEs. Not too late to join in and learn on-th-air-protocols and the
  FCC Rules and Regs for Ham Radio.\n\nCo-sponsored by: Hamfesters Radio Cl
 ub\n\nSpeaker(s): Brian Davis W9HLQ\, Mike McGuire K9ACM\n\nVirtual: https
 ://events.vtools.ieee.org/m/259016
LOCATION:Virtual: https://events.vtools.ieee.org/m/259016
ORGANIZER:ckelly@core.com
SEQUENCE:1
SUMMARY:Amateur Radio Technician License Preparation Class - Week 2
URL;VALUE=URI:https://events.vtools.ieee.org/m/259016
X-ALT-DESC:Description: &lt;br /&gt;&lt;p&gt;Second week of the Amateur Radio Technicia
 n Preparation Class.&amp;nbsp\; The first class touched on basic electronic pr
 inciples which should be old hat to EEs.&amp;nbsp\; Not too late to join in&amp;nb
 sp\; and learn on-th-air-protocols and the FCC Rules and Regs for Ham Radi
 o.&lt;/p&gt;
END:VEVENT
END:VCALENDAR

