BEGIN:VCALENDAR
VERSION:2.0
PRODID:IEEE vTools.Events//EN
CALSCALE:GREGORIAN
BEGIN:VTIMEZONE
TZID:Canada/Eastern
BEGIN:DAYLIGHT
DTSTART:20210314T030000
TZOFFSETFROM:-0500
TZOFFSETTO:-0400
RRULE:FREQ=YEARLY;BYDAY=2SU;BYMONTH=3
TZNAME:EDT
END:DAYLIGHT
BEGIN:STANDARD
DTSTART:20201101T010000
TZOFFSETFROM:-0400
TZOFFSETTO:-0500
RRULE:FREQ=YEARLY;BYDAY=1SU;BYMONTH=11
TZNAME:EST
END:STANDARD
END:VTIMEZONE
BEGIN:VEVENT
DTSTAMP:20210128T235745Z
UID:6ADDF8F3-1FF5-4797-9F45-6F7B89458B41
DTSTART;TZID=Canada/Eastern:20210128T153000
DTEND;TZID=Canada/Eastern:20210128T163000
DESCRIPTION:Biomaterials and regenerative therapeutics bear the promise of 
 addressing the increasing need for tissue and organ repair. This is partic
 ularly important when considering the number of patients living in Canada 
 who rely on interventional procedures and pharmacological therapies. In th
 is presentation\, using two representative organs such as heart and cornea
 \, we will discuss how understanding what is needed and how this could be 
 applied becomes key for developing translational therapeutic materials for
  clinical use.\n\nSpeaker(s): Dr. Emilio I. Alarcón \, \n\nOttawa\, Ontar
 io\, Canada\, Virtual: https://events.vtools.ieee.org/m/259103
LOCATION:Ottawa\, Ontario\, Canada\, Virtual: https://events.vtools.ieee.or
 g/m/259103
ORGANIZER:m.abdelazez.ca@ieee.org
SEQUENCE:3
SUMMARY:IEEE Ottawa EMBS - Understanding the Need in Biomaterials and Clini
 cal Translation
URL;VALUE=URI:https://events.vtools.ieee.org/m/259103
X-ALT-DESC:Description: &lt;br /&gt;&lt;p&gt;Biomaterials and regenerative therapeutics
  bear the promise of addressing the increasing need for tissue and organ r
 epair. This is particularly important when considering the number of patie
 nts living in Canada who rely on interventional procedures and pharmacolog
 ical therapies. In this presentation\, using two representative organs suc
 h as heart and cornea\, we will discuss how understanding what is needed a
 nd how this could be applied becomes key for developing translational ther
 apeutic materials for clinical use.&lt;/p&gt;
END:VEVENT
END:VCALENDAR

