BEGIN:VCALENDAR
VERSION:2.0
PRODID:IEEE vTools.Events//EN
CALSCALE:GREGORIAN
BEGIN:VTIMEZONE
TZID:America/Denver
BEGIN:DAYLIGHT
DTSTART:20200308T030000
TZOFFSETFROM:-0700
TZOFFSETTO:-0600
RRULE:FREQ=YEARLY;BYDAY=2SU;BYMONTH=3
TZNAME:MDT
END:DAYLIGHT
BEGIN:STANDARD
DTSTART:20191103T010000
TZOFFSETFROM:-0600
TZOFFSETTO:-0700
RRULE:FREQ=YEARLY;BYDAY=1SU;BYMONTH=11
TZNAME:MST
END:STANDARD
END:VTIMEZONE
BEGIN:VEVENT
DTSTAMP:20210131T213032Z
UID:B022A11B-CA99-4CBB-8967-D90E8A0E3CD9
DTSTART;TZID=America/Denver:20200221T110000
DTEND;TZID=America/Denver:20200221T121500
DESCRIPTION:With recent demonstration of quantum computing and quantum comm
 unication\, quantum information science has been changing our world in an 
 unprecedented way. To fully explore the power of quantum information proce
 ssing\, it is important to further combine discrete quantum elements and b
 uild distributed quantum networks. However\, this poses significant techni
 cal challenges because quantum coherence can be easily destroyed as the si
 gnal propagates through different systems. In this talk\, I will show that
  magnons—the collective excitations of magnetization—provide a promisi
 ng solution for efficiently converting quantum information among different
  forms while preserving the coherence. Specifically\, cavity magnonics exh
 ibits excellent compatibilities with other physical systems in the microwa
 ve\, mechanical and optical domains. Thanks to the large spin density in o
 ur system\, the interactions between magnons and other information carrier
 s such as photons and phonons are drastically boosted which is critical fo
 r protecting the signal coherence. Most importantly\, the tunability of ma
 gnons provides unparalleled controllability in the transduction process. T
 herefore\, coherent magnon-based signal transduction can be achieved. I wi
 ll finish the talk by describing opportunities toward on-chip integration 
 of quantum magnonics.\n\nCo-sponsored by: UCCS\n\nSpeaker(s): Xufeng Zhang
 \, \n\nRoom: A204\, Bldg: Osborne Center for Science and Engineering\, 142
 0 Austin Bluffs Pkwy\, Colorado Springs\, Colorado\, United States\, 80918
LOCATION:Room: A204\, Bldg: Osborne Center for Science and Engineering\, 14
 20 Austin Bluffs Pkwy\, Colorado Springs\, Colorado\, United States\, 8091
 8
ORGANIZER:zcelinsk@uccs.edu
SEQUENCE:3
SUMMARY:Advancing quantum information science with hybrid cavity magnonics
URL;VALUE=URI:https://events.vtools.ieee.org/m/260222
X-ALT-DESC:Description: &lt;br /&gt;&lt;p&gt;&lt;span style=&quot;font-size: 14.0pt\; font-fami
 ly: &#39;Times New Roman&#39;\,serif\;&quot;&gt;With recent demonstration of quantum compu
 ting and quantum communication\, quantum information science has been chan
 ging our world in an unprecedented way. To fully explore the power of quan
 tum information processing\, it is important to further combine discrete q
 uantum elements and build distributed quantum networks. However\, this pos
 es significant technical challenges because quantum coherence can be easil
 y destroyed as the signal propagates through different systems. In this ta
 lk\, I will show that magnons&amp;mdash\;the collective excitations of magneti
 zation&amp;mdash\;provide a promising solution for efficiently converting quan
 tum information among different forms while preserving the coherence. Spec
 ifically\, cavity magnonics exhibits excellent compatibilities with other 
 physical systems in the microwave\, mechanical and optical domains. Thanks
  to the large spin density in our system\, the interactions between magnon
 s and other information carriers such as photons and phonons are drastical
 ly boosted which is critical for protecting the signal coherence. Most imp
 ortantly\, the tunability of magnons provides unparalleled controllability
  in the transduction process. Therefore\, coherent magnon-based signal tra
 nsduction can be achieved. I will finish the talk by describing opportunit
 ies toward on-chip integration of quantum magnonics. &lt;/span&gt;&lt;/p&gt;
END:VEVENT
END:VCALENDAR

