BEGIN:VCALENDAR
VERSION:2.0
PRODID:IEEE vTools.Events//EN
CALSCALE:GREGORIAN
BEGIN:VTIMEZONE
TZID:Canada/Pacific
BEGIN:DAYLIGHT
DTSTART:20210314T030000
TZOFFSETFROM:-0800
TZOFFSETTO:-0700
RRULE:FREQ=YEARLY;BYDAY=2SU;BYMONTH=3
TZNAME:PDT
END:DAYLIGHT
BEGIN:STANDARD
DTSTART:20201101T010000
TZOFFSETFROM:-0700
TZOFFSETTO:-0800
RRULE:FREQ=YEARLY;BYDAY=1SU;BYMONTH=11
TZNAME:PST
END:STANDARD
END:VTIMEZONE
BEGIN:VEVENT
DTSTAMP:20220213T032241Z
UID:57E2B59F-66AD-45B7-9989-AB3BF0218128
DTSTART;TZID=Canada/Pacific:20210210T180000
DTEND;TZID=Canada/Pacific:20210210T203000
DESCRIPTION:Monthly meeting of Vancouver Section officers\, chapter chairs\
 , affinity group chairs\, and student branches officers.\n\nBurnaby\, Brit
 ish Columbia\, Canada\, Virtual: https://events.vtools.ieee.org/m/260273
LOCATION:Burnaby\, British Columbia\, Canada\, Virtual: https://events.vtoo
 ls.ieee.org/m/260273
ORGANIZER:mmolaei@ieee.org
SEQUENCE:7
SUMMARY:Vancouver Section Exec Meeting - February 2021
URL;VALUE=URI:https://events.vtools.ieee.org/m/260273
X-ALT-DESC:Description: &lt;br /&gt;&lt;p&gt;Monthly meeting of Vancouver Section offic
 ers\, chapter chairs\, affinity group chairs\, and student branches office
 rs.&lt;/p&gt;
END:VEVENT
END:VCALENDAR

