BEGIN:VCALENDAR
VERSION:2.0
PRODID:IEEE vTools.Events//EN
CALSCALE:GREGORIAN
BEGIN:VTIMEZONE
TZID:Canada/Eastern
BEGIN:DAYLIGHT
DTSTART:20210314T030000
TZOFFSETFROM:-0500
TZOFFSETTO:-0400
RRULE:FREQ=YEARLY;BYDAY=2SU;BYMONTH=3
TZNAME:EDT
END:DAYLIGHT
BEGIN:STANDARD
DTSTART:20201101T010000
TZOFFSETFROM:-0400
TZOFFSETTO:-0500
RRULE:FREQ=YEARLY;BYDAY=1SU;BYMONTH=11
TZNAME:EST
END:STANDARD
END:VTIMEZONE
BEGIN:VEVENT
DTSTAMP:20210218T231906Z
UID:2C4ADC45-3744-45B5-936E-524A85956827
DTSTART;TZID=Canada/Eastern:20210218T170000
DTEND;TZID=Canada/Eastern:20210218T180000
DESCRIPTION:As the industry rapidly evolves\, companies large and small are
  challenged with maintaining and improving competitiveness over the next d
 ecade\, while participating in evolving vehicle platforms and new producti
 on technologies in Industry 4.0\, AI\, and machine learning\, to name a fe
 w.\n\nWarren will speak on the APMA’s Project Arrow: Canada’s first\, 
 original\, full build zero-emission concept vehicle project. This all-Cana
 dian effort will bring together the best of Canada’s design\, electric-d
 rive\, alternative fuel\, connected\, autonomous\, and light weighting tec
 hnologies.\n\nSpeaker(s): Warren Ali\, \n\nLondon\, Ontario\, Canada\, Vir
 tual: https://events.vtools.ieee.org/m/260440
LOCATION:London\, Ontario\, Canada\, Virtual: https://events.vtools.ieee.or
 g/m/260440
ORGANIZER:cesar-gomez@ieee.org
SEQUENCE:9
SUMMARY:The Soaring 20s
URL;VALUE=URI:https://events.vtools.ieee.org/m/260440
X-ALT-DESC:Description: &lt;br /&gt;&lt;p&gt;As the industry rapidly evolves\, companie
 s large and small are challenged with maintaining and improving competitiv
 eness over the next decade\, while participating in evolving vehicle platf
 orms and new production technologies in Industry 4.0\, AI\, and machine le
 arning\, to name a few.&lt;/p&gt;\n&lt;p&gt;Warren will speak on the APMA&amp;rsquo\;s Pro
 ject Arrow: Canada&amp;rsquo\;s first\, original\, full build zero-emission co
 ncept vehicle project. This all-Canadian effort will bring together the be
 st of Canada&amp;rsquo\;s design\, electric-drive\, alternative fuel\, connect
 ed\, autonomous\, and light weighting technologies.&lt;/p&gt;
END:VEVENT
END:VCALENDAR

