BEGIN:VCALENDAR
VERSION:2.0
PRODID:IEEE vTools.Events//EN
CALSCALE:GREGORIAN
BEGIN:VTIMEZONE
TZID:Canada/Mountain
BEGIN:DAYLIGHT
DTSTART:20210314T030000
TZOFFSETFROM:-0700
TZOFFSETTO:-0600
RRULE:FREQ=YEARLY;BYDAY=2SU;BYMONTH=3
TZNAME:MDT
END:DAYLIGHT
BEGIN:STANDARD
DTSTART:20201101T010000
TZOFFSETFROM:-0600
TZOFFSETTO:-0700
RRULE:FREQ=YEARLY;BYDAY=1SU;BYMONTH=11
TZNAME:MST
END:STANDARD
END:VTIMEZONE
BEGIN:VEVENT
DTSTAMP:20210304T030136Z
UID:24472BD3-7384-4F19-AD7B-0343436184ED
DTSTART;TZID=Canada/Mountain:20210302T120000
DTEND;TZID=Canada/Mountain:20210302T130000
DESCRIPTION:The OpenADR Alliance was created to standardize\, automate\, an
 d simplify Demand Response (DR) and Distributed Energy Resources (DER) to 
 enable utilities and aggregators to cost-effectively manage growing energy
  demand &amp; decentralized energy production\, and customers to control their
  energy future. Open ADR is an open\, highly secure\, and two-way informat
 ion exchange model and Smart Grid standard. This presentation will provide
  the audience with an introduction to the OpenADR standard and how it enab
 les secure communications between control systems and the energy service p
 roviders. We will walk through the history and basic functionality of the 
 protocol and then proceed to review different control strategies. The pres
 entation will end with several common use cases from industrial to residen
 tial controls and a Q&amp;A..\n\nAgenda: \n» 11:45 Webinar open\n\n» 12:00 I
 EEE Southern Alberta announcements\n\n» 12:05 Presentation\n\n» 12:45 Q&amp;
 A\n\n» 13:00 Webinar close\n\nCalgary\, Alberta\, Canada\, Virtual: https
 ://events.vtools.ieee.org/m/260729
LOCATION:Calgary\, Alberta\, Canada\, Virtual: https://events.vtools.ieee.o
 rg/m/260729
ORGANIZER:amir.kaboli@ieee.org
SEQUENCE:6
SUMMARY:Webinar: An Introduction to Open ADR – Connecting Control Systems
  to the Smart Grid
URL;VALUE=URI:https://events.vtools.ieee.org/m/260729
X-ALT-DESC:Description: &lt;br /&gt;&lt;p&gt;The OpenADR Alliance was created to standa
 rdize\, automate\, and simplify Demand Response (DR) and Distributed Energ
 y Resources (DER) to enable utilities and aggregators to cost-effectively 
 manage growing energy demand &amp;amp\; decentralized energy production\, and 
 customers to control their energy future. Open ADR is an open\, highly sec
 ure\, and two-way information exchange model and Smart Grid standard. This
  presentation will provide the audience with an introduction to the OpenAD
 R standard and how it enables secure communications between control system
 s and the energy service providers. We will walk through the history and b
 asic functionality of the protocol and then proceed to review different co
 ntrol strategies. The presentation will end with several common use cases 
 from industrial to residential controls and a Q&amp;amp\;A..&lt;/p&gt;&lt;br /&gt;&lt;br /&gt;Ag
 enda: &lt;br /&gt;&lt;p&gt;&amp;raquo\; 11:45 &amp;nbsp\;Webinar open&lt;/p&gt;\n&lt;p&gt;&amp;raquo\; 12:00&amp;n
 bsp\; IEEE Southern Alberta announcements&lt;/p&gt;\n&lt;p&gt;&amp;raquo\; 12:05 &amp;nbsp\;Pr
 esentation&lt;/p&gt;\n&lt;p&gt;&amp;raquo\; 12:45 &amp;nbsp\;Q&amp;amp\;A&lt;/p&gt;\n&lt;p&gt;&amp;raquo\; 13:00 &amp;
 nbsp\;Webinar close&lt;/p&gt;
END:VEVENT
END:VCALENDAR

