BEGIN:VCALENDAR
VERSION:2.0
PRODID:IEEE vTools.Events//EN
CALSCALE:GREGORIAN
BEGIN:VTIMEZONE
TZID:US/Eastern
BEGIN:DAYLIGHT
DTSTART:20210314T030000
TZOFFSETFROM:-0500
TZOFFSETTO:-0400
RRULE:FREQ=YEARLY;BYDAY=2SU;BYMONTH=3
TZNAME:EDT
END:DAYLIGHT
BEGIN:STANDARD
DTSTART:20211107T010000
TZOFFSETFROM:-0400
TZOFFSETTO:-0500
RRULE:FREQ=YEARLY;BYDAY=1SU;BYMONTH=11
TZNAME:EST
END:STANDARD
END:VTIMEZONE
BEGIN:VEVENT
DTSTAMP:20220203T181358Z
UID:F607766E-108B-44D1-96B8-6F7A5DED808D
DTSTART;TZID=US/Eastern:20210324T100000
DTEND;TZID=US/Eastern:20210324T110000
DESCRIPTION:Learn how you can be a more effective Chapter leader by knowing
  more about your Chapter membership - using the IEEE provided &quot;OU Analytic
 s&quot; tool while ensuring data privacy.\n\nCo-sponsored by: IEEE Electron Dev
 ices Society\n\nSpeaker(s): Helen Shiminsky\, \n\nAgenda: \nLearn how you 
 can be a more effective Chapter leader by knowing more about your Chapter 
 membership - using the IEEE provided &quot;OU Analytics&quot; tool while ensuring da
 ta privacy.\n\nAgenda\n\n1. Housekeeping (Laura Riello)\n\n2. Introduction
 s (Murty Polavarapu)\n\n3. OU Analytics Training (Helen Shiminisky)\n\n4. 
 Q and A\n\nVirtual: https://events.vtools.ieee.org/m/260829
LOCATION:Virtual: https://events.vtools.ieee.org/m/260829
ORGANIZER:murtyp@ieee.org
SEQUENCE:3
SUMMARY:OU Analytics Training for EDS Chapter Chairs
URL;VALUE=URI:https://events.vtools.ieee.org/m/260829
X-ALT-DESC:Description: &lt;br /&gt;&lt;p&gt;Learn how you can be a more effective Chap
 ter leader by knowing more about your Chapter membership - using the IEEE 
 provided &quot;OU Analytics&quot; tool while ensuring data privacy.&amp;nbsp\;&lt;/p&gt;\n&lt;p&gt;&amp;
 nbsp\;&lt;/p&gt;\n&lt;p&gt;&amp;nbsp\;&lt;/p&gt;\n&lt;p&gt;&amp;nbsp\;&lt;/p&gt;\n&lt;p&gt;&amp;nbsp\;&lt;/p&gt;\n&lt;p&gt;&amp;nbsp\;&lt;/p&gt;
 \n&lt;p&gt;&amp;nbsp\;&lt;/p&gt;\n&lt;p&gt;&amp;nbsp\;&lt;/p&gt;\n&lt;p&gt;&amp;nbsp\;&lt;/p&gt;\n&lt;p&gt;&amp;nbsp\;&lt;/p&gt;&lt;br /&gt;&lt;br 
 /&gt;Agenda: &lt;br /&gt;&lt;p&gt;Learn how you can be a more effective Chapter leader by
  knowing more about your Chapter membership - using the IEEE provided &quot;OU 
 Analytics&quot; tool while ensuring data privacy.&amp;nbsp\;&lt;/p&gt;\n&lt;p&gt;Agenda&lt;/p&gt;\n&lt;p
 &gt;1. Housekeeping (Laura Riello)&lt;/p&gt;\n&lt;p&gt;2. Introductions (Murty Polavarapu
 )&lt;/p&gt;\n&lt;p&gt;3. OU Analytics Training (Helen Shiminisky)&lt;/p&gt;\n&lt;p&gt;4. Q and A&lt;/
 p&gt;
END:VEVENT
END:VCALENDAR

