BEGIN:VCALENDAR
VERSION:2.0
PRODID:IEEE vTools.Events//EN
CALSCALE:GREGORIAN
BEGIN:VTIMEZONE
TZID:US/Pacific
BEGIN:DAYLIGHT
DTSTART:20210314T030000
TZOFFSETFROM:-0800
TZOFFSETTO:-0700
RRULE:FREQ=YEARLY;BYDAY=2SU;BYMONTH=3
TZNAME:PDT
END:DAYLIGHT
BEGIN:STANDARD
DTSTART:20201101T010000
TZOFFSETFROM:-0700
TZOFFSETTO:-0800
RRULE:FREQ=YEARLY;BYDAY=1SU;BYMONTH=11
TZNAME:PST
END:STANDARD
END:VTIMEZONE
BEGIN:VEVENT
DTSTAMP:20210316T062501Z
UID:C2178AE4-5ACF-4571-8FCA-1FE2EE212B7A
DTSTART;TZID=US/Pacific:20210302T180000
DTEND;TZID=US/Pacific:20210302T193000
DESCRIPTION:As the only method for all-weather and long-distance target det
 ection and recognition\, radar has been intensively studied since it was p
 roposed\, and is considered as an essential sensor for future intelligent 
 society. In the past few decades\, great efforts were devoted to improving
  radar&#39;s functionality\, precision\, and response time\, of which the key 
 is to generate\, control and process a wideband signal with a high speed. 
 Thanks to the high frequency\, large bandwidth\, low loss transmission and
  electromagnetic immunity provided by modern photonics\, implementation of
  the radars in the optical domain can provide better performance in terms 
 of resolution\, coverage and speed which may not be achievable using tradi
 tional\, even state-of-the-art electronics. In this talk\, I&#39;ll give an ov
 erview of the photonic technologies that are currently known to be attract
 ive for radars. System architectures and their performance that may intere
 st the radar society are emphasized. Emerging technologies in this area an
 d possible future research directions are discussed.\n\nCo-sponsored by: M
 TT-SCV (CH06085)\n\nSpeaker(s): Shilong Pan\, \n\nSanta Clara\, California
 \, United States\, Virtual: https://events.vtools.ieee.org/m/261079
LOCATION:Santa Clara\, California\, United States\, Virtual: https://events
 .vtools.ieee.org/m/261079
ORGANIZER:stliu.photonics@gmail.com
SEQUENCE:1
SUMMARY:Microwave Photonic Radars
URL;VALUE=URI:https://events.vtools.ieee.org/m/261079
X-ALT-DESC:Description: &lt;br /&gt;&lt;p&gt;As the only method for all-weather and lon
 g-distance target detection and recognition\, radar has been intensively s
 tudied since it was proposed\, and is considered as an essential sensor fo
 r future intelligent society. In the past few decades\, great efforts were
  devoted to improving radar&#39;s functionality\, precision\, and response tim
 e\, of which the key is to generate\, control and process a wideband signa
 l with a high speed. Thanks to the high frequency\, large bandwidth\, low 
 loss transmission and electromagnetic immunity provided by modern photonic
 s\, implementation of the radars in the optical domain can provide better 
 performance in terms of resolution\, coverage and speed which may not be a
 chievable using traditional\, even state-of-the-art electronics. In this t
 alk\, I&#39;ll give an overview of the photonic technologies that are currentl
 y known to be attractive for radars. System architectures and their perfor
 mance that may interest the radar society are emphasized. Emerging technol
 ogies in this area and possible future research directions are discussed.&lt;
 /p&gt;
END:VEVENT
END:VCALENDAR

