BEGIN:VCALENDAR
VERSION:2.0
PRODID:IEEE vTools.Events//EN
CALSCALE:GREGORIAN
BEGIN:VTIMEZONE
TZID:Israel
BEGIN:DAYLIGHT
DTSTART:20210326T030000
TZOFFSETFROM:+0200
TZOFFSETTO:+0300
RRULE:FREQ=YEARLY;BYDAY=-1FR;BYMONTH=3
TZNAME:IDT
END:DAYLIGHT
BEGIN:STANDARD
DTSTART:20201025T010000
TZOFFSETFROM:+0300
TZOFFSETTO:+0200
RRULE:FREQ=YEARLY;BYDAY=-1SU;BYMONTH=10
TZNAME:IST
END:STANDARD
END:VTIMEZONE
BEGIN:VEVENT
DTSTAMP:20210302T073039Z
UID:E508DA74-5BB4-4862-9A59-DD561C0F9460
DTSTART;TZID=Israel:20210301T203000
DTEND;TZID=Israel:20210301T223000
DESCRIPTION:מהנדסות מדברות:\n\nסטודנטיות יקרות! 
 האירוע בשבילכן! ב-1.3.21 בשעה\n\nסטודנטיות יק
 רות! פתחו יומנים\, ב-1.3.2021 בשעה 20:30 ZOOM\n\nIEEE WI
 E affinity group Israel מארחת פאנל מהנדסות! נארח חמ
 ש מהנדסות נפלאות\, שתשתפנה מניסיונן בקרי
 ירה בהנדסה\, השתלבות במקום העבודה\, הבחיר
 ות שהן עשו לאחר התואר\, התמודדותן כנשים ב
 תחום ועוד טיפים לסטודנטיות ומהנדסות צעי
 רות. במסגרת הפאנל\, אתן מוזמנות לדון ולהת
 לבט לגבי תחילת הדרך המקצועית ולשאול את ה
 דוברות.\n\n20:30-20:40 דברי פתיחה יו&quot;ר הארגון IEEE
  WIE affinity group Israel ד&quot;ר אלינה קרבצ&#39;בסקי\n\nהדוב
 רות שלנו:\n\n20:40-20:50 ולנטינה פרל - מהנדסת מכ
 ונות וחומרים\, אינטל\n\n20:50-21:00 קרן ברקאי - מ
 הנדסת חשמל\, Wiliot\n\n21:00-21:10 שני שימנס - מהנדס
 ת מכונות\, hp אינדיגו\n\n21:10-21:20 קרן בלחני - מ
 הנדסת ביוטכנולוגיה\, אינטל ואדמה\n\n21:20-21:30
  סופי רובין - מהנדסת כימית וסביבה\, ברום\n\n
 21:30-22:00 זמן לשאלות ודיון חופשי\n\nטופס להרש
 מה: https://docs.google.com/forms/d/e/1FAIpQLScZO1D_3UOhoKwkjdPWyJsmKWr-
 VDBm20e4u0919X4z6ODdCw/viewform\n\nמחכות לראותכן!!!\n\nSpeaker
 (s): Keren Barkai\, Shani Shimenes\n\nVirtual: https://events.vtools.ieee.
 org/m/262259
LOCATION:Virtual: https://events.vtools.ieee.org/m/262259
ORGANIZER:alinak@bgu.ac.il
SEQUENCE:5
SUMMARY:Women in Engineering Webinar פאנל מהנדסות צעירות
URL;VALUE=URI:https://events.vtools.ieee.org/m/262259
X-ALT-DESC:Description: &lt;br /&gt;&lt;p&gt;&lt;strong&gt;מהנדסות מדברות: &lt;/str
 ong&gt;&lt;/p&gt;\n&lt;p&gt;סטודנטיות יקרות! האירוע בשבילכן! 
 ב-1.3.21 בשעה&lt;/p&gt;\n&lt;p&gt;סטודנטיות יקרות! פתחו יומ
 נים\, ב-1.3.2021 בשעה 20:30 ZOOM&lt;/p&gt;\n&lt;p&gt;&lt;strong&gt;IEEE WIE affinity
  group Israel &lt;/strong&gt;&lt;strong&gt;מארחת פאנל מהנדסות&lt;/strong&gt;
 &lt;strong&gt;!&lt;/strong&gt; נארח חמש מהנדסות נפלאות\, שתשת
 פנה מניסיונן בקריירה בהנדסה\, השתלבות במ
 קום העבודה\, הבחירות שהן עשו לאחר התואר\, 
 התמודדותן כנשים בתחום ועוד טיפים לסטודנ
 טיות ומהנדסות צעירות. במסגרת הפאנל\, אתן 
 מוזמנות לדון ולהתלבט לגבי תחילת הדרך המק
 צועית ולשאול את הדוברות.&lt;/p&gt;\n&lt;p&gt;&amp;nbsp\;&lt;/p&gt;\n&lt;p&gt;20:30
 -20:40 דברי פתיחה יו&quot;ר הארגון IEEE WIE affinity group Is
 rael ד&quot;ר אלינה קרבצ&#39;בסקי&lt;/p&gt;\n&lt;p&gt;&lt;strong&gt;הדוברות ש
 לנו: &lt;/strong&gt;&lt;/p&gt;\n&lt;p&gt;20:40-20:50 ולנטינה פרל - מהנדסת
  מכונות וחומרים\, אינטל&lt;/p&gt;\n&lt;p&gt;20:50-21:00 קרן בר
 קאי - מהנדסת חשמל\, Wiliot&lt;/p&gt;\n&lt;p&gt;21:00-21:10 שני שימ
 נס - מהנדסת מכונות\, hp אינדיגו&lt;/p&gt;\n&lt;p&gt;21:10-21:20 
 קרן בלחני - מהנדסת ביוטכנולוגיה\, אינטל ו
 אדמה&lt;/p&gt;\n&lt;p&gt;21:20-21:30 סופי רובין - מהנדסת כימית
  וסביבה\, ברום&lt;/p&gt;\n&lt;p&gt;&amp;nbsp\;&lt;/p&gt;\n&lt;p&gt;21:30-22:00 זמן לשא
 לות ודיון חופשי&lt;/p&gt;\n&lt;p&gt;&amp;nbsp\;&lt;/p&gt;\n&lt;p&gt;טופס להרשמה
 : &lt;a href=&quot;https://docs.google.com/forms/d/e/1FAIpQLScZO1D_3UOhoKwkjdPWyJs
 mKWr-VDBm20e4u0919X4z6ODdCw/viewform&quot; data-saferedirecturl=&quot;https://www.go
 ogle.com/url?q=https://docs.google.com/forms/d/e/1FAIpQLScZO1D_3UOhoKwkjdP
 WyJsmKWr-VDBm20e4u0919X4z6ODdCw/viewform&amp;amp\;source=gmail&amp;amp\;ust=161367
 9731454000&amp;amp\;usg=AFQjCNEcVPAD5cyt4lsOATf-8Pubs9wARA&quot;&gt;https://docs.googl
 e.com/forms/d/e/1FAIpQLScZO1D_3UOhoKwkjdPWyJsmKWr-VDBm20e4u0919X4z6ODdCw/v
 iewform&lt;/a&gt;&lt;/p&gt;\n&lt;p&gt;&amp;nbsp\;&lt;/p&gt;\n&lt;p&gt;מחכות לראותכן!!!&lt;/p&gt;
END:VEVENT
END:VCALENDAR

