BEGIN:VCALENDAR
VERSION:2.0
PRODID:IEEE vTools.Events//EN
CALSCALE:GREGORIAN
BEGIN:VTIMEZONE
TZID:Canada/Eastern
BEGIN:DAYLIGHT
DTSTART:20210314T030000
TZOFFSETFROM:-0500
TZOFFSETTO:-0400
RRULE:FREQ=YEARLY;BYDAY=2SU;BYMONTH=3
TZNAME:EDT
END:DAYLIGHT
BEGIN:STANDARD
DTSTART:20201101T010000
TZOFFSETFROM:-0400
TZOFFSETTO:-0500
RRULE:FREQ=YEARLY;BYDAY=1SU;BYMONTH=11
TZNAME:EST
END:STANDARD
END:VTIMEZONE
BEGIN:VEVENT
DTSTAMP:20210304T225819Z
UID:04D89F5D-636B-4925-8F7C-E8E9C4EC78B7
DTSTART;TZID=Canada/Eastern:20210227T110000
DTEND;TZID=Canada/Eastern:20210227T120000
DESCRIPTION:Dr. Esrafil Jedari will share excellent tips and tricks for fin
 ding the desired job after graduation from university. This will be an inf
 ormative webinar focusing on some major topics in applying for a job\, suc
 h as how to build your resume as well as your Linkedin profile\, job searc
 h techniques\, and job interview and hiring process.\n\nSpeaker(s): Dr. Es
 rafil Jedari\, \n\nVirtual: https://events.vtools.ieee.org/m/262770
LOCATION:Virtual: https://events.vtools.ieee.org/m/262770
ORGANIZER:abaspoum@gmail.com
SEQUENCE:2
SUMMARY:How to Get a Job?
URL;VALUE=URI:https://events.vtools.ieee.org/m/262770
X-ALT-DESC:Description: &lt;br /&gt;&lt;p&gt;Dr. Esrafil Jedari will share excellent ti
 ps and tricks for finding the desired job after graduation from university
 . This will be an informative webinar focusing on some major topics in app
 lying for a job\, such as how to build your resume as well as your&amp;nbsp\;L
 inkedin profile\, job search techniques\, and&amp;nbsp\;job interview and hiri
 ng process.&amp;nbsp\;&lt;/p&gt;
END:VEVENT
END:VCALENDAR

