BEGIN:VCALENDAR
VERSION:2.0
PRODID:IEEE vTools.Events//EN
CALSCALE:GREGORIAN
BEGIN:VTIMEZONE
TZID:America/Detroit
BEGIN:DAYLIGHT
DTSTART:20210314T030000
TZOFFSETFROM:-0500
TZOFFSETTO:-0400
RRULE:FREQ=YEARLY;BYDAY=2SU;BYMONTH=3
TZNAME:EDT
END:DAYLIGHT
BEGIN:STANDARD
DTSTART:20201101T010000
TZOFFSETFROM:-0400
TZOFFSETTO:-0500
RRULE:FREQ=YEARLY;BYDAY=1SU;BYMONTH=11
TZNAME:EST
END:STANDARD
END:VTIMEZONE
BEGIN:VEVENT
DTSTAMP:20210929T222518Z
UID:38ED92E1-51E3-43F4-991E-37E94975F68C
DTSTART;TZID=America/Detroit:20210313T100000
DTEND;TZID=America/Detroit:20210313T120000
DESCRIPTION:This is the start of a recurring workshop for improving your on
 line programming portfolio. We will be doing popular online programming pr
 oblems:\n\n- [Hackerrank](https://www.hackerrank.com/)\n\n- [Leetcode](htt
 ps://leetcode.com/)\n\n- [Advent of Code](https://adventofcode.com/)\n\nSp
 eaker(s): Pritika Dasgupta\, \n\nAgenda: \n30-minute talk followed by a 1.
 5-hour hands-on session working on two popular programming problems.\n\nAt
  the end of the session\, participants will:\n\n· Will have two programmi
 ng solutions (with help from the speaker) on their Github\, bitbucket (or 
 another portfolio source) profile!\n\nComputing Requirements:\n\nIf partic
 ipants want to participate in the hands-on session after the talk\, please
  install beforehand the most recent versions of R (and the tidyverse libra
 ry)\, R Studio\, and Python. You may use your favorite text editor (I reco
 mmend Sublime). It will also be helpful if you have a Github (or alternate
 ) account.\n\nPittsburgh\, Pennsylvania\, United States\, Virtual: https:/
 /events.vtools.ieee.org/m/263149
LOCATION:Pittsburgh\, Pennsylvania\, United States\, Virtual: https://event
 s.vtools.ieee.org/m/263149
ORGANIZER:pritika@ieee.org
SEQUENCE:11
SUMMARY:Improving your Online Portfolio: A Workshop in Programming Problems
URL;VALUE=URI:https://events.vtools.ieee.org/m/263149
X-ALT-DESC:Description: &lt;br /&gt;&lt;p&gt;This is the start of a recurring workshop 
 for improving your online programming portfolio. We will be doing popular 
 online programming problems:&amp;nbsp\;&lt;/p&gt;\n&lt;p&gt;-&amp;nbsp\;&amp;nbsp\;&amp;nbsp\;&amp;nbsp\;&amp;
 nbsp\;&amp;nbsp\;&amp;nbsp\;&lt;a href=&quot;https://www.hackerrank.com/&quot;&gt;Hackerrank&lt;/a&gt;&lt;/
 p&gt;\n&lt;p&gt;-&amp;nbsp\;&amp;nbsp\;&amp;nbsp\;&amp;nbsp\;&amp;nbsp\;&amp;nbsp\;&amp;nbsp\;&lt;a href=&quot;https://
 leetcode.com/&quot;&gt;Leetcode&lt;/a&gt;&lt;/p&gt;\n&lt;p&gt;-&amp;nbsp\;&amp;nbsp\;&amp;nbsp\;&amp;nbsp\;&amp;nbsp\;&amp;n
 bsp\;&amp;nbsp\;&lt;a href=&quot;https://adventofcode.com/&quot;&gt;Advent of Code&lt;/a&gt;&lt;/p&gt;&lt;br 
 /&gt;&lt;br /&gt;Agenda: &lt;br /&gt;&lt;p&gt;30-minute talk followed by a 1.5-hour hands-on se
 ssion working on two popular programming problems.&lt;/p&gt;\n&lt;p&gt;&lt;strong&gt;At the 
 end of the session\, participants will:&lt;/strong&gt;&lt;/p&gt;\n&lt;p&gt;&amp;middot\; Will ha
 ve two programming solutions (with help from the speaker) on their Github\
 , bitbucket (or another portfolio source) profile!&lt;/p&gt;\n&lt;p&gt;&lt;strong&gt;Computi
 ng Requirements:&lt;/strong&gt;&lt;/p&gt;\n&lt;p&gt;If participants want to participate in t
 he hands-on session after the talk\, please install beforehand the most re
 cent versions of R (and the tidyverse library)\, R Studio\, and Python. Yo
 u may use your favorite text editor (I recommend Sublime). It will also be
  helpful if you have a Github (or alternate) account.&lt;/p&gt;
END:VEVENT
END:VCALENDAR

