BEGIN:VCALENDAR
VERSION:2.0
PRODID:IEEE vTools.Events//EN
CALSCALE:GREGORIAN
BEGIN:VTIMEZONE
TZID:Canada/Eastern
BEGIN:DAYLIGHT
DTSTART:20210314T030000
TZOFFSETFROM:-0500
TZOFFSETTO:-0400
RRULE:FREQ=YEARLY;BYDAY=2SU;BYMONTH=3
TZNAME:EDT
END:DAYLIGHT
BEGIN:STANDARD
DTSTART:20201101T010000
TZOFFSETFROM:-0400
TZOFFSETTO:-0500
RRULE:FREQ=YEARLY;BYDAY=1SU;BYMONTH=11
TZNAME:EST
END:STANDARD
END:VTIMEZONE
BEGIN:VEVENT
DTSTAMP:20211231T135714Z
UID:255B904D-778B-42EF-93D5-D35676DB2B48
DTSTART;TZID=Canada/Eastern:20210304T190000
DTEND;TZID=Canada/Eastern:20210304T203000
DESCRIPTION:Peterborough Section Life Members Affinity Group\n\nSean Dunne 
 is going to speak on how he got interested in Astronomy in his retirement.
  He will be saying a few words about the telescope tracking equipment that
  stays on a star while the earth turns.\n\nGuests are welcome\n\n- All par
 ticipants will be muted during the presentation.\n- Please communicate wit
 h Luc via chat if you have problems or questions.\n\nRegistration is optio
 nal\, but polite.\n\nAgenda: \n7:00 Introductions\, Announcements and Soci
 alizing\n7:30 &quot;How I got into astronomy in my retirement&quot; - Presentation b
 y Sean Dunne\n8:10 Questions and Discussion\n8:30 approx. Date of next Mee
 ting\, Conclusion.\n\nPeterborough\, Ontario\, Canada\, Virtual: https://e
 vents.vtools.ieee.org/m/263316
LOCATION:Peterborough\, Ontario\, Canada\, Virtual: https://events.vtools.i
 eee.org/m/263316
ORGANIZER:sean.dunne@ieee.org
SEQUENCE:3
SUMMARY:Astronomy in my Retirement
URL;VALUE=URI:https://events.vtools.ieee.org/m/263316
X-ALT-DESC:Description: &lt;br /&gt;&lt;p&gt;&lt;span style=&quot;font-family: verdana\, geneva
 \, sans-serif\; font-size: 12pt\;&quot;&gt;Peterborough Section Life Members Affin
 ity Group&lt;/span&gt;&lt;/p&gt;\n&lt;p&gt;Sean Dunne is going to speak on&amp;nbsp\;how he got 
 interested in Astronomy in his retirement. He will be saying a few words a
 bout the telescope tracking equipment that stays on a star while the earth
  turns.&lt;/p&gt;\n&lt;p style=&quot;font-weight: 400\;&quot;&gt;&lt;u&gt;Guests are welcome&lt;/u&gt;&lt;/p&gt;\n
 &lt;p style=&quot;font-weight: 400\;&quot;&gt;- All participants will be muted during the 
 presentation.&lt;br /&gt;- Please communicate with Luc via chat if you have prob
 lems or questions.&lt;/p&gt;\n&lt;p style=&quot;font-weight: 400\;&quot;&gt;&amp;nbsp\;Registration 
 is optional\, but polite.&lt;/p&gt;\n&lt;p style=&quot;font-weight: 400\;&quot;&gt;&amp;nbsp\;&lt;/p&gt;&lt;b
 r /&gt;&lt;br /&gt;Agenda: &lt;br /&gt;&lt;p style=&quot;font-weight: 400\;&quot;&gt;7:00 Introductions\,
  Announcements and Socializing&lt;br /&gt;7:30 &quot;How I got into astronomy in my r
 etirement&quot; - Presentation by Sean Dunne&lt;br /&gt;8:10 Questions and Discussion
 &lt;br /&gt;8:30 approx. &amp;nbsp\;Date of next Meeting\, Conclusion.&lt;/p&gt;\n&lt;p style
 =&quot;font-weight: 400\;&quot;&gt;&amp;nbsp\;&lt;/p&gt;
END:VEVENT
END:VCALENDAR

