BEGIN:VCALENDAR
VERSION:2.0
PRODID:IEEE vTools.Events//EN
CALSCALE:GREGORIAN
BEGIN:VTIMEZONE
TZID:Asia/Calcutta
BEGIN:STANDARD
DTSTART:19451014T230000
TZOFFSETFROM:+0630
TZOFFSETTO:+0530
TZNAME:IST
END:STANDARD
END:VTIMEZONE
BEGIN:VEVENT
DTSTAMP:20210223T090827Z
UID:01E339BD-BA41-475A-A848-0122A9018492
DTSTART;TZID=Asia/Calcutta:20210306T140000
DTEND;TZID=Asia/Calcutta:20210306T160000
DESCRIPTION:Transition from the student life to the professional life is al
 ways challenging. It demands various skills such as good communication\, d
 ecision making\, team work\, leadership\, openness to criticism\, stress m
 anagement etc. At the beginning of your corporate world journey\, it is al
 ways crucial to know the industry perspective regarding why are these skil
 ls important\, how to achieve them and what will you become once you acqui
 re them. This webinar is mainly aimed to guide the students about a fore s
 aid subject matters.\n\nRegister here:\n\nhttps://forms.gle/KL9RzDxLPy9wmu
 HK8\n\nSpeaker(s): Mrs.Sunanda\, \n\nVirtual: https://events.vtools.ieee.o
 rg/m/263331
LOCATION:Virtual: https://events.vtools.ieee.org/m/263331
ORGANIZER:tarannumbloch@ieee.org
SEQUENCE:1
SUMMARY:Campus to Corporate - Kick start the professionalism
URL;VALUE=URI:https://events.vtools.ieee.org/m/263331
X-ALT-DESC:Description: &lt;br /&gt;&lt;p&gt;Transition from the student life to the pr
 ofessional life is always challenging. It demands various skills such as g
 ood communication\, decision making\, team work\, leadership\, openness to
  criticism\, stress management etc. At the beginning of your corporate wor
 ld journey\, it is always crucial to know the industry perspective regardi
 ng why are these skills important\, how to achieve them and what will you 
 become once you acquire them. This webinar is mainly aimed to guide the st
 udents about a fore said subject matters.&lt;/p&gt;\n&lt;p&gt;Register here:&lt;/p&gt;\n&lt;p&gt;&lt;
 a href=&quot;https://forms.gle/KL9RzDxLPy9wmuHK8&quot; target=&quot;_blank&quot; rel=&quot;noopener
 &quot; data-saferedirecturl=&quot;https://www.google.com/url?q=https://forms.gle/KL9
 RzDxLPy9wmuHK8&amp;amp\;source=gmail&amp;amp\;ust=1614156497598000&amp;amp\;usg=AFQjCN
 GAAQa60H3rgzONKIApij09B7NWhA&quot;&gt;https://forms.gle/&lt;wbr /&gt;KL9RzDxLPy9wmuHK8&lt;/
 a&gt;&lt;span style=&quot;color: #888888\;&quot;&gt;&lt;br /&gt;&lt;/span&gt;&lt;/p&gt;\n&lt;p&gt;&amp;nbsp\;&lt;/p&gt;
END:VEVENT
END:VCALENDAR

