BEGIN:VCALENDAR
VERSION:2.0
PRODID:IEEE vTools.Events//EN
CALSCALE:GREGORIAN
BEGIN:VTIMEZONE
TZID:US/Eastern
BEGIN:DAYLIGHT
DTSTART:20210314T030000
TZOFFSETFROM:-0500
TZOFFSETTO:-0400
RRULE:FREQ=YEARLY;BYDAY=2SU;BYMONTH=3
TZNAME:EDT
END:DAYLIGHT
BEGIN:STANDARD
DTSTART:20201101T010000
TZOFFSETFROM:-0400
TZOFFSETTO:-0500
RRULE:FREQ=YEARLY;BYDAY=1SU;BYMONTH=11
TZNAME:EST
END:STANDARD
END:VTIMEZONE
BEGIN:VEVENT
DTSTAMP:20210309T060941Z
UID:F3A3EC5B-3E0A-484F-BB10-01B9152E3E15
DTSTART;TZID=US/Eastern:20210305T180000
DTEND;TZID=US/Eastern:20210305T193000
DESCRIPTION:Join the Rowan University WIE Chapter special workshop to celeb
 rate EMB day.\n\nIt is a 3D Modeling and Design workshop where members of 
 the WIE Chapter will teach students how to design a DNA helix pencil cup i
 n [OnShape](https://www.onshape.com/en/). This is a great way to combine e
 ngineering\, medicine\, and biology! The WIE Chapter is collaborating Rowa
 n&#39;s 3D Printing Club to have these designs printed and distributed to each
  designer.\n\n* The event is held in a virtual format. Those who are inter
 ested can join the meeting via [this Zoom link](https://rowan.zoom.us/j/85
 835753721?pwd=MFN6T1FRakpsd1IvNGZNV3ZTeTZqdz09).\n\n* Rowan University WIE
  members as well as WIE members from other universities are welcome to joi
 n.\n\n* Those who are interested in joining can register for the event usi
 ng [this link](https://docs.google.com/forms/d/1wAY5QI5bl3yRgrtYD2cgqSViGh
 hLMt8ubaG5PpnG2SE/edit)\n\nThe event contact is Lauren Repmann\, President
  of Rowan University&#39;s Women in Engineering chapter (repman44@students.row
 an.edu).\n\nIMPORTANT INSTRUCTIONS TO FOLLOW\n\n(1) In addition to registe
 ring for this IEEE vTools meeting announcement\, you also need to\n\n(2) R
 egister to the Rowan&#39;s registration site\, using the link above. Fill out 
 and complete the Rowans&#39; registration form.\n\n(3) Furhthermore\, before a
 ttending this event\, please be sure to create an OnShape account by visit
 ing [https://onshape.com](https://www.google.com/url?q=https://onshape.com
 &amp;sa=D&amp;source=editors&amp;ust=1614821875368000&amp;usg=AFQjCNELFt1PDC2qUiqoRG2cjLEz
 Rvm3eQ)\n\nCo-sponsored by: Rowan University Women in Engineering Club. Co
 ntact Lauren Repmann\, President repman44@students.rowan.edu\n\nVirtual: h
 ttps://events.vtools.ieee.org/m/264548
LOCATION:Virtual: https://events.vtools.ieee.org/m/264548
ORGANIZER:c.carey@ieee.org
SEQUENCE:11
SUMMARY:IEEE EMB Day! March 5\, 2021: Student Workshop on 3D Modeling and D
 esign
URL;VALUE=URI:https://events.vtools.ieee.org/m/264548
X-ALT-DESC:Description: &lt;br /&gt;&lt;div&gt;\n&lt;div dir=&quot;ltr&quot;&gt;\n&lt;p&gt;&lt;span style=&quot;color
 : #0000ff\;&quot;&gt;&lt;strong&gt;Join the Rowan University WIE Chapter&amp;nbsp\;special w
 orkshop to celebrate EMB day. &lt;/strong&gt;&lt;/span&gt;&lt;/p&gt;\n&lt;p&gt;It is a 3D Modeling
  and Design workshop where members of the WIE Chapter will teach students 
 how to design a DNA helix pencil cup in &lt;a href=&quot;https://www.onshape.com/e
 n/&quot;&gt;OnShape&lt;/a&gt;. This is a great way to combine engineering\, medicine\, a
 nd biology! The WIE Chapter is collaborating Rowan&#39;s 3D Printing Club to h
 ave these designs printed and distributed to each designer.&lt;/p&gt;\n&lt;p&gt;&amp;nbsp\
 ; &amp;nbsp\; &amp;nbsp\;* The event is held in a virtual format. Those who are in
 terested can join the meeting via&amp;nbsp\;&lt;a href=&quot;https://rowan.zoom.us/j/8
 5835753721?pwd=MFN6T1FRakpsd1IvNGZNV3ZTeTZqdz09&quot; target=&quot;_blank&quot; rel=&quot;noop
 ener&quot;&gt;this Zoom link&lt;/a&gt;.&lt;/p&gt;\n&lt;p&gt;&amp;nbsp\; &amp;nbsp\; &amp;nbsp\;* Rowan Universit
 y WIE members as well as WIE members from other universities are welcome t
 o join.&lt;/p&gt;\n&lt;p&gt;&amp;nbsp\; &amp;nbsp\; &amp;nbsp\;* Those who are interested in joini
 ng can &lt;strong&gt;register&amp;nbsp\;for the event&lt;/strong&gt; using&amp;nbsp\;&lt;a href=&quot;
 https://docs.google.com/forms/d/1wAY5QI5bl3yRgrtYD2cgqSViGhhLMt8ubaG5PpnG2
 SE/edit&quot; target=&quot;_blank&quot; rel=&quot;noopener&quot;&gt;this link&lt;/a&gt;&lt;/p&gt;\n&lt;p&gt;&lt;span style=
 &quot;color: #3366ff\;&quot;&gt;The event contact is Lauren Repmann\, President of Rowa
 n University&#39;s Women in Engineering chapter (&lt;a style=&quot;color: #3366ff\;&quot; h
 ref=&quot;mailto:repman44@students.rowan.edu&quot; target=&quot;_blank&quot; rel=&quot;noopener&quot;&gt;re
 pman44@students.rowan.edu&lt;/a&gt;).&lt;/span&gt;&lt;/p&gt;\n&lt;div dir=&quot;ltr&quot;&gt;\n&lt;p&gt;&lt;strong&gt;&lt;s
 pan style=&quot;color: #ff0000\;&quot;&gt;IMPORTANT INSTRUCTIONS TO FOLLOW&lt;br /&gt;&lt;/span&gt;
 &lt;/strong&gt;&lt;br /&gt;&amp;nbsp\; &amp;nbsp\; (1) In addition to registering for this IEE
 E vTools meeting announcement\, you also need to&amp;nbsp\;&lt;br /&gt;&lt;br /&gt;&amp;nbsp\;
  &amp;nbsp\; (2) Register to the Rowan&#39;s registration site\, using the link ab
 ove. Fill out and complete the Rowans&#39; registration form.&amp;nbsp\;&lt;br /&gt;&lt;br 
 /&gt;&amp;nbsp\; &amp;nbsp\; (3) Furhthermore\, before attending this event\, please 
 be sure to create an OnShape account by visiting &lt;a href=&quot;https://www.goog
 le.com/url?q=https://onshape.com&amp;amp\;sa=D&amp;amp\;source=editors&amp;amp\;ust=16
 14821875368000&amp;amp\;usg=AFQjCNELFt1PDC2qUiqoRG2cjLEzRvm3eQ&quot;&gt;https://onshap
 e.com&lt;/a&gt;&lt;/p&gt;\n&lt;/div&gt;\n&lt;/div&gt;\n&lt;/div&gt;\n&lt;p&gt;&amp;nbsp\;&lt;/p&gt;
END:VEVENT
END:VCALENDAR

