BEGIN:VCALENDAR
VERSION:2.0
PRODID:IEEE vTools.Events//EN
CALSCALE:GREGORIAN
BEGIN:VTIMEZONE
TZID:Canada/Pacific
BEGIN:DAYLIGHT
DTSTART:20210314T030000
TZOFFSETFROM:-0800
TZOFFSETTO:-0700
RRULE:FREQ=YEARLY;BYDAY=2SU;BYMONTH=3
TZNAME:PDT
END:DAYLIGHT
BEGIN:STANDARD
DTSTART:20211107T010000
TZOFFSETFROM:-0700
TZOFFSETTO:-0800
RRULE:FREQ=YEARLY;BYDAY=1SU;BYMONTH=11
TZNAME:PST
END:STANDARD
END:VTIMEZONE
BEGIN:VEVENT
DTSTAMP:20210408T164041Z
UID:430BBF50-5307-4003-A55D-B81AF011C785
DTSTART;TZID=Canada/Pacific:20210331T190000
DTEND;TZID=Canada/Pacific:20210331T210000
DESCRIPTION:The 2021 Annual General Meeting (AGM) of the IEEE Vancouver Sec
 tion will be held online on the evening of March 31\, beginning at 7:00 PM
 . The meeting will cover several business items such as the auditor&#39;s repo
 rt\, a motion to amend bylaws\, and the announcement of section scholarshi
 p award recipients.\n\nAgenda: \nThe agenda of the 2021 Annual General Mee
 ting is as follows:\n\nWelcome and Introduction\nSpecial Guest Speaker: Ja
 son Gu\, President IEEE Canada\nFormal Business Meeting:\n\n- Meeting open
 ing / Call to Order\n- Approval of the agenda\n- Approval of 2020 minutes\
 n- The new 2021 Vancouver Section Executive members:\n\n- Chair: Steven Mc
 Clain Vice Chair: Matthew Wilder\n- Treasurer: Jacqueline Nichols Secretar
 y: Morteza Molaei\n- Past Chair: Mike Paraskake\n- Subsections\n\n- Chair:
  Fan Jiang Northern BC\n- Chair: Youry Khmelevsky Okanagan\n\n- Chair’s 
 report: section year end highlights and results\n- Treasurer&#39;s report and 
 Auditors report\n- Approval of the Chair and Treasurer reports\n- Section 
 plans for coming year\n- Scholarship announcements\n- Awards and recogniti
 on announcements\n- Any other business\n\n- Next AGM Date: Tentatively Mar
 ch 26\, 2022\n- Adjournment\n\nBurnaby\, British Columbia\, Canada\, Virtu
 al: https://events.vtools.ieee.org/m/264601
LOCATION:Burnaby\, British Columbia\, Canada\, Virtual: https://events.vtoo
 ls.ieee.org/m/264601
ORGANIZER:matthew.wilder@ieee.org
SEQUENCE:6
SUMMARY:IEEE Vancouver Section Annual General Meeting 2021
URL;VALUE=URI:https://events.vtools.ieee.org/m/264601
X-ALT-DESC:Description: &lt;br /&gt;&lt;p&gt;The 2021 Annual General Meeting (AGM) of t
 he IEEE Vancouver Section will be held online on the evening of March 31\,
  beginning at 7:00 PM. The meeting will cover several business items such 
 as the auditor&#39;s report\, a motion to amend bylaws\, and the announcement 
 of section scholarship award recipients.&lt;/p&gt;&lt;br /&gt;&lt;br /&gt;Agenda: &lt;br /&gt;&lt;div
 &gt;The agenda of the 2021 Annual General Meeting is as follows:&lt;/div&gt;\n&lt;div&gt;
 &amp;nbsp\;&lt;/div&gt;\n&lt;div&gt;\n&lt;p&gt;Welcome and Introduction&lt;br /&gt; Special Guest Spea
 ker: Jason Gu\, President IEEE Canada&amp;nbsp\;&lt;br /&gt; Formal Business Meeting
 :&lt;/p&gt;\n&lt;ol&gt;\n&lt;li&gt;Meeting opening / Call to Order&lt;/li&gt;\n&lt;li&gt;Approval of the
  agenda&lt;/li&gt;\n&lt;li&gt;Approval of 2020 minutes&lt;/li&gt;\n&lt;li&gt;The new 2021 Vancouve
 r Section Executive members:&lt;/li&gt;\n&lt;ul&gt;\n&lt;li&gt;Chair: Steven McClain&amp;nbsp\;&amp;
 nbsp\;&amp;nbsp\;&amp;nbsp\;&amp;nbsp\;&amp;nbsp\;&amp;nbsp\;&amp;nbsp\;&amp;nbsp\;&amp;nbsp\;&amp;nbsp\;&amp;nbsp
 \;&amp;nbsp\;&amp;nbsp\;&amp;nbsp\;&amp;nbsp\; &amp;nbsp\;&amp;nbsp\;&amp;nbsp\;&amp;nbsp\;&amp;nbsp\;&amp;nbsp\;&amp;
 nbsp\;&amp;nbsp\;&amp;nbsp\;&amp;nbsp\;&amp;nbsp\;&amp;nbsp\;&amp;nbsp\; Vice Chair: Matthew Wilde
 r&lt;/li&gt;\n&lt;li&gt;Treasurer: Jacqueline Nichols&amp;nbsp\;&amp;nbsp\;&amp;nbsp\;&amp;nbsp\;&amp;nbsp
 \;&amp;nbsp\;&amp;nbsp\;&amp;nbsp\;&amp;nbsp\;&amp;nbsp\;&amp;nbsp\;&amp;nbsp\;&amp;nbsp\;&amp;nbsp\;&amp;nbsp\;&amp;n
 bsp\; Secretary: Morteza Molaei&lt;/li&gt;\n&lt;li&gt;Past Chair: Mike Paraskake&lt;/li&gt;\
 n&lt;li&gt;Subsections&lt;/li&gt;\n&lt;/ul&gt;\n&lt;/ol&gt;\n&lt;ul&gt;\n&lt;li&gt;Chair: Fan Jiang Northern B
 C&lt;/li&gt;\n&lt;li&gt;Chair: Youry Khmelevsky Okanagan&lt;/li&gt;\n&lt;/ul&gt;\n&lt;ol start=&quot;5&quot;&gt;\n
 &lt;li&gt;Chair&amp;rsquo\;s report: section year end highlights and results&lt;/li&gt;\n&lt;
 li&gt;Treasurer&#39;s report and Auditors report&lt;/li&gt;\n&lt;li&gt;Approval of the Chair 
 and Treasurer reports&lt;/li&gt;\n&lt;li&gt;Section plans for coming year&lt;/li&gt;\n&lt;li&gt;Sc
 holarship announcements&lt;/li&gt;\n&lt;li&gt;Awards and recognition announcements&lt;/li
 &gt;\n&lt;li&gt;Any other business&lt;/li&gt;\n&lt;ul&gt;\n&lt;li&gt;Next AGM Date: Tentatively March
  26\, 2022&lt;/li&gt;\n&lt;/ul&gt;\n&lt;li&gt;Adjournment&lt;/li&gt;\n&lt;/ol&gt;\n&lt;/div&gt;
END:VEVENT
END:VCALENDAR

