BEGIN:VCALENDAR
VERSION:2.0
PRODID:IEEE vTools.Events//EN
CALSCALE:GREGORIAN
BEGIN:VTIMEZONE
TZID:Asia/Beirut
BEGIN:DAYLIGHT
DTSTART:20210328T010000
TZOFFSETFROM:+0200
TZOFFSETTO:+0300
RRULE:FREQ=YEARLY;BYDAY=-1SU;BYMONTH=3
TZNAME:EEST
END:DAYLIGHT
BEGIN:STANDARD
DTSTART:20201024T230000
TZOFFSETFROM:+0300
TZOFFSETTO:+0200
RRULE:FREQ=YEARLY;BYDAY=-1SA;BYMONTH=10
TZNAME:EET
END:STANDARD
END:VTIMEZONE
BEGIN:VEVENT
DTSTAMP:20210924T205449Z
UID:EADA178D-5B25-4823-8058-6EC3A0586EF1
DTSTART;TZID=Asia/Beirut:20210308T180000
DTEND;TZID=Asia/Beirut:20210308T200000
DESCRIPTION:For the International Women&#39;s Day\, IEEE WIE Lebanon cordially 
 invite you to our virtual event “Women In Excellence from Lebanon”\, o
 n Monday March 8\, 2021 @ 6:00 p.m. (Beirut time).\n\nYou can join us on:\
 n\nhttps://ieeemeetings.webex.com/ieeemeetings\n\nAccess code: 130 601 721
 1 – Password: 8ucBJt4Ps2S\n\nWe will be also Live on Facebook: @wieleban
 on.\n\nLooking forward to E-meet you and have a great International Women
 ’s Day!\n\nVirtual: https://events.vtools.ieee.org/m/265088
LOCATION:Virtual: https://events.vtools.ieee.org/m/265088
ORGANIZER:sarah.abouchakra@ieee.org
SEQUENCE:3
SUMMARY:International Women&#39;s Day - Women In Excellence from Lebanon
URL;VALUE=URI:https://events.vtools.ieee.org/m/265088
X-ALT-DESC:Description: &lt;br /&gt;&lt;p&gt;For the&lt;strong&gt; International Women&#39;s Day&lt;
 /strong&gt;\, &lt;strong&gt;IEEE WIE Lebanon&lt;/strong&gt; cordially invite you to our v
 irtual event &amp;ldquo\;&lt;strong&gt;Women In Excellence from Lebanon&lt;/strong&gt;&amp;rdq
 uo\;\, on &lt;strong&gt;Monday March 8\, 2021 @ 6:00 p.m. (Beirut time)&lt;/strong&gt;
 .&lt;/p&gt;\n&lt;p&gt;&amp;nbsp\;&lt;/p&gt;\n&lt;p&gt;You can join us on:&lt;/p&gt;\n&lt;p&gt;&lt;strong&gt;https://ieee
 meetings.webex.com/ieeemeetings&lt;/strong&gt;&lt;/p&gt;\n&lt;p&gt;&lt;strong&gt;Access code: 130 
 601 7211 &amp;ndash\; Password: 8ucBJt4Ps2S&lt;/strong&gt;&lt;/p&gt;\n&lt;p&gt;&lt;strong&gt;&amp;nbsp\;&lt;/
 strong&gt;&lt;/p&gt;\n&lt;p&gt;&lt;strong&gt;We will be also Live on Facebook: @wielebanon.&lt;/st
 rong&gt;&lt;/p&gt;\n&lt;p&gt;&lt;strong&gt;&amp;nbsp\;&lt;/strong&gt;&lt;/p&gt;\n&lt;p&gt;&lt;strong&gt;Looking forward to 
 E-meet you and have a great International Women&amp;rsquo\;s Day!&lt;/strong&gt;&lt;/p&gt;
END:VEVENT
END:VCALENDAR

