BEGIN:VCALENDAR
VERSION:2.0
PRODID:IEEE vTools.Events//EN
CALSCALE:GREGORIAN
BEGIN:VTIMEZONE
TZID:US/Eastern
BEGIN:DAYLIGHT
DTSTART:20210314T030000
TZOFFSETFROM:-0500
TZOFFSETTO:-0400
RRULE:FREQ=YEARLY;BYDAY=2SU;BYMONTH=3
TZNAME:EDT
END:DAYLIGHT
BEGIN:STANDARD
DTSTART:20211107T010000
TZOFFSETFROM:-0400
TZOFFSETTO:-0500
RRULE:FREQ=YEARLY;BYDAY=1SU;BYMONTH=11
TZNAME:EST
END:STANDARD
END:VTIMEZONE
BEGIN:VEVENT
DTSTAMP:20220120T145534Z
UID:D61DCDBE-A172-4910-B1B0-5E7160FA7A66
DTSTART;TZID=US/Eastern:20210413T183000
DTEND;TZID=US/Eastern:20210413T210000
DESCRIPTION:Please click the link below to join the webinar:\n\nJoin Zoom M
 eeting\n[https://mit.zoom.us/j/5457368756](https://www.google.com/url?q=ht
 tps://mit.zoom.us/j/5457368756&amp;sa=D&amp;source=calendar&amp;usd=2&amp;usg=AOvVaw1B7_uI
 R8voj2gcKTG9f3Ot)\n\nOne tap mobile\n+16465588656\,\,5457368756# US (New Y
 ork)\n+16699006833\,\,5457368756# US (San Jose)\n\nMeeting ID: 545 736 875
 6\n\nUS : +1 646 558 8656 or +1 669 900 6833\n\nSpeaker(s): Mr. James M. S
 chellenberg\, \n\nVirtual: https://events.vtools.ieee.org/m/265632
LOCATION:Virtual: https://events.vtools.ieee.org/m/265632
ORGANIZER:youngho.suh@ieee.org
SEQUENCE:3
SUMMARY:IEEE MTT Boston Chapter Distinguished Microwave Lecture
URL;VALUE=URI:https://events.vtools.ieee.org/m/265632
X-ALT-DESC:Description: &lt;br /&gt;&lt;p&gt;&lt;strong&gt;Please click the link below to joi
 n the webinar:&lt;/strong&gt;&lt;/p&gt;\n&lt;p&gt;Join Zoom Meeting&lt;br /&gt;&lt;a href=&quot;https://ww
 w.google.com/url?q=https://mit.zoom.us/j/5457368756&amp;amp\;sa=D&amp;amp\;source=
 calendar&amp;amp\;usd=2&amp;amp\;usg=AOvVaw1B7_uIR8voj2gcKTG9f3Ot&quot;&gt;https://mit.zoo
 m.us/j/5457368756&lt;/a&gt;&lt;br /&gt;&lt;br /&gt;One tap mobile&lt;br /&gt;+16465588656\,\,54573
 68756# US (New York)&lt;br /&gt;+16699006833\,\,5457368756# US (San Jose)&lt;br /&gt;&lt;
 br /&gt;Meeting ID: 545 736 8756&lt;br /&gt;&lt;br /&gt;US : +1 646 558 8656 or +1 669 90
 0 6833&lt;/p&gt;
END:VEVENT
END:VCALENDAR

