BEGIN:VCALENDAR
VERSION:2.0
PRODID:IEEE vTools.Events//EN
CALSCALE:GREGORIAN
BEGIN:VTIMEZONE
TZID:US/Eastern
BEGIN:DAYLIGHT
DTSTART:20210314T030000
TZOFFSETFROM:-0500
TZOFFSETTO:-0400
RRULE:FREQ=YEARLY;BYDAY=2SU;BYMONTH=3
TZNAME:EDT
END:DAYLIGHT
BEGIN:STANDARD
DTSTART:20211107T010000
TZOFFSETFROM:-0400
TZOFFSETTO:-0500
RRULE:FREQ=YEARLY;BYDAY=1SU;BYMONTH=11
TZNAME:EST
END:STANDARD
END:VTIMEZONE
BEGIN:VEVENT
DTSTAMP:20210409T175800Z
UID:20B11A71-9FB5-439A-97B0-5F807E66B4E2
DTSTART;TZID=US/Eastern:20210330T183000
DTEND;TZID=US/Eastern:20210330T193000
DESCRIPTION:IEEE Columbus Women in Engineering Members Night\n\nJoin the IE
 EE Columbus –Women in Engineering Affinity Section for a fun and informa
 tive night. Get to know your fellow section members and learn of leadershi
 p and mentorship opportunities. Section members and guest are welcome to j
 oin.\n\n&quot;The mission of IEEE WIE is to facilitate the global recruitment a
 nd retention of women in the technical disciplines. IEEE WIE envisions a v
 ibrant community f IEEE women and men collectively using their diverse tal
 ents to innovate for the benefit of humanity&quot;\n\nAgenda: \nAgenda:\n\n5:30
  - Welcome and Introduction\n\n6:00 - WIE Update and Discussion\n\n6:30 - 
 Closing\n\n921 DIANTHUS CT\, REYNOLDSBURG\, Ohio\, United States\, 43068\,
  Virtual: https://events.vtools.ieee.org/m/266201
LOCATION:921 DIANTHUS CT\, REYNOLDSBURG\, Ohio\, United States\, 43068\, Vi
 rtual: https://events.vtools.ieee.org/m/266201
ORGANIZER:hwinfrey@earthlink.net
SEQUENCE:1
SUMMARY:IEEE-Columbus -Women in Engineering Members Night
URL;VALUE=URI:https://events.vtools.ieee.org/m/266201
X-ALT-DESC:Description: &lt;br /&gt;&lt;p&gt;&lt;span style=&quot;font-size: 12pt\; color: #800
 080\;&quot;&gt;IEEE Columbus Women in Engineering Members Night&lt;/span&gt;&lt;/p&gt;\n&lt;p&gt;&lt;sp
 an style=&quot;background-color: #ffffff\; color: #800080\;&quot;&gt;Join the IEEE Colu
 mbus &amp;ndash\;Women in Engineering Affinity Section for a fun and informati
 ve night.&amp;nbsp\; Get to know your fellow section members and learn of lead
 ership and mentorship opportunities.&amp;nbsp\; Section members and guest are 
 welcome to join.&lt;/span&gt;&lt;/p&gt;\n&lt;p&gt;&lt;span style=&quot;color: #800080\;&quot;&gt;&lt;em&gt;&lt;strong
 &gt;&quot;The mission of IEEE WIE is to facilitate the global recruitment and rete
 ntion of women in the technical disciplines.&amp;nbsp\; IEEE WIE envisions a v
 ibrant community f IEEE women and men collectively using their diverse tal
 ents to innovate for the benefit of humanity&quot;&lt;/strong&gt;&lt;/em&gt;&lt;/span&gt;&lt;/p&gt;&lt;br 
 /&gt;&lt;br /&gt;Agenda: &lt;br /&gt;&lt;p&gt;Agenda:&lt;/p&gt;\n&lt;p&gt;5:30 - Welcome and Introduction&lt;/
 p&gt;\n&lt;p&gt;6:00 - WIE Update and Discussion&lt;/p&gt;\n&lt;p&gt;6:30 - Closing&lt;/p&gt;
END:VEVENT
END:VCALENDAR

