BEGIN:VCALENDAR
VERSION:2.0
PRODID:IEEE vTools.Events//EN
CALSCALE:GREGORIAN
BEGIN:VTIMEZONE
TZID:Canada/Eastern
BEGIN:DAYLIGHT
DTSTART:20210314T030000
TZOFFSETFROM:-0500
TZOFFSETTO:-0400
RRULE:FREQ=YEARLY;BYDAY=2SU;BYMONTH=3
TZNAME:EDT
END:DAYLIGHT
BEGIN:STANDARD
DTSTART:20211107T010000
TZOFFSETFROM:-0400
TZOFFSETTO:-0500
RRULE:FREQ=YEARLY;BYDAY=1SU;BYMONTH=11
TZNAME:EST
END:STANDARD
END:VTIMEZONE
BEGIN:VEVENT
DTSTAMP:20220317T003615Z
UID:1831B662-EC7E-4598-B84A-08890A588327
DTSTART;TZID=Canada/Eastern:20210419T190000
DTEND;TZID=Canada/Eastern:20210419T200000
DESCRIPTION:We are pleased to invite you to the virtual IEEE Peterborough S
 ection Annual General Meeting (AGM)\n\nTopic: IEEE Peterborough Section AG
 M\nTime: Apr 19\, 2021 07:00 PM Eastern Time (US and Canada)\n\nJoin Zoom 
 Meeting\nhttps://us02web.zoom.us/j/2305841144?pwd=UlE2cmhpRmJ5YlV5WTZURy9s
 Y0ZLdz09\n\nMeeting ID: 230 584 1144\nPasscode: 020636\n\nVirtual: https:/
 /events.vtools.ieee.org/m/266535
LOCATION:Virtual: https://events.vtools.ieee.org/m/266535
ORGANIZER:helder.pinheiro@flemingcollege.ca
SEQUENCE:1
SUMMARY:IEEE Peterborough Section AGM
URL;VALUE=URI:https://events.vtools.ieee.org/m/266535
X-ALT-DESC:Description: &lt;br /&gt;&lt;p&gt;&lt;strong&gt;We are pleased to invite you to th
 e virtual IEEE Peterborough Section Annual General&amp;nbsp\;Meeting&lt;/strong&gt;&lt;
 strong&gt;&amp;nbsp\;(AGM&lt;/strong&gt;&lt;strong&gt;) &lt;br /&gt; &lt;br /&gt; Topic: IEEE Peterboroug
 h Section&amp;nbsp\;AGM&lt;br /&gt; Time: Apr 19\, 2021 07:00 PM Eastern Time (US an
 d Canada)&lt;br /&gt; &lt;br /&gt; Join Zoom Meeting&lt;br /&gt; &lt;a href=&quot;https://us02web.zo
 om.us/j/2305841144?pwd=UlE2cmhpRmJ5YlV5WTZURy9sY0ZLdz09&quot; data-saferedirect
 url=&quot;https://www.google.com/url?q=https://us02web.zoom.us/j/2305841144?pwd
 %3DUlE2cmhpRmJ5YlV5WTZURy9sY0ZLdz09&amp;amp\;source=gmail&amp;amp\;ust=16161616539
 06000&amp;amp\;usg=AFQjCNE5xZWUEk3s9LErotCifcS9Cyi9yg&quot;&gt;https://us02web.zoom.us
 /j/2305841144?pwd=UlE2cmhpRmJ5YlV5WTZURy9sY0ZLdz09&lt;/a&gt;&lt;br /&gt; &lt;br /&gt; Meetin
 g ID: 230 584 1144&lt;br /&gt; Passcode: 020636&lt;/strong&gt;&lt;/p&gt;
END:VEVENT
END:VCALENDAR

