BEGIN:VCALENDAR
VERSION:2.0
PRODID:IEEE vTools.Events//EN
CALSCALE:GREGORIAN
BEGIN:VTIMEZONE
TZID:US/Eastern
BEGIN:DAYLIGHT
DTSTART:20210314T030000
TZOFFSETFROM:-0500
TZOFFSETTO:-0400
RRULE:FREQ=YEARLY;BYDAY=2SU;BYMONTH=3
TZNAME:EDT
END:DAYLIGHT
BEGIN:STANDARD
DTSTART:20211107T010000
TZOFFSETFROM:-0400
TZOFFSETTO:-0500
RRULE:FREQ=YEARLY;BYDAY=1SU;BYMONTH=11
TZNAME:EST
END:STANDARD
END:VTIMEZONE
BEGIN:VEVENT
DTSTAMP:20210430T151744Z
UID:DDB6AB61-CA9F-4F2B-8361-CF0286CD9497
DTSTART;TZID=US/Eastern:20210429T183000
DTEND;TZID=US/Eastern:20210429T210000
DESCRIPTION:Please join us for a presentation by Standex Electronics at the
  Broken Barrel Tavern and virtual on Thursday\, April 29th. Standex electr
 onics will be sponsoring dinner and drinks for parties in attendence. Stan
 dex will be streaming the event for those who wish to attend virtually (li
 nk will be sent out closer to the event).\n\nSpeakers and Topics:\n\nChris
  Riccardella\n\nChris Riccardella received B.S. Mechanical Engineering in 
 2011 from the University of Dayton. Chris is the Magnetics product manager
  for Standex Electronics with a focus on high reliability &amp; high-power den
 sity magnetics such as Planar technology. He has approximately 10 years of
  experience in Magnetic &amp; Sensor design and currently is responsible for i
 dentifying and cultivating strategic relationships with new business partn
 ers.\n\nStandex company profile\n\n- Corporate overview\n- Magnetics techn
 ology summary\n- Engineering &amp; design location review\n- Intro to Planar\n
 \nKevin Enser\n\nKevin Enser (S’02-M’07) Received the B.S. Computer En
 gineering degree in 2004 and the M.S. Electrical Engineering degree\, Spec
 ialization in Microelectronics\, photonics\, and materials\, in 2005 from 
 the University at Buffalo. He has approximately 18 years of magnetics desi
 gn experience focusing on power magnetics. Kevin is currently the Engineer
 ing Manager of Renco Electronics\, a Standex Electronics Company\, and is 
 responsible for designing components\, developing tools\, and actively tra
 ins new power magnetics engineers.\n\nCommon Mode Choke Design Considerati
 ons\n\n- Magnetic Materials\n- Properties\n- Selection\n- Environmental Co
 nsiderations\n\n- Testing\n- Packaging Considerations\n- MIL-PRF-27 and MI
 L-STD-981\n\nCompany Website:\n\nhttps://standexelectronics.com/aerospace-
 landing/\n\nZoom Link:\n\nJoin Zoom Meeting\nhttps://standex.zoom.us/j/943
 10428403?pwd=RlZOYUVVOEV4Y0JCUU51ZFpCbmxVUT09\n\nMeeting ID: 943 1042 8403
 \nPasscode: 635778\nOne tap mobile\n+13126266799\,\,94310428403# US (Chica
 go)\n+16465588656\,\,94310428403# US (New York)\n\nDial by your location\n
 +1 312 626 6799 US (Chicago)\n+1 646 558 8656 US (New York)\n+1 301 715 85
 92 US (Washington DC)\n+1 346 248 7799 US (Houston)\n+1 669 900 9128 US (S
 an Jose)\n+1 253 215 8782 US (Tacoma)\n888 475 4499 US Toll-free\n877 853 
 5257 US Toll-free\nMeeting ID: 943 1042 8403\nFind your local number: http
 s://standex.zoom.us/u/amCZpnK6X\n\nCo-sponsored by: Standex Electronics\n\
 nAgenda: \n6:30 PM: Check-in and Dinner\n\n7:00 PM: Presentation\n\n8:30 P
 M: Questions and Adjourn\n\nBroken Barrel Tavern\, Palm Bay\, Florida\, Un
 ited States\, Virtual: https://events.vtools.ieee.org/m/266707
LOCATION:Broken Barrel Tavern\, Palm Bay\, Florida\, United States\, Virtua
 l: https://events.vtools.ieee.org/m/266707
ORGANIZER:mary.cwikla@ieee.org
SEQUENCE:5
SUMMARY:Standex Electronics: Common Mode Choke Design Considerations
URL;VALUE=URI:https://events.vtools.ieee.org/m/266707
X-ALT-DESC:Description: &lt;br /&gt;&lt;p&gt;Please join us for a presentation by &lt;span
  style=&quot;color: #0000ff\;&quot;&gt;&lt;strong&gt;Standex Electronics&lt;/strong&gt; &lt;/span&gt;at t
 he Broken Barrel Tavern and virtual on Thursday\, April 29th. Standex elec
 tronics will be sponsoring dinner and drinks for parties in attendence. St
 andex will be streaming the event for those who wish to attend virtually (
 link will be sent out closer to the event).&lt;/p&gt;\n&lt;p&gt;&lt;span style=&quot;text-deco
 ration: underline\; color: #ff0000\;&quot;&gt;&lt;strong&gt;Speakers and Topics:&lt;/strong
 &gt;&lt;/span&gt;&lt;/p&gt;\n&lt;p&gt;&lt;strong&gt;Chris Riccardella&lt;/strong&gt;&lt;/p&gt;\n&lt;p&gt;Chris Riccarde
 lla received B.S. Mechanical Engineering in 2011 from the University of Da
 yton.&amp;nbsp\;&amp;nbsp\; Chris is the Magnetics product manager for Standex Ele
 ctronics with a focus on high reliability &amp;amp\; high-power density magnet
 ics such as Planar technology.&amp;nbsp\;&amp;nbsp\; &amp;nbsp\;&amp;nbsp\;He has approxim
 ately 10 years of experience in Magnetic &amp;amp\; Sensor design and currentl
 y is responsible for identifying and cultivating strategic relationships w
 ith new business partners.&amp;nbsp\;&lt;/p&gt;\n&lt;p&gt;&amp;nbsp\;&lt;/p&gt;\n&lt;p&gt;Standex company 
 profile&lt;/p&gt;\n&lt;ul&gt;\n&lt;ul&gt;\n&lt;li&gt;Corporate overview&lt;/li&gt;\n&lt;li&gt;Magnetics techno
 logy summary&lt;/li&gt;\n&lt;li&gt;Engineering &amp;amp\; design location review&lt;/li&gt;\n&lt;li
 &gt;Intro to Planar&lt;/li&gt;\n&lt;/ul&gt;\n&lt;/ul&gt;\n&lt;p&gt;&lt;strong&gt;Kevin Enser&lt;/strong&gt;&lt;/p&gt;\n
 &lt;p&gt;Kevin Enser (S&amp;rsquo\;02-M&amp;rsquo\;07) Received the B.S. Computer Engine
 ering degree in 2004 and the M.S. Electrical Engineering degree\, Speciali
 zation in Microelectronics\, photonics\, and materials\, in 2005 from the 
 University at Buffalo. He has approximately 18 years of magnetics design e
 xperience focusing on power magnetics. Kevin is currently the Engineering 
 Manager of Renco Electronics\, a Standex Electronics Company\, and is resp
 onsible for designing components\, developing tools\, and actively trains 
 new power magnetics engineers.&lt;/p&gt;\n&lt;p&gt;&amp;nbsp\;&lt;/p&gt;\n&lt;p&gt;Common Mode Choke D
 esign Considerations&lt;/p&gt;\n&lt;ul&gt;\n&lt;li&gt;Magnetic Materials\n&lt;ul&gt;\n&lt;li&gt;Properti
 es&lt;/li&gt;\n&lt;li&gt;Selection&lt;/li&gt;\n&lt;li&gt;Environmental Considerations&lt;/li&gt;\n&lt;/ul&gt;\
 n&lt;/li&gt;\n&lt;li&gt;Testing&lt;/li&gt;\n&lt;li&gt;Packaging Considerations\n&lt;ul&gt;\n&lt;li&gt;MIL-PRF-
 27 and MIL-STD-981&lt;/li&gt;\n&lt;/ul&gt;\n&lt;/li&gt;\n&lt;/ul&gt;\n&lt;p&gt;Company Website:&lt;/p&gt;\n&lt;p&gt;
 &lt;a href=&quot;https://standexelectronics.com/aerospace-landing/&quot;&gt;https://stande
 xelectronics.com/aerospace-landing/&lt;/a&gt;&lt;/p&gt;\n&lt;p&gt;&amp;nbsp\;&lt;/p&gt;\n&lt;p&gt;Zoom Link:
 &lt;/p&gt;\n&lt;p&gt;Join Zoom Meeting&lt;br /&gt;&lt;a href=&quot;https://standex.zoom.us/j/9431042
 8403?pwd=RlZOYUVVOEV4Y0JCUU51ZFpCbmxVUT09&quot; target=&quot;_blank&quot; rel=&quot;noopener n
 oreferrer&quot; data-saferedirecturl=&quot;https://www.google.com/url?q=https://stan
 dex.zoom.us/j/94310428403?pwd%3DRlZOYUVVOEV4Y0JCUU51ZFpCbmxVUT09&amp;amp\;sour
 ce=gmail&amp;amp\;ust=1619610723124000&amp;amp\;usg=AFQjCNFozirQph1USLQU6DYp_GqJkW
 ONug&quot;&gt;https://standex.zoom.us/j/9431&lt;wbr /&gt;0428403?pwd=RlZOYUVVOEV4Y0JCUU&lt;
 wbr /&gt;51ZFpCbmxVUT09&lt;/a&gt;&lt;br /&gt;&lt;br /&gt;Meeting ID: 943 1042 8403&lt;br /&gt;Passcod
 e: 635778&lt;br /&gt;One tap mobile&lt;br /&gt;+13126266799\,\,94310428403# US (Chicag
 o)&lt;br /&gt;+16465588656\,\,94310428403# US (New York)&lt;br /&gt;&lt;br /&gt;Dial by your
  location&lt;br /&gt;&amp;nbsp\; &amp;nbsp\; &amp;nbsp\; &amp;nbsp\; +1 312 626 6799 US (Chicago
 )&lt;br /&gt;&amp;nbsp\; &amp;nbsp\; &amp;nbsp\; &amp;nbsp\; +1 646 558 8656 US (New York)&lt;br /&gt;
 &amp;nbsp\; &amp;nbsp\; &amp;nbsp\; &amp;nbsp\; +1 301 715 8592 US (Washington DC)&lt;br /&gt;&amp;n
 bsp\; &amp;nbsp\; &amp;nbsp\; &amp;nbsp\; +1 346 248 7799 US (Houston)&lt;br /&gt;&amp;nbsp\; &amp;n
 bsp\; &amp;nbsp\; &amp;nbsp\; +1 669 900 9128 US (San Jose)&lt;br /&gt;&amp;nbsp\; &amp;nbsp\; &amp;
 nbsp\; &amp;nbsp\; +1 253 215 8782 US (Tacoma)&lt;br /&gt;&amp;nbsp\; &amp;nbsp\; &amp;nbsp\; &amp;n
 bsp\; 888 475 4499 US Toll-free&lt;br /&gt;&amp;nbsp\; &amp;nbsp\; &amp;nbsp\; &amp;nbsp\; 877 8
 53 5257 US Toll-free&lt;br /&gt;Meeting ID: 943 1042 8403&lt;br /&gt;Find your local n
 umber:&amp;nbsp\;&lt;a href=&quot;https://standex.zoom.us/u/amCZpnK6X&quot; target=&quot;_blank&quot;
  rel=&quot;noopener noreferrer&quot; data-saferedirecturl=&quot;https://www.google.com/ur
 l?q=https://standex.zoom.us/u/amCZpnK6X&amp;amp\;source=gmail&amp;amp\;ust=1619610
 723124000&amp;amp\;usg=AFQjCNE_OBxkvNesm9-B3-wFxee7-vye4w&quot;&gt;https://standex.zoo
 m.us/u/amCZ&lt;wbr /&gt;pnK6X&lt;/a&gt;&lt;/p&gt;&lt;br /&gt;&lt;br /&gt;Agenda: &lt;br /&gt;&lt;p&gt;6:30 PM: Check
 -in and Dinner&lt;/p&gt;\n&lt;p&gt;7:00 PM: Presentation&lt;/p&gt;\n&lt;p&gt;8:30 PM: Questions an
 d Adjourn&lt;/p&gt;
END:VEVENT
END:VCALENDAR

