BEGIN:VCALENDAR
VERSION:2.0
PRODID:IEEE vTools.Events//EN
CALSCALE:GREGORIAN
BEGIN:VTIMEZONE
TZID:Asia/Kolkata
BEGIN:STANDARD
DTSTART:19451014T230000
TZOFFSETFROM:+0630
TZOFFSETTO:+0530
TZNAME:IST
END:STANDARD
END:VTIMEZONE
BEGIN:VEVENT
DTSTAMP:20210320T105521Z
UID:9516B203-754C-41BA-B153-B8DAC28CA184
DTSTART;TZID=Asia/Kolkata:20210226T140000
DTEND;TZID=Asia/Kolkata:20210303T160000
DESCRIPTION:Sapientury\, in partnership with IEEE-BIT\, is launched DO YOU 
 KNOW ARDUINO\, a 6 day long &#39;Intro-to-Arduino&#39; Bootcamp that briefly intro
 duces crucial engineering and interdisciplinary concepts through micro-cou
 rses and hands-on components.\n\nVirtual: https://events.vtools.ieee.org/m
 /266783
LOCATION:Virtual: https://events.vtools.ieee.org/m/266783
ORGANIZER:jalajabit@ieee.org
SEQUENCE:0
SUMMARY:&#39;Intro-to-Arduino&#39; Bootcamp
URL;VALUE=URI:https://events.vtools.ieee.org/m/266783
X-ALT-DESC:Description: &lt;br /&gt;&lt;p&gt;Sapientury\, in partnership with IEEE-BIT\
 , is launched DO YOU KNOW ARDUINO\, a 6 day long &#39;Intro-to-Arduino&#39; Bootca
 mp that briefly introduces crucial engineering and interdisciplinary conce
 pts through micro-courses and hands-on components.&lt;/p&gt;
END:VEVENT
END:VCALENDAR

