BEGIN:VCALENDAR
VERSION:2.0
PRODID:IEEE vTools.Events//EN
CALSCALE:GREGORIAN
BEGIN:VTIMEZONE
TZID:US/Arizona
BEGIN:STANDARD
DTSTART:19671029T010000
TZOFFSETFROM:-0600
TZOFFSETTO:-0700
TZNAME:MST
END:STANDARD
END:VTIMEZONE
BEGIN:VEVENT
DTSTAMP:20210416T180508Z
UID:CC9B0336-7B83-4E49-B34E-4BE844E8C760
DTSTART;TZID=US/Arizona:20210409T180000
DTEND;TZID=US/Arizona:20210409T190000
DESCRIPTION:Join us for a celebration of PES (Power &amp; Energy Society) Day 2
 021 to hear a presentation by\n\nNiru Prakash Kumar\n\nNiru obtained an un
 dergraduate degree in power systems engineering\nfrom University of Mysore
 \, India. After working for IT consulting\ncompanies\, she decided to move
  to the U.S. and further her interests in\npower systems engineering. She 
 finished her MS in Energy Systems from\nthe University of Washington in Se
 attle and went on to work with\nPacific Northwest National Laboratory\, a 
 Dept. of Energy run National\nLaboratory. Her research interests included 
 effective demand response\ntechniques to improve energy efficiency. She co
 mpleted her MBA from\nCornell University last summer where she was recogni
 zed both as an\n‘Environmental Finance and Impact Investing Fellow’ as
  well as\nan &#39;Emerging Markets Fellow’. Her interests now include the mo
 st cost\neffective methods of making technology accessible to the base of 
 the\npyramid. She also works as a storage analyst in the Energy Storage\nB
 usiness Development Group at NextEra Energy Resources in Juno\nBeach\, Flo
 rida. Niru is also heavily involved with IEEE. She is\ncurrently the Ambas
 sador for IEEE Smart Village(previously IEEE\nCommunity Solutions Initiati
 ve (CSI)). She is also part of the IEEE\nGlobal SIGHT steering committee a
 nd IEEE USA’s Energy Policy Committee.\nShe also served on IEEE’s Huma
 nitarian Ad Hoc Committee whose primary\nresponsibility was to set directi
 on and policies for IEEE member\nengagement in Humanitarian activities. Sh
 e has also served as IEEE’s\nRegion 6(Western US\, Alaska and Hawaii) Wo
 men in Engineering\ncoordinator helping set up various Women in Engineerin
 g groups for the\nbenefit of IEEE women engineers and also for helping inK
 12 outreach\nefforts for engineering\n\nSr. Product Manager - Microgrids\,
  Bloom Energy\,\nAmbassador\, IEEE Smart Village\n\nAgenda: \nJoin us for 
 a half hour presentation from Niru followed by a Q&amp;A session\n\nhttps://me
 et.google.com/hbj-ozts-cad\n\nor\n\n[Join by phone](tel:+1-617-675-4444)\n
 ‪(US) +1 617-675-4444‬ PIN: ‪830 490 141 1455‬#\n\nVirtual\, Arizo
 na\, United States\, Virtual: https://events.vtools.ieee.org/m/267139
LOCATION:Virtual\, Arizona\, United States\, Virtual: https://events.vtools
 .ieee.org/m/267139
ORGANIZER:keith.moore@ieee.org
SEQUENCE:3
SUMMARY:PES Day with Niru
URL;VALUE=URI:https://events.vtools.ieee.org/m/267139
X-ALT-DESC:Description: &lt;br /&gt;&lt;p&gt;Join us for a celebration of PES (Power &amp;a
 mp\; Energy Society) Day 2021 to hear a presentation by&lt;/p&gt;\n&lt;h1&gt;Niru Prak
 ash Kumar&lt;/h1&gt;\n&lt;p&gt;Niru obtained an undergraduate degree in power systems 
 engineering&lt;br /&gt;from University of Mysore\, India. After working for IT c
 onsulting&lt;br /&gt;companies\, she decided to move to the U.S. and further her
  interests in&lt;br /&gt;power systems engineering. She finished her MS in Energ
 y Systems from&lt;br /&gt;the University of Washington in Seattle and went on to
  work with&lt;br /&gt;Pacific Northwest National Laboratory\, a Dept. of Energy 
 run National&lt;br /&gt;Laboratory. Her research interests included effective de
 mand response&lt;br /&gt;techniques to improve energy efficiency. She completed 
 her MBA from&lt;br /&gt;Cornell University last summer where she was recognized 
 both as an&lt;br /&gt;&amp;lsquo\;Environmental Finance and Impact Investing Fellow&amp;
 rsquo\; as well as&lt;br /&gt;an &#39;Emerging Markets Fellow&amp;rsquo\;. Her interests
  now include the most cost&lt;br /&gt;effective methods of making technology acc
 essible to the base of the&lt;br /&gt;pyramid. She also works as a storage analy
 st in the Energy Storage&lt;br /&gt;Business Development Group at NextEra Energy
  Resources in Juno&lt;br /&gt;Beach\, Florida. Niru is also heavily involved wit
 h IEEE. She is&lt;br /&gt;currently the Ambassador for IEEE Smart Village(previo
 usly IEEE&lt;br /&gt;Community Solutions Initiative (CSI)). She is also part of 
 the IEEE&lt;br /&gt;Global SIGHT steering committee and IEEE USA&amp;rsquo\;s Energy
  Policy Committee.&lt;br /&gt;She also served on IEEE&amp;rsquo\;s Humanitarian Ad H
 oc Committee whose primary&lt;br /&gt;responsibility was to set direction and po
 licies for IEEE member&lt;br /&gt;engagement in Humanitarian activities. She has
  also served as IEEE&amp;rsquo\;s&lt;br /&gt;Region 6(Western US\, Alaska and Hawaii
 ) Women in Engineering&lt;br /&gt;coordinator helping set up various Women in En
 gineering groups for the&lt;br /&gt;benefit of IEEE women engineers and also for
  helping inK12 outreach&lt;br /&gt;efforts for engineering&lt;br /&gt;&lt;br /&gt;Sr. Produc
 t Manager - Microgrids\, Bloom Energy\, &lt;br /&gt;Ambassador\, IEEE Smart Vill
 age&lt;br /&gt;&lt;br /&gt;&lt;/p&gt;&lt;br /&gt;&lt;br /&gt;Agenda: &lt;br /&gt;&lt;p&gt;Join us for a half hour pr
 esentation from Niru followed by a Q&amp;amp\;A session&lt;/p&gt;\n&lt;div id=&quot;xDetDlgV
 ideo&quot; class=&quot;kMp0We A0N0L  owQVGf ofHt2e&quot; data-details=&quot;https://meet.googl
 e.com/hbj-ozts-cad&quot;&gt;\n&lt;div class=&quot;NI2kfb  DX3x9d&quot;&gt;\n&lt;div class=&quot; Q3pZ0e&quot;&gt;\
 n&lt;div class=&quot;DN1TJ fX8Pqc&quot;&gt;https://meet.google.com/hbj-ozts-cad&lt;/div&gt;\n&lt;di
 v class=&quot;DN1TJ fX8Pqc&quot;&gt;&amp;nbsp\;&lt;/div&gt;\n&lt;/div&gt;\n&lt;/div&gt;\n&lt;/div&gt;\n&lt;div id=&quot;xDe
 tDlgPhone&quot; class=&quot;kMp0We A0N0L  yvZHEd &quot; data-details=&quot;&quot;&gt;\n&lt;div class=&quot;nGJ
 qzd OLw7vb&quot; aria-hidden=&quot;true&quot;&gt;or&amp;nbsp\;&amp;nbsp\;&lt;/div&gt;\n&lt;div class=&quot;NI2kfb 
 &quot;&gt;\n&lt;div class=&quot; Q3pZ0e&quot;&gt;\n&lt;div class=&quot;JAPzS DX3x9d&quot;&gt;&lt;a class=&quot;goktNc&quot; hre
 f=&quot;tel:+1-617-675-4444&quot; target=&quot;_blank&quot; rel=&quot;noreferrer noopener&quot;&gt;Join by 
 phone&lt;/a&gt;&lt;/div&gt;\n&lt;div class=&quot;DN1TJ fX8Pqc CyPPBf&quot;&gt;‪(US) +1 617-675-4444
 ‬ PIN: ‪830 490 141 1455‬#&lt;/div&gt;\n&lt;/div&gt;\n&lt;/div&gt;\n&lt;/div&gt;
END:VEVENT
END:VCALENDAR

