BEGIN:VCALENDAR
VERSION:2.0
PRODID:IEEE vTools.Events//EN
CALSCALE:GREGORIAN
BEGIN:VTIMEZONE
TZID:Asia/Kuala_Lumpur
BEGIN:DAYLIGHT
DTSTART:20380119T111407
TZOFFSETFROM:+0800
TZOFFSETTO:+0800
RRULE:FREQ=YEARLY;BYDAY=3TU;BYMONTH=1
TZNAME:+08
END:DAYLIGHT
BEGIN:STANDARD
DTSTART:19820101T000000
TZOFFSETFROM:+0730
TZOFFSETTO:+0800
RRULE:FREQ=YEARLY;BYDAY=1FR;BYMONTH=1
TZNAME:+08
END:STANDARD
END:VTIMEZONE
BEGIN:VEVENT
DTSTAMP:20211206T005740Z
UID:A250994B-037C-4243-BDFA-CD1E87A8D6EF
DTSTART;TZID=Asia/Kuala_Lumpur:20211122T000000
DTEND;TZID=Asia/Kuala_Lumpur:20211126T120000
DESCRIPTION:The IEEE Asia Pacific Conference on Circuits and Systems 2021\n
 (APCCAS) and IEEE Asia Pacific Conference on Postgraduate\nResearch in Mic
 roelectronics and Electronics 2021 (PrimeAsia 2021)\nare the regional flag
 ship conference of the IEEE Circuits and Systems\nSociety in Asia and Paci
 fic Region. APCCAS 2021 and PrimeAsia 2021\nwill be held in Parkroyal Pena
 ng Resort\, Batu Ferringhi Beach\, Penang\,\nMalaysia during 22 - 26 Novem
 ber 2021 (HYBRID - PHYSICAL +\nONLINE). The theme of the conference is “
 Intelligent Technology and\nInnovations for Sustainable Society”. The ob
 jective of the APPCAS\n2021 is to share the latest research in the areas r
 elated to circuit and\nsystem. PrimeAsia 2021 aims to provide opportunity 
 for postgraduate\nstudents (Masters and PhD) to present their research wor
 k and to interact\nwith scientists and engineers in the research community
  and\nindustry. APCCAS 2021 and PrimeAsia 2021 will feature keynotes/\nple
 nary sessions\, technical paper presentations\, technical exhibitions and\
 ngala dinner.\n\nCo-sponsored by: IEEE Circuits and System Society\n\nPena
 ng\, Pulau Pinang\, Malaysia\, Virtual: https://events.vtools.ieee.org/m/2
 67249
LOCATION:Penang\, Pulau Pinang\, Malaysia\, Virtual: https://events.vtools.
 ieee.org/m/267249
ORGANIZER:ieeeapccas2021@gmail.com
SEQUENCE:1
SUMMARY:IEEE APCCAS2021 &amp; PRIMEASIA2021 - Call For Paper
URL;VALUE=URI:https://events.vtools.ieee.org/m/267249
X-ALT-DESC:Description: &lt;br /&gt;&lt;p&gt;The IEEE Asia Pacific Conference on Circui
 ts and Systems 2021&lt;br /&gt;(APCCAS) and IEEE Asia Pacific Conference on Post
 graduate&lt;br /&gt;Research in Microelectronics and Electronics 2021 (PrimeAsia
  2021)&lt;br /&gt;are the regional flagship conference of the IEEE Circuits and 
 Systems&lt;br /&gt;Society in Asia and Pacific Region. APCCAS 2021 and PrimeAsia
  2021&lt;br /&gt;will be held in Parkroyal Penang Resort\, Batu Ferringhi Beach\
 , Penang\,&lt;br /&gt;Malaysia during 22 - 26 November 2021 (HYBRID - PHYSICAL +
 &lt;br /&gt;ONLINE). The theme of the conference is &amp;ldquo\;Intelligent Technolo
 gy and&lt;br /&gt;Innovations for Sustainable Society&amp;rdquo\;. The objective of 
 the APPCAS&lt;br /&gt;2021 is to share the latest research in the areas related 
 to circuit and&lt;br /&gt;system. PrimeAsia 2021 aims to provide opportunity for
  postgraduate&lt;br /&gt;students (Masters and PhD) to present their research wo
 rk and to interact&lt;br /&gt;with scientists and engineers in the research comm
 unity and&lt;br /&gt;industry. APCCAS 2021 and PrimeAsia 2021 will feature keyno
 tes/&lt;br /&gt;plenary sessions\, technical paper presentations\, technical exh
 ibitions and&lt;br /&gt;gala dinner.&lt;/p&gt;
END:VEVENT
END:VCALENDAR

