BEGIN:VCALENDAR
VERSION:2.0
PRODID:IEEE vTools.Events//EN
CALSCALE:GREGORIAN
BEGIN:VTIMEZONE
TZID:America/Regina
BEGIN:STANDARD
DTSTART:19600424T030000
TZOFFSETFROM:-0700
TZOFFSETTO:-0600
TZNAME:CST
END:STANDARD
END:VTIMEZONE
BEGIN:VEVENT
DTSTAMP:20210330T210706Z
UID:0BBB30A1-F8EB-4A90-BFE5-C86F79B76850
DTSTART;TZID=America/Regina:20210401T173000
DTEND;TZID=America/Regina:20210401T190000
DESCRIPTION:Monthly ExCom Meeting\nWe will be holding the NSS meetings via 
 zoom meeting.\nJoin Zoom Meeting\nhttps://us02web.zoom.us/j/83340443752?pw
 d=Y2hvejNhYUhlcXJzSXdiRXBPSlhpdz09\n\nMeeting ID: 833 4044 3752\nPasscode:
  T0X5tQ\n\nRoom: 2A15\, Bldg: Engineering Building\, 57 Campus Drive\, Sas
 katoon\, Saskatchewan\, Canada
LOCATION:Room: 2A15\, Bldg: Engineering Building\, 57 Campus Drive\, Saskat
 oon\, Saskatchewan\, Canada
ORGANIZER:gatesj@ieee.org
SEQUENCE:0
SUMMARY:NSS Executive Meeting
URL;VALUE=URI:https://events.vtools.ieee.org/m/268168
X-ALT-DESC:Description: &lt;br /&gt;&lt;p&gt;Monthly ExCom Meeting&lt;/p&gt;\n&lt;div style=&quot;col
 or: #222222\; font-family: Arial\,Helvetica\,sans-serif\; font-size: 13.33
 px\; font-style: normal\; font-variant: normal\; font-weight: 400\; letter
 -spacing: normal\; orphans: 2\; text-align: left\; text-decoration: none\;
  text-indent: 0px\; text-transform: none\; -webkit-text-stroke-width: 0px\
 ; white-space: normal\; word-spacing: 0px\;&quot;&gt;We will be holding the NSS me
 etings via zoom&lt;span style=&quot;font-size: 13.33px\;&quot;&gt;&amp;nbsp\;meeting.&lt;/span&gt;\n
 &lt;p&gt;Join Zoom Meeting &lt;br /&gt; &lt;a href=&quot;https://us02web.zoom.us/j/83340443752
 ?pwd=Y2hvejNhYUhlcXJzSXdiRXBPSlhpdz09&quot;&gt;https://us02web.zoom.us/j/833404437
 52?pwd=Y2hvejNhYUhlcXJzSXdiRXBPSlhpdz09&lt;/a&gt;&lt;/p&gt;\n&lt;p&gt;Meeting ID: 833 4044 3
 752 &lt;br /&gt; Passcode: T0X5tQ&lt;/p&gt;\n&lt;/div&gt;
END:VEVENT
END:VCALENDAR

