BEGIN:VCALENDAR
VERSION:2.0
PRODID:IEEE vTools.Events//EN
CALSCALE:GREGORIAN
BEGIN:VTIMEZONE
TZID:Canada/Eastern
BEGIN:DAYLIGHT
DTSTART:20210314T030000
TZOFFSETFROM:-0500
TZOFFSETTO:-0400
RRULE:FREQ=YEARLY;BYDAY=2SU;BYMONTH=3
TZNAME:EDT
END:DAYLIGHT
BEGIN:STANDARD
DTSTART:20211107T010000
TZOFFSETFROM:-0400
TZOFFSETTO:-0500
RRULE:FREQ=YEARLY;BYDAY=1SU;BYMONTH=11
TZNAME:EST
END:STANDARD
END:VTIMEZONE
BEGIN:VEVENT
DTSTAMP:20210505T121751Z
UID:196D56DD-E4D6-42FB-AC4B-31755782F459
DTSTART;TZID=Canada/Eastern:20210418T120000
DTEND;TZID=Canada/Eastern:20210418T130000
DESCRIPTION:It is one of the most popular single-board computers that enabl
 es users to design programs using scratch or python. Featuring a microproc
 essor\, it acts much similar to a computer’s motherboard and the compute
 r itself.\n\nPlease note that it is recommended to set up Raspberry Pi bef
 ore the event.\nWe suggest using the following [website](https://www.raspb
 errypi.org/blog/raspberry-pi-imager-imaging-utility/) or watch this [video
 ](https://youtu.be/ntaXWS8Lk34) for detailed instructions.\n\nWe will expl
 ore 3 basic categories of hardware programming with the Raspberry Pi using
  python:\n\n- Sensors: light sensors\, and motion sensors\n- Outputs: Dire
 ct Current (DC) motors\, servo motors\, Light Emitting Diodes (LED)\n- Swi
 tches: push buttons\n\nCo-sponsored by: IEEE Seneca\n\nSpeaker(s): Gabriel
 \, Adi\n\nVirtual: https://events.vtools.ieee.org/m/268377
LOCATION:Virtual: https://events.vtools.ieee.org/m/268377
ORGANIZER:ieee.seneca@gmail.com
SEQUENCE:6
SUMMARY:Raspberry Pi Workshop 
URL;VALUE=URI:https://events.vtools.ieee.org/m/268377
X-ALT-DESC:Description: &lt;br /&gt;&lt;p&gt;&lt;span lang=&quot;EN-US&quot;&gt;It is one of the most p
 opular single-board computers that enables users to design programs using 
 scratch or python. Featuring a microprocessor\, it acts much similar to a 
 computer&amp;rsquo\;s motherboard and the computer itself.&lt;/span&gt;&lt;/p&gt;\n&lt;p&gt;&lt;spa
 n lang=&quot;EN-US&quot;&gt;Please note that it is recommended to set up Raspberry Pi b
 efore the event.&lt;br /&gt;We suggest using the following&amp;nbsp\;&lt;a href=&quot;https:
 //www.raspberrypi.org/blog/raspberry-pi-imager-imaging-utility/&quot; target=&quot;_
 blank&quot; rel=&quot;noopener&quot; data-cke-saved-href=&quot;https://www.raspberrypi.org/blo
 g/raspberry-pi-imager-imaging-utility/&quot;&gt;website&lt;/a&gt;&amp;nbsp\;or watch this&amp;nb
 sp\;&lt;a href=&quot;https://youtu.be/ntaXWS8Lk34&quot; target=&quot;_blank&quot; rel=&quot;noopener&quot; 
 data-cke-saved-href=&quot;https://youtu.be/ntaXWS8Lk34&quot;&gt;video&lt;/a&gt;&amp;nbsp\;for det
 ailed instructions.&lt;/span&gt;&lt;/p&gt;\n&lt;p&gt;We will explore 3 basic categories of h
 ardware programming with the Raspberry Pi using python:&lt;/p&gt;\n&lt;ol&gt;\n&lt;li&gt;Sen
 sors: light sensors\, and motion sensors&lt;/li&gt;\n&lt;li&gt;Outputs: Direct Current
  (DC) motors\, servo motors\, Light Emitting Diodes (LED)&lt;/li&gt;\n&lt;li&gt;Switch
 es: push buttons&lt;/li&gt;\n&lt;/ol&gt;\n&lt;p&gt;&lt;br /&gt;&amp;nbsp\;&lt;/p&gt;
END:VEVENT
END:VCALENDAR

