BEGIN:VCALENDAR
VERSION:2.0
PRODID:IEEE vTools.Events//EN
CALSCALE:GREGORIAN
BEGIN:VTIMEZONE
TZID:EST5EDT
BEGIN:DAYLIGHT
DTSTART:20210314T030000
TZOFFSETFROM:-0500
TZOFFSETTO:-0400
RRULE:FREQ=YEARLY;BYDAY=2SU;BYMONTH=3
TZNAME:EDT
END:DAYLIGHT
BEGIN:STANDARD
DTSTART:20211107T010000
TZOFFSETFROM:-0400
TZOFFSETTO:-0500
RRULE:FREQ=YEARLY;BYDAY=1SU;BYMONTH=11
TZNAME:EST
END:STANDARD
END:VTIMEZONE
BEGIN:VEVENT
DTSTAMP:20220419T211101Z
UID:BEDC7E70-6B15-4C7E-9FEC-3ACBEB5CFDA8
DTSTART;TZID=EST5EDT:20210505T100000
DTEND;TZID=EST5EDT:20210505T113000
DESCRIPTION:Silicon-based Terahertz systems is a field that is only about a
  decade old. In this time\, we have seen a phenomenal growth of silicon sy
 stems operating at THz frequencies for a wide range of applications in sen
 sing\, imaging and communication. It can be argued that both the ‘THz ga
 p’ and the ‘technology and applications gap’ is closing in meaningfu
 l ways in the THz range. Technologies beyond 100 GHz focusing on sensing\,
  imaging and wireless back-haul links are getting attractive as we enter i
 nto a new area of highly dense network of autonomous systems requiring ult
 ra-high speed and reliable links.\n\nIn order to move beyond this inflecti
 on point as Moore’s law continue to slow\, I will discuss why we need to
  look beyond the classical ‘device’-level metrics of efficiency and se
 nsitivity of THz sources and detectors towards holistic ‘system’ level
  properties such as scalability and programmability. Such properties are c
 ritically important for applications in sensing and imaging\, as evidenced
  across sensor fusion technologies across mmWave\, IR and optical frequenc
 ies. The ultimate programmability in THz sources and sensors is one that c
 an synthesize or receive THz fields with arbitrary configuration and spect
 rum. In this talk\, I will highlight approaches that cut across electromag
 netics\, circuits\, systems and signal processing\, to allow for such reco
 nfigurability in THz signal synthesis and sensing\, yet realized with devi
 ces that are themselves not very efficient. Particularly\, we will demonst
 rate approaches to THz CMOS sensors reconfigurable across the three field 
 properties of spectrum (100 GHz-1000 GHz)\, beam pattern and polarization\
 , programmable THz metasurfaces with CMOS tiling\, and enabling dynamic sp
 ectrum shaping and physically secure sub-THz links. In the end\, I will co
 mment on what could be the major directions for the field in the coming de
 cade.\n\nSpeaker(s): Prof. Kaushik Sengupta\, \n\nVirtual: https://events.
 vtools.ieee.org/m/268784
LOCATION:Virtual: https://events.vtools.ieee.org/m/268784
ORGANIZER:kenle.chen@ucf.edu
SEQUENCE:15
SUMMARY:Towards Universally Programmable Chip-Scale THz Source\, Sensors an
 d Systems: Bridging the THz and Application Gap in the Next Decade
URL;VALUE=URI:https://events.vtools.ieee.org/m/268784
X-ALT-DESC:Description: &lt;br /&gt;&lt;div class=&quot;grid-container&quot;&gt;\n&lt;div class=&quot;gri
 d-x grid-padding-x&quot;&gt;\n&lt;div class=&quot;cell medium-8 large-9 profile__content&quot;&gt;
 \n&lt;div class=&quot;profile__intro&quot;&gt;\n&lt;div class=&quot;profile__bio&quot;&gt;\n&lt;p class=&quot;xmso
 normal&quot;&gt;&lt;span lang=&quot;EN-GB&quot;&gt;Silicon-based Terahertz systems is a field that
  is only about a decade old. In this time\, we have seen a phenomenal grow
 th of silicon systems operating at THz frequencies for a wide range of app
 lications in sensing\, imaging and communication. It can be argued that bo
 th the &amp;lsquo\;THz gap&amp;rsquo\; and the &amp;lsquo\;technology and applications
  gap&amp;rsquo\; is closing in meaningful ways in the THz range. Technologies 
 beyond 100 GHz focusing on sensing\, imaging and wireless back-haul links 
 are getting attractive as we enter into a new area of highly dense network
  of autonomous systems requiring ultra-high speed and reliable links.&lt;/spa
 n&gt;&lt;/p&gt;\n&lt;p class=&quot;xmsonormal&quot;&gt;&lt;span lang=&quot;EN-GB&quot;&gt;In order to move beyond t
 his inflection point as Moore&amp;rsquo\;s law continue to slow\, I will discu
 ss why we need to look beyond the classical &amp;lsquo\;device&amp;rsquo\;-level m
 etrics of efficiency and sensitivity of THz sources and detectors towards 
 holistic &amp;lsquo\;system&amp;rsquo\; level properties such as scalability and p
 rogrammability. Such properties are critically important for applications 
 in sensing and imaging\, as evidenced across sensor fusion technologies ac
 ross mmWave\, IR and optical frequencies. The ultimate programmability in 
 THz sources and sensors is one that can synthesize or receive THz fields w
 ith arbitrary configuration and spectrum. In this talk\, I will highlight 
 approaches that cut across electromagnetics\, circuits\, systems and signa
 l processing\, to allow for such reconfigurability in THz signal synthesis
  and sensing\, yet realized with devices that are themselves not very effi
 cient. Particularly\, we will demonstrate approaches to THz CMOS sensors r
 econfigurable across the three field properties of spectrum (100 GHz-1000 
 GHz)\, beam pattern and polarization\, programmable THz metasurfaces with 
 CMOS tiling\, and enabling dynamic spectrum shaping and physically secure 
 sub-THz links. In the end\, I will comment on what could be the major dire
 ctions for the field in the coming decade.&lt;/span&gt;&lt;/p&gt;\n&lt;/div&gt;\n&lt;/div&gt;\n&lt;/d
 iv&gt;\n&lt;/div&gt;\n&lt;/div&gt;\n&lt;footer class=&quot;footer&quot;&gt;\n&lt;div class=&quot;grid-container f
 ooter__container footer__container--grey&quot;&gt;\n&lt;div class=&quot;grid-x grid-paddin
 g-x&quot;&gt;\n&lt;div class=&quot;cell&quot;&gt;\n&lt;div class=&quot;grid-x grid-margin-x&quot;&gt;\n&lt;div class=
 &quot;cell medium-6 footer__navigation&quot;&gt;&amp;nbsp\;&lt;/div&gt;\n&lt;/div&gt;\n&lt;/div&gt;\n&lt;/div&gt;\n
 &lt;/div&gt;\n&lt;/footer&gt;
END:VEVENT
END:VCALENDAR

