BEGIN:VCALENDAR
VERSION:2.0
PRODID:IEEE vTools.Events//EN
CALSCALE:GREGORIAN
BEGIN:VTIMEZONE
TZID:Israel
BEGIN:DAYLIGHT
DTSTART:20210326T030000
TZOFFSETFROM:+0200
TZOFFSETTO:+0300
RRULE:FREQ=YEARLY;BYDAY=-1FR;BYMONTH=3
TZNAME:IDT
END:DAYLIGHT
BEGIN:STANDARD
DTSTART:20211031T010000
TZOFFSETFROM:+0300
TZOFFSETTO:+0200
RRULE:FREQ=YEARLY;BYDAY=-1SU;BYMONTH=10
TZNAME:IST
END:STANDARD
END:VTIMEZONE
BEGIN:VEVENT
DTSTAMP:20210424T131818Z
UID:555A1C67-7E49-4B52-95A1-0B62C5F2AD8D
DTSTART;TZID=Israel:20210420T100000
DTEND;TZID=Israel:20210420T171500
DESCRIPTION:AME- מדפיסים עידן חדש של אלקטרוניקה\n
 \nIEEE EPS Israel  בשיתוף לשכת המהנדסים\, מזמינים
  אותך לכנס הישראלי המקוון הראשון בנושא ה
 דפסה תלת ממדית של אלקטרוניקה  (Additive Manufactur
 ing of Electronics)\n\nהצטרפו אלינו ב 20 באפריל 2021 ל
 כנס בו נתוודע למושגי היסוד בתחום\, AME נכיר
  טכנולוגיות\, חומרים וחלק מהשחקנים המובי
 לים בתחום בארץ ובעולם.\n\nלתוכנית הכנס המל
 אה ולהרשמה ללא עלות לחצו על הקישור: [https://w
 ww.aeai.org.il/activity/ame-webinar/](https://eur02.safelinks.protection.o
 utlook.com/?url=https%3A%2F%2Fwww.aeai.org.il%2Factivity%2Fame-webinar%2F&amp;
 data=04%7C01%7Cidit%40aeai.org.il%7Cbc1b881357c04f77214608d8eeabaabe%7C689
 2cb1387794fdda1e56c219d1864cb%7C1%7C0%7C637521768360721356%7CUnknown%7CTWF
 pbGZsb3d8eyJWIjoiMC4wLjAwMDAiLCJQIjoiV2luMzIiLCJBTiI6Ik1haWwiLCJXVCI6Mn0%3
 D%7C1000&amp;sdata=K20CC%2FRxq5DbCDh6agOCGK8X%2FeuS7U4uNU8C3eh6DXs%3D&amp;reserved
 =0)\n\n&lt;![if !vml]&gt;&lt;![endif]&gt;\n\nעידית שפר | מזכירת IEEE י
 שראל\n\nמשרד 03.5205818 | פקס 03.5272496\n\n[דוא״ל](mailto
 :idit@aeai.org.il) | idit@aeai.org.il\n\nAgenda: \nשעה\n\nשם ההרצ
 אה\n\nשם\n\n10:00-10:05\n\nדברי פתיחה מטעם IEEE ולשכ
 ת המהנדסים\n\nשמואל אוסטר\, יו”ר IEEE ישראל 
 ויו”ר איגוד מהנדסי האלקטרוניקה בלשכת המ
 הנדסים\n\n10:05-10:15\n\nמבוא ל AME\n\nאולג נייגרצי
 ק ואביב רונן\nרפאל בע”מ\n\n10:15-10:35\n\n2D\,3D and 4D
  printing in AM of Electronics\n\nפרופ’ שלמה מגדסי\nהאו
 ניברסיטה העברית\n\n10:35-10:55\n\nLaser Induced Forward Tran
 sfer – an AM method for “repair” of electronics\n\nדר’ מנוא
 לה הוד\nאורבוטק\n\n10:55-11:15\n\nדיו מוליך מנחוש
 ת להדפסת מעגלים על מגוון מצעים בעל מוליכ
 ות גבוהה יותר מדיו כסף – זול וידידותי לס
 ביבה\n\nדר’ עופר שוחט\nCopprint\n\n11:15-11:35\n\nהעתי
 ד כבר כאן –מערכת שיכולה להדפיס טלפון ניי
 ד\n\nדר’ יוסי קפלון\nNano dimension\n\n13:00-13:20\n\nהדפ
 סה דיגיטלית של אלקטרוניקה: טכנולוגיות וש
 ימושים בייצור המוני\n\nחנן מרקוביץ’\nPV Nano 
 Cell\n\n13:20-13:40\n\nהדפסה של נחושת – טכנולוגיה 
 ויישומים\n\nשגיא דהרן\nPrintCB\n\n13:40-14:00\n\nאלקט
 רוניקה מודפסת דיגיטלית מבוססת נחושת\n\nקו
 בי מזוז\nCIC3D\n\n14:00-14:20\n\nפולימרטל – טכנולוג
 יה מהפכנית לייצור רכיבי תקשורת ו – RF\n\nכר
 מל אורון\nPolymetral\n\n15:00-15:20\n\nחיישני ננו טכנו
 לוגיה מודפסים לאחזקה חזויה במפעלים\n\nדר
 ’ מיטל שגב-בר\nFeelit Technologies\n\n15:20- 15:40\n\nLDS proce
 ss\n\nDirk Rettschlag\nLPKF\n\n15:40-16:00\n\n3D Electronic Systems by add
 itive manufacturing\n\nFrank Roscher\nFraunhofer\n\n16:00-16:20\n\n‘אל
 קטרוניקה בהדפסה דיגיטלית’- פתרון הדפסה 
 דיגיטלית רב-שכבתית של מעגלים ורכיבים דיג
 יטליים על מגוון חומרים\n\nנועם אזוגי\nChemcube
 d\n\n16:20-16:40\n\nDirect Capillary printing (DCP)\n\nDr. William Grande\
 nMicroPen\n\n16:40-17:00\n\nדברי סיכום\n\nאביב רונן\, י
 ו”ר IEEE EPS ויו”ר ענף זיווד אלקטרוני ומיקר
 ואלקטרוני בלשכת המהנדסים\n\nTel Aviv\, Tel Aviv Dist
 rict\, Israel\, Virtual: https://events.vtools.ieee.org/m/268874
LOCATION:Tel Aviv\, Tel Aviv District\, Israel\, Virtual: https://events.vt
 ools.ieee.org/m/268874
ORGANIZER:idit@aeai.org.il
SEQUENCE:2
SUMMARY:AME- מדפיסים עידן חדש של אלקטרוניקה
URL;VALUE=URI:https://events.vtools.ieee.org/m/268874
X-ALT-DESC:Description: &lt;br /&gt;&lt;p class=&quot;xmsonormal&quot; dir=&quot;RTL&quot;&gt;&lt;strong&gt;&lt;span
  dir=&quot;LTR&quot; style=&quot;font-family: &#39;Arial&#39;\,sans-serif\;&quot;&gt;AME&lt;/span&gt;&lt;/strong&gt;&lt;
 strong&gt;&lt;span lang=&quot;HE&quot; style=&quot;font-family: &#39;Arial&#39;\,sans-serif\;&quot;&gt;- מדפ
 יסים עידן חדש של אלקטרוניקה&lt;/span&gt;&lt;/strong&gt;&lt;/p&gt;\n&lt;p
  class=&quot;xmsonormal&quot; dir=&quot;RTL&quot; style=&quot;margin-bottom: 7.5pt\; background: wh
 ite\;&quot;&gt;&lt;span dir=&quot;LTR&quot; style=&quot;font-family: &#39;Arial&#39;\,sans-serif\; color: bl
 ack\;&quot;&gt;IEEE EPS Israel &lt;/span&gt;&lt;span lang=&quot;HE&quot; style=&quot;font-family: &#39;Arial&#39;\
 ,sans-serif\; color: black\;&quot;&gt;&amp;nbsp\;בשיתוף לשכת המהנדסי
 ם\, מזמינים אותך לכנס הישראלי המקוון הראש
 ון בנושא הדפסה תלת ממדית של אלקטרוניקה &lt;/s
 pan&gt;&lt;span dir=&quot;LTR&quot; style=&quot;font-family: &#39;Arial&#39;\,sans-serif\; color: black
 \;&quot;&gt;&amp;nbsp\;(Additive Manufacturing of Electronics)&lt;/span&gt;&lt;/p&gt;\n&lt;p class=&quot;x
 msonormal&quot; dir=&quot;RTL&quot; style=&quot;margin-bottom: 7.5pt\; background: white\;&quot;&gt;&lt;s
 pan lang=&quot;HE&quot; style=&quot;font-family: &#39;Arial&#39;\,sans-serif\; color: black\;&quot;&gt;ה
 צטרפו אלינו &lt;strong&gt;ב 20 באפריל 2021&lt;/strong&gt; לכנס ב
 ו נתוודע למושגי היסוד בתחום&lt;/span&gt;&lt;span dir=&quot;LTR&quot; s
 tyle=&quot;font-family: &#39;Arial&#39;\,sans-serif\; color: black\;&quot;&gt;\, &amp;nbsp\;AME &lt;/s
 pan&gt;&lt;span lang=&quot;HE&quot; style=&quot;font-family: &#39;Arial&#39;\,sans-serif\; color: black
 \;&quot;&gt;נכיר טכנולוגיות\, חומרים וחלק מהשחקנים
  המובילים בתחום בארץ ובעולם&lt;/span&gt;&lt;span dir=&quot;LTR&quot; s
 tyle=&quot;font-family: &#39;Arial&#39;\,sans-serif\; color: black\;&quot;&gt;.&lt;/span&gt;&lt;/p&gt;\n&lt;p 
 class=&quot;xmsonormal&quot; dir=&quot;RTL&quot; style=&quot;margin-bottom: 7.5pt\; background: whi
 te\;&quot;&gt;&lt;span lang=&quot;HE&quot; style=&quot;font-family: &#39;Arial&#39;\,sans-serif\; color: bla
 ck\;&quot;&gt;לתוכנית הכנס המלאה ולהרשמה ללא עלות ל
 חצו על הקישור: &lt;/span&gt;&lt;span lang=&quot;HE&quot; style=&quot;font-family: &#39;Time
 s New Roman&#39;\,serif\; color: black\;&quot;&gt;&lt;a href=&quot;https://eur02.safelinks.pro
 tection.outlook.com/?url=https%3A%2F%2Fwww.aeai.org.il%2Factivity%2Fame-we
 binar%2F&amp;amp\;data=04%7C01%7Cidit%40aeai.org.il%7Cbc1b881357c04f77214608d8
 eeabaabe%7C6892cb1387794fdda1e56c219d1864cb%7C1%7C0%7C637521768360721356%7
 CUnknown%7CTWFpbGZsb3d8eyJWIjoiMC4wLjAwMDAiLCJQIjoiV2luMzIiLCJBTiI6Ik1haWw
 iLCJXVCI6Mn0%3D%7C1000&amp;amp\;sdata=K20CC%2FRxq5DbCDh6agOCGK8X%2FeuS7U4uNU8C
 3eh6DXs%3D&amp;amp\;reserved=0&quot;&gt;&lt;span dir=&quot;LTR&quot; lang=&quot;EN-US&quot; style=&quot;font-famil
 y: &#39;Calibri&#39;\,sans-serif\;&quot;&gt;https://www.aeai.org.il/activity/ame-webinar&lt;/
 span&gt;&lt;span style=&quot;font-family: &#39;Arial&#39;\,sans-serif\;&quot;&gt;/&lt;/span&gt;&lt;/a&gt;&lt;/span&gt;&lt;
 /p&gt;\n&lt;p class=&quot;xmsonormal&quot; dir=&quot;RTL&quot;&gt;&lt;span lang=&quot;HE&quot; style=&quot;font-family: &#39;
 Arial&#39;\,sans-serif\;&quot;&gt;&amp;nbsp\;&lt;/span&gt;&lt;/p&gt;\n&lt;p class=&quot;xmsonormal&quot; dir=&quot;RTL&quot;&gt;
 &lt;span dir=&quot;LTR&quot; style=&quot;font-family: &#39;Times New Roman&#39;\,serif\;&quot;&gt;&lt;!-- [if g
 te vml 1]&gt;&lt;v:shapetype\n id=&quot;_x0000_t75&quot; coordsize=&quot;21600\,21600&quot; o:spt=&quot;7
 5&quot; o:preferrelative=&quot;t&quot;\n path=&quot;m@4@5l@4@11@9@11@9@5xe&quot; filled=&quot;f&quot; stroked
 =&quot;f&quot;&gt;\n &lt;v:stroke joinstyle=&quot;miter&quot;/&gt;\n &lt;v:formulas&gt;\n  &lt;v:f eqn=&quot;if lineD
 rawn pixelLineWidth 0&quot;/&gt;\n  &lt;v:f eqn=&quot;sum @0 1 0&quot;/&gt;\n  &lt;v:f eqn=&quot;sum 0 0 @
 1&quot;/&gt;\n  &lt;v:f eqn=&quot;prod @2 1 2&quot;/&gt;\n  &lt;v:f eqn=&quot;prod @3 21600 pixelWidth&quot;/&gt;\
 n  &lt;v:f eqn=&quot;prod @3 21600 pixelHeight&quot;/&gt;\n  &lt;v:f eqn=&quot;sum @0 0 1&quot;/&gt;\n  &lt;v
 :f eqn=&quot;prod @6 1 2&quot;/&gt;\n  &lt;v:f eqn=&quot;prod @7 21600 pixelWidth&quot;/&gt;\n  &lt;v:f eq
 n=&quot;sum @8 21600 0&quot;/&gt;\n  &lt;v:f eqn=&quot;prod @7 21600 pixelHeight&quot;/&gt;\n  &lt;v:f eqn
 =&quot;sum @10 21600 0&quot;/&gt;\n &lt;/v:formulas&gt;\n &lt;v:path o:extrusionok=&quot;f&quot; gradients
 hapeok=&quot;t&quot; o:connecttype=&quot;rect&quot;/&gt;\n &lt;o:lock v:ext=&quot;edit&quot; aspectratio=&quot;t&quot;/&gt;
 \n&lt;/v:shapetype&gt;&lt;v:shape id=&quot;תמונה_x0020_2&quot; o:spid=&quot;_x0000_i1025&quot; typ
 e=&quot;#_x0000_t75&quot;\n alt=&quot;&quot; style=&#39;width:7in\;height:420pt&#39;&gt;\n &lt;v:imagedata s
 rc=&quot;file:///C:/Users/SHMUEL/AppData/Local/Temp/msohtmlclip1/01/clip_image0
 01.png&quot;\n  o:href=&quot;cid:image003.png@01D720A4.DAEBC990&quot;/&gt;\n&lt;/v:shape&gt;&lt;![end
 if]--&gt;&amp;lt\;![if !vml]&amp;gt\;&lt;img src=&quot;file:///C:/Users/SHMUEL/AppData/Local/
 Temp/msohtmlclip1/01/clip_image002.gif&quot; width=&quot;672&quot; height=&quot;560&quot; border=&quot;0
 &quot; /&gt;&amp;lt\;![endif]&amp;gt\;&lt;/span&gt;&lt;/p&gt;\n&lt;p class=&quot;xmsonormal&quot; dir=&quot;RTL&quot;&gt;&lt;span l
 ang=&quot;HE&quot; style=&quot;font-family: &#39;Times New Roman&#39;\,serif\;&quot;&gt;&amp;nbsp\;&lt;/span&gt;&lt;/p
 &gt;\n&lt;p class=&quot;xmsonormal&quot; dir=&quot;RTL&quot;&gt;&lt;span dir=&quot;LTR&quot;&gt;&amp;nbsp\;&lt;/span&gt;&lt;/p&gt;\n&lt;p 
 class=&quot;xmsonormal&quot; dir=&quot;RTL&quot;&gt;&lt;strong&gt;&lt;span lang=&quot;HE&quot; style=&quot;font-size: 10.
 0pt\; font-family: &#39;Arial&#39;\,sans-serif\; color: #444444\;&quot;&gt;עידית שפ
 ר&amp;nbsp\;&lt;/span&gt;&lt;/strong&gt;&lt;strong&gt;&lt;span lang=&quot;HE&quot; style=&quot;font-size: 10.0pt\
 ; font-family: &#39;Arial&#39;\,sans-serif\; color: #404040\;&quot;&gt;| מזכירת IEEE
  ישראל&lt;/span&gt;&lt;/strong&gt;&lt;/p&gt;\n&lt;p class=&quot;xmsonormal&quot; dir=&quot;RTL&quot;&gt;&lt;span lan
 g=&quot;HE&quot; style=&quot;font-size: 8.0pt\; font-family: &#39;Arial&#39;\,sans-serif\; color:
  #999999\;&quot;&gt;משרד&lt;/span&gt;&lt;strong&gt;&lt;span lang=&quot;HE&quot; style=&quot;font-size: 8.0pt
 \; font-family: &#39;Arial&#39;\,sans-serif\; color: #666666\;&quot;&gt;&amp;nbsp\;&lt;/span&gt;&lt;/st
 rong&gt;&lt;span lang=&quot;HE&quot; style=&quot;font-size: 8.0pt\; font-family: &#39;Arial&#39;\,sans-
 serif\; color: #444444\;&quot;&gt;03.5205818&lt;/span&gt;&lt;span lang=&quot;HE&quot; style=&quot;font-siz
 e: 8.0pt\; font-family: &#39;Arial&#39;\,sans-serif\; color: #666666\;&quot;&gt;&amp;nbsp\;&lt;/s
 pan&gt;&lt;span lang=&quot;HE&quot; style=&quot;font-size: 8.0pt\; font-family: &#39;Arial&#39;\,sans-s
 erif\; color: #999999\;&quot;&gt;|&amp;nbsp\;פקס&lt;/span&gt;&lt;strong&gt;&lt;span lang=&quot;HE&quot; styl
 e=&quot;font-size: 8.0pt\; font-family: &#39;Arial&#39;\,sans-serif\; color: #666666\;&quot;
 &gt;&amp;nbsp\;&lt;/span&gt;&lt;/strong&gt;&lt;span lang=&quot;HE&quot; style=&quot;font-size: 8.0pt\; font-fam
 ily: &#39;Arial&#39;\,sans-serif\; color: #444444\;&quot;&gt;03.5272496&lt;/span&gt;&lt;/p&gt;\n&lt;p cla
 ss=&quot;xmsonormal&quot; dir=&quot;RTL&quot; style=&quot;line-height: 115%\;&quot;&gt;&lt;span lang=&quot;HE&quot; styl
 e=&quot;font-family: &#39;Arial&#39;\,sans-serif\; color: #002060\;&quot;&gt;&lt;a href=&quot;mailto:id
 it@aeai.org.il&quot;&gt;&lt;span style=&quot;color: #0070c0\;&quot;&gt;דוא״ל&lt;/span&gt;&lt;/a&gt;&lt;/span
 &gt;&lt;span lang=&quot;HE&quot; style=&quot;font-family: &#39;Arial&#39;\,sans-serif\; color: #0070c0\
 ;&quot;&gt;&amp;nbsp\;|&amp;nbsp\;idit@aeai.org.il&lt;/span&gt;&lt;/p&gt;&lt;br /&gt;&lt;br /&gt;Agenda: &lt;br /&gt;&lt;ta
 ble width=&quot;725&quot;&gt;\n&lt;thead&gt;\n&lt;tr&gt;\n&lt;td width=&quot;103&quot;&gt;\n&lt;p&gt;&lt;strong&gt;שעה&lt;/stro
 ng&gt;&lt;/p&gt;\n&lt;/td&gt;\n&lt;td width=&quot;399&quot;&gt;\n&lt;p&gt;&lt;strong&gt;שם ההרצאה&lt;/strong&gt;&lt;/p
 &gt;\n&lt;/td&gt;\n&lt;td width=&quot;255&quot;&gt;\n&lt;p&gt;&lt;strong&gt;שם&lt;/strong&gt;&lt;/p&gt;\n&lt;/td&gt;\n&lt;td width
 =&quot;77&quot;&gt;\n&lt;p&gt;&amp;nbsp\;&lt;/p&gt;\n&lt;/td&gt;\n&lt;/tr&gt;\n&lt;/thead&gt;\n&lt;tbody&gt;\n&lt;tr&gt;\n&lt;td colspan
 =&quot;4&quot; width=&quot;103&quot;&gt;\n&lt;p&gt;&amp;nbsp\;&lt;/p&gt;\n&lt;/td&gt;\n&lt;/tr&gt;\n&lt;tr&gt;\n&lt;td width=&quot;103&quot;&gt;\n&lt;
 p&gt;10:00-10:05&lt;/p&gt;\n&lt;/td&gt;\n&lt;td width=&quot;399&quot;&gt;\n&lt;p&gt;דברי פתיחה מטע
 ם IEEE ולשכת המהנדסים&lt;/p&gt;\n&lt;/td&gt;\n&lt;td width=&quot;255&quot;&gt;\n&lt;p&gt;שמ
 ואל אוסטר\, יו&amp;rdquo\;ר IEEE ישראל ויו&amp;rdquo\;ר איג
 וד מהנדסי האלקטרוניקה בלשכת המהנדסים&lt;/p&gt;\n
 &lt;/td&gt;\n&lt;td width=&quot;77&quot;&gt;\n&lt;p&gt;&amp;nbsp\;&lt;/p&gt;\n&lt;/td&gt;\n&lt;/tr&gt;\n&lt;tr&gt;\n&lt;td width=&quot;103
 &quot;&gt;\n&lt;p&gt;10:05-10:15&lt;/p&gt;\n&lt;/td&gt;\n&lt;td width=&quot;399&quot;&gt;\n&lt;p&gt;מבוא ל AME&lt;/p&gt;\n&lt;
 /td&gt;\n&lt;td width=&quot;255&quot;&gt;\n&lt;p&gt;אולג נייגרציק ואביב רונן&lt;b
 r /&gt; רפאל בע&amp;rdquo\;מ&lt;/p&gt;\n&lt;/td&gt;\n&lt;td width=&quot;77&quot;&gt;\n&lt;p&gt;&amp;nbsp\;&lt;/p&gt;\n
 &lt;/td&gt;\n&lt;/tr&gt;\n&lt;tr&gt;\n&lt;td width=&quot;103&quot;&gt;\n&lt;p&gt;10:15-10:35&lt;/p&gt;\n&lt;/td&gt;\n&lt;td width
 =&quot;399&quot;&gt;\n&lt;p&gt;2D\,3D and 4D printing&amp;nbsp\; in AM of Electronics&lt;/p&gt;\n&lt;/td&gt;\
 n&lt;td width=&quot;255&quot;&gt;\n&lt;p&gt;פרופ&amp;rsquo\; שלמה מגדסי&lt;br /&gt; האונ
 יברסיטה העברית&lt;/p&gt;\n&lt;/td&gt;\n&lt;td width=&quot;77&quot;&gt;\n&lt;p&gt;&amp;nbsp\;&lt;/p&gt;\n&lt;
 /td&gt;\n&lt;/tr&gt;\n&lt;tr&gt;\n&lt;td width=&quot;103&quot;&gt;\n&lt;p&gt;10:35-10:55&lt;/p&gt;\n&lt;/td&gt;\n&lt;td width=
 &quot;399&quot;&gt;\n&lt;p&gt;Laser Induced Forward Transfer &amp;ndash\; an AM method for &amp;ldquo
 \;repair&amp;rdquo\; of electronics&lt;/p&gt;\n&lt;/td&gt;\n&lt;td width=&quot;255&quot;&gt;\n&lt;p&gt;דר&amp;rsqu
 o\; מנואלה הוד&lt;br /&gt; אורבוטק&lt;/p&gt;\n&lt;/td&gt;\n&lt;td width=&quot;77&quot;&gt;\n
 &lt;p&gt;&amp;nbsp\;&lt;/p&gt;\n&lt;/td&gt;\n&lt;/tr&gt;\n&lt;tr&gt;\n&lt;td width=&quot;103&quot;&gt;\n&lt;p&gt;10:55-11:15&lt;/p&gt;\n
 &lt;/td&gt;\n&lt;td width=&quot;399&quot;&gt;\n&lt;p&gt;דיו מוליך מנחושת להדפסת מ
 עגלים על מגוון מצעים בעל מוליכות גבוהה י
 ותר מדיו כסף &amp;ndash\; זול וידידותי לסביבה&lt;/p&gt;\n
 &lt;/td&gt;\n&lt;td width=&quot;255&quot;&gt;\n&lt;p&gt;דר&amp;rsquo\; עופר שוחט&lt;br /&gt; Copprint&lt;
 /p&gt;\n&lt;/td&gt;\n&lt;td width=&quot;77&quot;&gt;\n&lt;p&gt;&amp;nbsp\;&lt;/p&gt;\n&lt;/td&gt;\n&lt;/tr&gt;\n&lt;tr&gt;\n&lt;td width
 =&quot;103&quot;&gt;\n&lt;p&gt;11:15-11:35&lt;/p&gt;\n&lt;/td&gt;\n&lt;td width=&quot;399&quot;&gt;\n&lt;p&gt;העתיד כבר
  כאן &amp;ndash\;מערכת שיכולה להדפיס טלפון נייד&lt;/
 p&gt;\n&lt;/td&gt;\n&lt;td width=&quot;255&quot;&gt;\n&lt;p&gt;דר&amp;rsquo\; יוסי קפלון&lt;br /&gt; Nan
 o dimension&lt;/p&gt;\n&lt;/td&gt;\n&lt;td width=&quot;77&quot;&gt;\n&lt;p&gt;&amp;nbsp\;&lt;/p&gt;\n&lt;/td&gt;\n&lt;/tr&gt;\n&lt;tr
 &gt;\n&lt;td colspan=&quot;4&quot; width=&quot;103&quot;&gt;\n&lt;p&gt;&amp;nbsp\;&lt;/p&gt;\n&lt;/td&gt;\n&lt;/tr&gt;\n&lt;tr&gt;\n&lt;td w
 idth=&quot;103&quot;&gt;\n&lt;p&gt;13:00-13:20&lt;/p&gt;\n&lt;/td&gt;\n&lt;td width=&quot;399&quot;&gt;\n&lt;p&gt;הדפסה ד
 יגיטלית של אלקטרוניקה: טכנולוגיות ושימו
 שים בייצור המוני&lt;/p&gt;\n&lt;/td&gt;\n&lt;td width=&quot;255&quot;&gt;\n&lt;p&gt;חנן מ
 רקוביץ&amp;rsquo\;&lt;br /&gt; PV Nano Cell&lt;/p&gt;\n&lt;/td&gt;\n&lt;td width=&quot;77&quot;&gt;\n&lt;p&gt;&amp;n
 bsp\;&lt;/p&gt;\n&lt;/td&gt;\n&lt;/tr&gt;\n&lt;tr&gt;\n&lt;td width=&quot;103&quot;&gt;\n&lt;p&gt;13:20-13:40&lt;/p&gt;\n&lt;/td&gt;
 \n&lt;td width=&quot;399&quot;&gt;\n&lt;p&gt;הדפסה של נחושת &amp;ndash\; טכנולוג
 יה ויישומים&lt;/p&gt;\n&lt;/td&gt;\n&lt;td width=&quot;255&quot;&gt;\n&lt;p&gt;שגיא דהרן&lt;b
 r /&gt; PrintCB&lt;/p&gt;\n&lt;/td&gt;\n&lt;td width=&quot;77&quot;&gt;\n&lt;p&gt;&amp;nbsp\;&lt;/p&gt;\n&lt;/td&gt;\n&lt;/tr&gt;\n&lt;t
 r&gt;\n&lt;td width=&quot;103&quot;&gt;\n&lt;p&gt;13:40-14:00&lt;/p&gt;\n&lt;/td&gt;\n&lt;td width=&quot;399&quot;&gt;\n&lt;p&gt;אל
 קטרוניקה מודפסת דיגיטלית מבוססת נחושת&lt;/p&gt;
 \n&lt;/td&gt;\n&lt;td width=&quot;255&quot;&gt;\n&lt;p&gt;קובי מזוז&lt;br /&gt; CIC3D&lt;/p&gt;\n&lt;/td&gt;\n&lt;t
 d width=&quot;77&quot;&gt;\n&lt;p&gt;&amp;nbsp\;&lt;/p&gt;\n&lt;/td&gt;\n&lt;/tr&gt;\n&lt;tr&gt;\n&lt;td width=&quot;103&quot;&gt;\n&lt;p&gt;14
 :00-14:20&lt;/p&gt;\n&lt;/td&gt;\n&lt;td width=&quot;399&quot;&gt;\n&lt;p&gt;פולימרטל &amp;ndash\; טכ
 נולוגיה מהפכנית לייצור רכיבי תקשורת ו &amp;nda
 sh\; RF&lt;/p&gt;\n&lt;/td&gt;\n&lt;td width=&quot;255&quot;&gt;\n&lt;p&gt;כרמל אורון&lt;br /&gt; Polymet
 ral&lt;/p&gt;\n&lt;/td&gt;\n&lt;td width=&quot;77&quot;&gt;\n&lt;p&gt;&amp;nbsp\;&lt;/p&gt;\n&lt;/td&gt;\n&lt;/tr&gt;\n&lt;tr&gt;\n&lt;td c
 olspan=&quot;4&quot; width=&quot;103&quot;&gt;\n&lt;p&gt;&amp;nbsp\;&lt;/p&gt;\n&lt;/td&gt;\n&lt;/tr&gt;\n&lt;tr&gt;\n&lt;td width=&quot;10
 3&quot;&gt;\n&lt;p&gt;15:00-15:20&lt;/p&gt;\n&lt;/td&gt;\n&lt;td width=&quot;399&quot;&gt;\n&lt;p&gt;חיישני ננו 
 טכנולוגיה מודפסים לאחזקה חזויה במפעלים&lt;/
 p&gt;\n&lt;/td&gt;\n&lt;td width=&quot;255&quot;&gt;\n&lt;p&gt;דר&amp;rsquo\; מיטל שגב-בר&lt;br /&gt; Fe
 elit Technologies&lt;/p&gt;\n&lt;/td&gt;\n&lt;td width=&quot;77&quot;&gt;\n&lt;p&gt;&amp;nbsp\;&lt;/p&gt;\n&lt;/td&gt;\n&lt;/tr
 &gt;\n&lt;tr&gt;\n&lt;td width=&quot;103&quot;&gt;\n&lt;p&gt;15:20- 15:40&lt;/p&gt;\n&lt;/td&gt;\n&lt;td width=&quot;399&quot;&gt;\n&lt;
 p&gt;LDS process&lt;/p&gt;\n&lt;/td&gt;\n&lt;td width=&quot;255&quot;&gt;\n&lt;p&gt;Dirk Rettschlag&lt;br /&gt; LPKF&lt;
 /p&gt;\n&lt;/td&gt;\n&lt;td width=&quot;77&quot;&gt;\n&lt;p&gt;&amp;nbsp\;&lt;/p&gt;\n&lt;/td&gt;\n&lt;/tr&gt;\n&lt;tr&gt;\n&lt;td width
 =&quot;103&quot;&gt;\n&lt;p&gt;15:40-16:00&lt;/p&gt;\n&lt;/td&gt;\n&lt;td width=&quot;399&quot;&gt;\n&lt;p&gt;3D Electronic Sys
 tems by additive manufacturing&lt;/p&gt;\n&lt;/td&gt;\n&lt;td width=&quot;255&quot;&gt;\n&lt;p&gt;Frank Rosc
 her&lt;br /&gt; Fraunhofer&lt;/p&gt;\n&lt;/td&gt;\n&lt;td width=&quot;77&quot;&gt;\n&lt;p&gt;&amp;nbsp\;&lt;/p&gt;\n&lt;/td&gt;\n&lt;
 /tr&gt;\n&lt;tr&gt;\n&lt;td width=&quot;103&quot;&gt;\n&lt;p&gt;16:00-16:20&lt;/p&gt;\n&lt;/td&gt;\n&lt;td width=&quot;399&quot;&gt;\
 n&lt;p&gt;&amp;lsquo\;אלקטרוניקה בהדפסה דיגיטלית&amp;rsquo\;- פ
 תרון הדפסה דיגיטלית רב-שכבתית של מעגלים 
 ורכיבים דיגיטליים על מגוון חומרים&lt;/p&gt;\n&lt;/td&gt;\
 n&lt;td width=&quot;255&quot;&gt;\n&lt;p&gt;נועם אזוגי&lt;br /&gt; Chemcubed&lt;/p&gt;\n&lt;/td&gt;\n&lt;td 
 width=&quot;77&quot;&gt;\n&lt;p&gt;&amp;nbsp\;&lt;/p&gt;\n&lt;/td&gt;\n&lt;/tr&gt;\n&lt;tr&gt;\n&lt;td width=&quot;103&quot;&gt;\n&lt;p&gt;16:2
 0-16:40&lt;/p&gt;\n&lt;/td&gt;\n&lt;td width=&quot;399&quot;&gt;\n&lt;p&gt;Direct Capillary printing (DCP)&lt;/
 p&gt;\n&lt;/td&gt;\n&lt;td width=&quot;255&quot;&gt;\n&lt;p&gt;Dr. William Grande&lt;br /&gt; MicroPen&lt;/p&gt;\n&lt;/t
 d&gt;\n&lt;td width=&quot;77&quot;&gt;\n&lt;p&gt;&amp;nbsp\;&lt;/p&gt;\n&lt;/td&gt;\n&lt;/tr&gt;\n&lt;tr&gt;\n&lt;td width=&quot;103&quot;&gt;\
 n&lt;p&gt;16:40-17:00&lt;/p&gt;\n&lt;/td&gt;\n&lt;td width=&quot;399&quot;&gt;\n&lt;p&gt;דברי סיכום&lt;/p&gt;\n
 &lt;/td&gt;\n&lt;td width=&quot;255&quot;&gt;\n&lt;p&gt;אביב רונן\, יו&amp;rdquo\;ר IEEE EPS ו
 יו&amp;rdquo\;ר ענף זיווד אלקטרוני ומיקרואלקטרו
 ני בלשכת המהנדסים&lt;/p&gt;\n&lt;/td&gt;\n&lt;td width=&quot;77&quot;&gt;\n&lt;p&gt;&amp;nbsp\;&lt;/
 p&gt;\n&lt;/td&gt;\n&lt;/tr&gt;\n&lt;/tbody&gt;\n&lt;/table&gt;
END:VEVENT
END:VCALENDAR

