BEGIN:VCALENDAR
VERSION:2.0
PRODID:IEEE vTools.Events//EN
CALSCALE:GREGORIAN
BEGIN:VTIMEZONE
TZID:America/Lima
BEGIN:DAYLIGHT
DTSTART:20380118T221407
TZOFFSETFROM:-0500
TZOFFSETTO:-0500
RRULE:FREQ=YEARLY;BYDAY=3MO;BYMONTH=1
TZNAME:-05
END:DAYLIGHT
BEGIN:STANDARD
DTSTART:19940331T230000
TZOFFSETFROM:-0400
TZOFFSETTO:-0500
RRULE:FREQ=YEARLY;BYDAY=-1TH;BYMONTH=3
TZNAME:-05
END:STANDARD
END:VTIMEZONE
BEGIN:VEVENT
DTSTAMP:20210423T201752Z
UID:1BF714A7-0C91-46D2-AC9A-A1EC3D7DE61B
DTSTART;TZID=America/Lima:20210409T160000
DTEND;TZID=America/Lima:20210409T175100
DESCRIPTION:La presente actividad es una Conferencia de carácter Teórico 
 dirigida a los estudiantes de la Universidad de Piura interesados en el te
 ma. Se propone realizar una conferencia virtual\, abarcando los siguientes
  temas:\n\n- Capacitación en manejo de la interfaz de la plataforma Linke
 dIn.\n\nSpeaker(s): Fiorella Rosales\, \n\nPiura\, Piura\, Peru\, 20000\, 
 Virtual: https://events.vtools.ieee.org/m/269098
LOCATION:Piura\, Piura\, Peru\, 20000\, Virtual: https://events.vtools.ieee
 .org/m/269098
ORGANIZER:ieee.sb@udep.edu.pe
SEQUENCE:1
SUMMARY:USO DE LINKEDIN PARA GESTIONAR MI MARCA PERSONAL 2.0
URL;VALUE=URI:https://events.vtools.ieee.org/m/269098
X-ALT-DESC:Description: &lt;br /&gt;&lt;p&gt;&lt;span style=&quot;font-weight: 400\;&quot;&gt;La presen
 te actividad es una Conferencia de car&amp;aacute\;cter Te&amp;oacute\;rico dirigi
 da a los estudiantes de la Universidad de Piura interesados en el tema. Se
  propone realizar una conferencia virtual\, abarcando los siguientes temas
 :&lt;/span&gt;&lt;/p&gt;\n&lt;ul&gt;\n&lt;li style=&quot;font-weight: 400\;&quot; aria-level=&quot;1&quot;&gt;&lt;span st
 yle=&quot;font-weight: 400\;&quot;&gt;Capacitaci&amp;oacute\;n en manejo de la interfaz de 
 la plataforma LinkedIn.&lt;/span&gt;&lt;/li&gt;\n&lt;/ul&gt;
END:VEVENT
END:VCALENDAR

