BEGIN:VCALENDAR
VERSION:2.0
PRODID:IEEE vTools.Events//EN
CALSCALE:GREGORIAN
BEGIN:VTIMEZONE
TZID:Canada/Eastern
BEGIN:DAYLIGHT
DTSTART:20210314T030000
TZOFFSETFROM:-0500
TZOFFSETTO:-0400
RRULE:FREQ=YEARLY;BYDAY=2SU;BYMONTH=3
TZNAME:EDT
END:DAYLIGHT
BEGIN:STANDARD
DTSTART:20211107T010000
TZOFFSETFROM:-0400
TZOFFSETTO:-0500
RRULE:FREQ=YEARLY;BYDAY=1SU;BYMONTH=11
TZNAME:EST
END:STANDARD
END:VTIMEZONE
BEGIN:VEVENT
DTSTAMP:20211206T164749Z
UID:559601E8-A281-49C9-AD70-FCF56330510F
DTSTART;TZID=Canada/Eastern:20210710T120000
DTEND;TZID=Canada/Eastern:20210715T235900
DESCRIPTION:This competition aims to offer students an opportunity to exerc
 ise and improve their problem solving\, analytical\, programming\, and tec
 hnical writing skills. Only undergraduate and graduate students of the Uni
 versity of Windsor are eligible to participate in the competition.\n\nInst
 ructions for participation:\nInterested students should register for the e
 vent and download the challenge dataset from the [link](https://github.com
 /LSC-Lab/CISSMC-Challenge/blob/main/Dataset.zip?raw=true)\, to solve a mul
 ti-label classification problem\, where each sample of data has two labels
 . The solution must be based on deep learning\; however\, participants are
  free to use any deep learning algorithm of their choice or even propose t
 heir own architecture. The data is imbalanced and can be processed as desi
 red. Further instructions about this project are given on the second page 
 of the event poster.\n\nEach participant then requires to submit a report 
 by sending a PDF file along with the zipped project file to “cissmc@uwin
 dsor.ca”\, until July 15\, 2021\, indicating in the email subject “CIS
 SMC Challenge”. The report should contain the name and student ID of the
  participant\, and the project file should contain the source code and a f
 ile containing the predicted labels.\n\nThe submitted reports and the proj
 ect codes will be evaluated after the submission deadline. Only the shortl
 isted participants will be contacted once all submissions are reviewed.\n\
 nIEEE CIS/SMC Chapter offers the following awards:\nWinner for the best so
 lution – Certificate + 500CAD gift card\n2nd best solution – Certifica
 te + 300CAD gift card\n3rd best solution – Certificate + 200CAD gift car
 d\n\nBldg: E.D. Lumley Centre for Engineering Innovation (CEI)\, Universit
 y of Windsor\, 401 Sunset Ave\, Windsor\, Ontario\, Canada\, N9B 3P4
LOCATION:Bldg: E.D. Lumley Centre for Engineering Innovation (CEI)\, Univer
 sity of Windsor\, 401 Sunset Ave\, Windsor\, Ontario\, Canada\, N9B 3P4
ORGANIZER:cissmc@uwindsor.ca
SEQUENCE:12
SUMMARY:IEEE CIS/SMC Deep Learning Challenge
URL;VALUE=URI:https://events.vtools.ieee.org/m/269255
X-ALT-DESC:Description: &lt;br /&gt;&lt;p&gt;This competition aims to offer students an
  opportunity to exercise and improve their problem solving\, analytical\, 
 programming\, and technical writing skills. Only undergraduate and graduat
 e students of the University of Windsor are eligible to participate in the
  competition.&lt;/p&gt;\n&lt;p&gt;&lt;strong&gt;Instructions for participation:&lt;/strong&gt; &lt;br
  /&gt;Interested students should register for the event and download the chal
 lenge dataset from the &lt;a href=&quot;https://github.com/LSC-Lab/CISSMC-Challeng
 e/blob/main/Dataset.zip?raw=true&quot;&gt;link&lt;/a&gt;\, to solve a multi-label classi
 fication problem\, where each sample of data has two labels. The solution 
 must be based on deep learning\; however\, participants are free to use an
 y deep learning algorithm of their choice or even propose their own archit
 ecture. The data is imbalanced and can be processed as desired. Further in
 structions about this project are given on the second page of the event po
 ster.&lt;/p&gt;\n&lt;p&gt;Each participant then requires to submit a report by sending
  a PDF file along with the zipped project file to &lt;strong&gt;&amp;ldquo\;cissmc@u
 windsor.ca&amp;rdquo\;&lt;/strong&gt;\, until &lt;strong&gt;July 15\, 2021&lt;/strong&gt;\, indi
 cating in the email subject &amp;ldquo\;CISSMC Challenge&amp;rdquo\;. The report s
 hould contain the name and student ID of the participant\, and the project
  file should contain the source code and a file containing the predicted l
 abels.&lt;/p&gt;\n&lt;p&gt;The submitted reports and the project codes will be evaluat
 ed after the submission deadline. Only the shortlisted participants will b
 e contacted once all submissions are reviewed.&lt;/p&gt;\n&lt;p&gt;&lt;strong&gt;IEEE CIS/SM
 C Chapter offers the following awards:&lt;/strong&gt;&lt;br /&gt;Winner for the best s
 olution &amp;ndash\; Certificate + 500CAD gift card&lt;br /&gt;2nd best solution &amp;nd
 ash\; Certificate + 300CAD gift card&lt;br /&gt;3rd best solution &amp;ndash\; Certi
 ficate + 200CAD gift card&lt;/p&gt;
END:VEVENT
END:VCALENDAR

