BEGIN:VCALENDAR
VERSION:2.0
PRODID:IEEE vTools.Events//EN
CALSCALE:GREGORIAN
BEGIN:VTIMEZONE
TZID:NZ
BEGIN:DAYLIGHT
DTSTART:20210926T030000
TZOFFSETFROM:+1200
TZOFFSETTO:+1300
RRULE:FREQ=YEARLY;BYDAY=-1SU;BYMONTH=9
TZNAME:NZDT
END:DAYLIGHT
BEGIN:STANDARD
DTSTART:20210404T020000
TZOFFSETFROM:+1300
TZOFFSETTO:+1200
RRULE:FREQ=YEARLY;BYDAY=1SU;BYMONTH=4
TZNAME:NZST
END:STANDARD
END:VTIMEZONE
BEGIN:VEVENT
DTSTAMP:20210511T045257Z
UID:A6C906FA-EA2F-48B3-A2EC-7816CD50C99B
DTSTART;TZID=NZ:20210429T180000
DTEND;TZID=NZ:20210429T190000
DESCRIPTION:Distinguished Lecture\n\nThe IEEE PES NZ North Chapter is organ
 izing aDistinguished Lecture on DER and Network Integrity: Meter-Level Ope
 rating Envelopes. The event is part of the PES Day 2021 Celebrations.\n\nS
 peaker:\n\nProf. Luis(Nando) Ochoa\n\nThe University of Melbourne\n\nAustr
 alia\n\nThis is a free event and open to all. The event will be delivered 
 virtually. The online link will be sent to you close to the event.\n\n[Cli
 ck here to register](https://forms.gle/7WE2FqQ3vXQypzau5)\n\nRegistration 
 closes by 1700HRS\, 29nd April 2021\n\n(Scroll down for Abstract and Short
  Bio of Speaker)\n\nSpeaker(s): Prof. Nando\, \n\nVirtual: https://events.
 vtools.ieee.org/m/269729
LOCATION:Virtual: https://events.vtools.ieee.org/m/269729
ORGANIZER:ldus242@aucklanduni.ac.nz
SEQUENCE:4
SUMMARY:DER and Network Integrity: Meter-Level Operating Envelopes 
URL;VALUE=URI:https://events.vtools.ieee.org/m/269729
X-ALT-DESC:Description: &lt;br /&gt;&lt;h2&gt;&lt;span style=&quot;font-size: 14pt\;&quot;&gt;&lt;strong&gt;D
 istinguished Lecture&lt;/strong&gt;&lt;/span&gt;&lt;/h2&gt;\n&lt;p&gt;The IEEE PES NZ North Chapte
 r is organizing aDistinguished Lecture on &lt;strong&gt;DER and Network Integrit
 y: Meter-Level Operating Envelopes&lt;/strong&gt;. The event is part of the PES 
 Day 2021 Celebrations.&lt;/p&gt;\n&lt;p style=&quot;text-align: left\;&quot;&gt;Speaker:&lt;/p&gt;\n&lt;p
  style=&quot;text-align: left\;&quot;&gt;&lt;strong&gt;&lt;em&gt;Prof. &lt;/em&gt;&lt;/strong&gt;&lt;strong&gt;&lt;em&gt;Lu
 is(Nando) Ochoa&lt;/em&gt;&lt;/strong&gt;&lt;/p&gt;\n&lt;p style=&quot;text-align: left\;&quot;&gt;&lt;em&gt;The U
 niversity of &lt;/em&gt;&lt;em&gt;Melbourne&lt;/em&gt;&lt;/p&gt;\n&lt;p style=&quot;text-align: left\;&quot;&gt;&lt;e
 m&gt;Australia&lt;/em&gt;&lt;/p&gt;\n&lt;p style=&quot;text-align: left\;&quot;&gt;This is a free event a
 nd open to all. &lt;em&gt;&lt;strong&gt;The event will be delivered virtually&lt;/strong&gt;
 &lt;/em&gt;. The online link will be sent to you close to the event.&lt;/p&gt;\n&lt;p&gt;&lt;a 
 href=&quot;https://forms.gle/7WE2FqQ3vXQypzau5&quot; target=&quot;_blank&quot; rel=&quot;noopener&quot;&gt;
 Click here to register&lt;/a&gt;&lt;/p&gt;\n&lt;p&gt;Registration closes by 1700HRS\, 29nd A
 pril 2021&lt;/p&gt;\n&lt;p&gt;&lt;span style=&quot;color: #333333\;&quot;&gt;&lt;em&gt;(Scroll down for Abst
 ract and Short Bio of Speaker)&lt;/em&gt;&lt;/span&gt;&lt;/p&gt;\n&lt;p&gt;&amp;nbsp\;&lt;/p&gt;
END:VEVENT
END:VCALENDAR

