BEGIN:VCALENDAR
VERSION:2.0
PRODID:IEEE vTools.Events//EN
CALSCALE:GREGORIAN
BEGIN:VTIMEZONE
TZID:America/Argentina/Buenos_Aires
BEGIN:DAYLIGHT
DTSTART:20380119T001407
TZOFFSETFROM:-0300
TZOFFSETTO:-0300
RRULE:FREQ=YEARLY;BYDAY=3TU;BYMONTH=1
TZNAME:-03
END:DAYLIGHT
BEGIN:STANDARD
DTSTART:20090314T230000
TZOFFSETFROM:-0200
TZOFFSETTO:-0300
RRULE:FREQ=YEARLY;BYDAY=2SA;BYMONTH=3
TZNAME:-03
END:STANDARD
END:VTIMEZONE
BEGIN:VEVENT
DTSTAMP:20210430T115806Z
UID:3B40FDFA-3E8A-44F4-872D-6C0AC13EAE54
DTSTART;TZID=America/Argentina/Buenos_Aires:20210429T170000
DTEND;TZID=America/Argentina/Buenos_Aires:20210429T183000
DESCRIPTION:Se presentarán los Sistema de Medición de Syncrofasores y esq
 uemas RAS de Brasil y Uruguay\n\nCo-sponsored by: Departamento de Potencia
  - Instituto de Ingeniería Eléctrica - Universidad de la República (Uru
 guay)\n\nVirtual: https://events.vtools.ieee.org/m/270140
LOCATION:Virtual: https://events.vtools.ieee.org/m/270140
ORGANIZER:g.casaravilla@ieee.org
SEQUENCE:12
SUMMARY:Sistema de Medición de Sincrofasores y esquemas RAS de Brasil y Ur
 uguay
URL;VALUE=URI:https://events.vtools.ieee.org/m/270140
X-ALT-DESC:Description: &lt;br /&gt;&lt;p&gt;Se presentar&amp;aacute\;n los Sistema de Medi
 ci&amp;oacute\;n de Syncrofasores y esquemas RAS de Brasil y Uruguay&lt;/p&gt;
END:VEVENT
END:VCALENDAR

