BEGIN:VCALENDAR
VERSION:2.0
PRODID:IEEE vTools.Events//EN
CALSCALE:GREGORIAN
BEGIN:VTIMEZONE
TZID:America/Argentina/Buenos_Aires
BEGIN:DAYLIGHT
DTSTART:20380119T001407
TZOFFSETFROM:-0300
TZOFFSETTO:-0300
RRULE:FREQ=YEARLY;BYDAY=3TU;BYMONTH=1
TZNAME:-03
END:DAYLIGHT
BEGIN:STANDARD
DTSTART:20090314T230000
TZOFFSETFROM:-0200
TZOFFSETTO:-0300
RRULE:FREQ=YEARLY;BYDAY=2SA;BYMONTH=3
TZNAME:-03
END:STANDARD
END:VTIMEZONE
BEGIN:VEVENT
DTSTAMP:20220210T212518Z
UID:044E33C3-3CA9-4334-B6B7-AFCCF6AE4065
DTSTART;TZID=America/Argentina/Buenos_Aires:20210505T180000
DTEND;TZID=America/Argentina/Buenos_Aires:20210505T191500
DESCRIPTION:El Capítulo Argentino Conjunto de las Sociedades IEEE Antennas
  and Propagation (APS) y ElectroMagnetic Compatibility (EMCS) invita al we
 binario donde disertará el Dr. Ing. Alberto Bava sobre &quot;Simulación de CE
 M en enlaces de telecomunicación&quot;\, que se realizará el miércoles 05 de
  mayo de 2021\, de 18:00 a 19:15 AR (GMT-3)\, con asistencia libre y gratu
 ita.\n\nInscripcipon previa: https://forms.gle/xk3YMrkYJHcDmtDq7\n\nEl lin
 k de la sala de streaming se enviará a los inscriptos por email el día d
 el evento.\nResumen - &quot;Simulación de CEM en enlaces de telecomunicación&quot;
 \n\nEn esta presentación se describirán los distintos softwares de simul
 ación de campos electromagnéticos en enlaces de telecomunicaciones y se 
 analizarán los usos en el estudio de compatibilidad electromagnética.\n\
 nCon la nueva generación de simuladores electromagnéticos de modelos de 
 propagación se mostrarán ejemplos en entornos indoor\, analizando una re
 d WiFi de una edificación y un enlace de 5G en un vagón de un metro. Se 
 expondrán aplicaciones sobre entornos urbanos y suburbanos\, un ejemplo d
 e cobertura satelital y una evaluación de una antena móvil instalada sob
 re drone. Se observará una simulación de predicciones de EMC en un ejemp
 lo de análisis de RNI de un sistema de transmisión GSM.\n\nDisertante - 
 Dr. Ing. Alberto Bava\n\nAlberto Bava es Profesor en la Universidad Nacion
 al de La Plata (UNLP). Ingeniero en Telecomunicaciones (UNLP\, 1976)\, Mag
 ister en Redes de datos de la Facultad de Informática de la UNLP y Doctor
  en Ingeniería de la Facultad de Ingeniería de la UNLP.\n\nAgenda: \nMi
 ércoles 05 de mayo de 2021 - 18:00 a 19:15 AR (GMT-3)\n\nAsistencia libre
  y gratuita\, con inscripción previa\n\nEl link de la sala de streaming s
 e enviará a los inscriptos por email el día del evento.\n\nVirtual: http
 s://events.vtools.ieee.org/m/270513
LOCATION:Virtual: https://events.vtools.ieee.org/m/270513
ORGANIZER:sergio.figueroa1202@gmail.com
SEQUENCE:6
SUMMARY:IEEE AR EMCS - Webinario &quot;Simulación de CEM en enlaces de telecomu
 nicación&quot; - Alberto Bava
URL;VALUE=URI:https://events.vtools.ieee.org/m/270513
X-ALT-DESC:Description: &lt;br /&gt;&lt;p&gt;El Cap&amp;iacute\;tulo Argentino Conjunto de 
 las Sociedades IEEE Antennas and Propagation (APS) y ElectroMagnetic Compa
 tibility (EMCS) invita al webinario donde disertar&amp;aacute\; el &lt;strong&gt;Dr.
  Ing. Alberto Bava&lt;/strong&gt; sobre &quot;&lt;strong&gt;Simulaci&amp;oacute\;n de CEM en en
 laces de telecomunicaci&amp;oacute\;n&lt;/strong&gt;&quot;\, que se realizar&amp;aacute\; el 
 &lt;strong&gt;mi&amp;eacute\;rcoles&amp;nbsp\;05 de mayo de 2021\, de 18:00 a 19:15 AR (
 GMT-3)&lt;/strong&gt;\, con asistencia libre y gratuita.&amp;nbsp\;&lt;/p&gt;\n&lt;p&gt;&lt;strong&gt;
 Inscripcipon previa:&lt;/strong&gt;&amp;nbsp\; &amp;nbsp\;&lt;a title=&quot;inscripci&amp;oacute\;n&quot;
  href=&quot;https://forms.gle/xk3YMrkYJHcDmtDq7&quot; target=&quot;_blank&quot; rel=&quot;noopener&quot;
 &gt;https://forms.gle/xk3YMrkYJHcDmtDq7&lt;/a&gt;&lt;/p&gt;\n&lt;p&gt;El link de la sala de str
 eaming se enviar&amp;aacute\; a los inscriptos por email el d&amp;iacute\;a del ev
 ento.&lt;/p&gt;\n&lt;div&gt;&lt;strong&gt;Resumen -&amp;nbsp\;&quot;Simulaci&amp;oacute\;n de CEM en enla
 ces de telecomunicaci&amp;oacute\;n&quot;&lt;/strong&gt;&lt;/div&gt;\n&lt;div&gt;&amp;nbsp\;&lt;/div&gt;\n&lt;div&gt;
 En esta presentaci&amp;oacute\;n se describir&amp;aacute\;n los distintos software
 s de simulaci&amp;oacute\;n de campos electromagn&amp;eacute\;ticos en enlaces de 
 telecomunicaciones y se analizar&amp;aacute\;n los usos en el estudio de compa
 tibilidad electromagn&amp;eacute\;tica.&lt;/div&gt;\n&lt;div&gt;\n&lt;p&gt;Con la nueva generaci
 &amp;oacute\;n de simuladores electromagn&amp;eacute\;ticos de modelos de propagac
 i&amp;oacute\;n se mostrar&amp;aacute\;n ejemplos en entornos indoor\, analizando 
 una red WiFi de una edificaci&amp;oacute\;n y un enlace de 5G en un vag&amp;oacute
 \;n de un metro. Se expondr&amp;aacute\;n aplicaciones sobre entornos urbanos 
 y suburbanos\, un ejemplo de cobertura satelital y una evaluaci&amp;oacute\;n 
 de una antena m&amp;oacute\;vil instalada sobre drone. Se observar&amp;aacute\; un
 a simulaci&amp;oacute\;n de predicciones de EMC en un ejemplo de an&amp;aacute\;li
 sis de RNI de un sistema de transmisi&amp;oacute\;n GSM.&lt;/p&gt;\n&lt;/div&gt;\n&lt;p&gt;&lt;stro
 ng&gt;Disertante - Dr. Ing. Alberto Bava&lt;/strong&gt;&lt;/p&gt;\n&lt;p&gt;Alberto Bava es Pro
 fesor en la Universidad Nacional de La Plata (UNLP). Ingeniero en Telecomu
 nicaciones (UNLP\, 1976)\, Magister en Redes de datos de la&amp;nbsp\;Facultad
  de Inform&amp;aacute\;tica de la UNLP y Doctor en Ingenier&amp;iacute\;a de la Fa
 cultad de Ingenier&amp;iacute\;a de la UNLP.&lt;/p&gt;\n&lt;p&gt;&amp;nbsp\;&lt;/p&gt;\n&lt;p&gt;&amp;nbsp\;&lt;/
 p&gt;\n&lt;p&gt;&amp;nbsp\;&lt;/p&gt;&lt;br /&gt;&lt;br /&gt;Agenda: &lt;br /&gt;&lt;p&gt;Mi&amp;eacute\;rcoles 05 de may
 o de 2021 - 18:00 a 19:15 AR (GMT-3)&lt;/p&gt;\n&lt;p&gt;Asistencia libre y gratuita\,
  con &lt;strong&gt;inscripci&amp;oacute\;n previa&lt;/strong&gt;&lt;/p&gt;\n&lt;p&gt;El link de la sal
 a de streaming se enviar&amp;aacute\; a los inscriptos por email el d&amp;iacute\;
 a del evento.&lt;/p&gt;
END:VEVENT
END:VCALENDAR

