BEGIN:VCALENDAR
VERSION:2.0
PRODID:IEEE vTools.Events//EN
CALSCALE:GREGORIAN
BEGIN:VTIMEZONE
TZID:America/Mexico_City
BEGIN:DAYLIGHT
DTSTART:20210404T030000
TZOFFSETFROM:-0600
TZOFFSETTO:-0500
RRULE:FREQ=YEARLY;BYDAY=1SU;BYMONTH=4
TZNAME:CDT
END:DAYLIGHT
BEGIN:STANDARD
DTSTART:20211031T010000
TZOFFSETFROM:-0500
TZOFFSETTO:-0600
RRULE:FREQ=YEARLY;BYDAY=-1SU;BYMONTH=10
TZNAME:CST
END:STANDARD
END:VTIMEZONE
BEGIN:VEVENT
DTSTAMP:20210514T210232Z
UID:15700688-2BFC-4B59-B3FF-9EBF80C5F62A
DTSTART;TZID=America/Mexico_City:20210429T160000
DTEND;TZID=America/Mexico_City:20210429T180000
DESCRIPTION:Mostrar cómo impacta el diseño gráfico en el mundo\, como un
  buen diseño puede lograr cualquier reacción deseada en el espectador y 
 cuáles son los métodos más aceptados en la rama para crear cualquier tr
 abajo de diseño.\n\nVirtual: https://events.vtools.ieee.org/m/270714
LOCATION:Virtual: https://events.vtools.ieee.org/m/270714
ORGANIZER:ramaestudiantiluaemex@gmail.com
SEQUENCE:1
SUMMARY:Curso de diseño gráfico “Bases y conceptos para comprenderlo y 
 manejarlo”
URL;VALUE=URI:https://events.vtools.ieee.org/m/270714
X-ALT-DESC:Description: &lt;br /&gt;&lt;p&gt;Mostrar c&amp;oacute\;mo impacta el dise&amp;ntild
 e\;o gr&amp;aacute\;fico en el mundo\, como un buen dise&amp;ntilde\;o puede logra
 r&amp;nbsp\;cualquier reacci&amp;oacute\;n deseada en el espectador y cu&amp;aacute\;l
 es son los m&amp;eacute\;todos m&amp;aacute\;s aceptados en la rama para crear cua
 lquier trabajo de dise&amp;ntilde\;o.&lt;/p&gt;
END:VEVENT
END:VCALENDAR

