BEGIN:VCALENDAR
VERSION:2.0
PRODID:IEEE vTools.Events//EN
CALSCALE:GREGORIAN
BEGIN:VTIMEZONE
TZID:Canada/Central
BEGIN:DAYLIGHT
DTSTART:20210314T030000
TZOFFSETFROM:-0600
TZOFFSETTO:-0500
RRULE:FREQ=YEARLY;BYDAY=2SU;BYMONTH=3
TZNAME:CDT
END:DAYLIGHT
BEGIN:STANDARD
DTSTART:20211107T010000
TZOFFSETFROM:-0500
TZOFFSETTO:-0600
RRULE:FREQ=YEARLY;BYDAY=1SU;BYMONTH=11
TZNAME:CST
END:STANDARD
END:VTIMEZONE
BEGIN:VEVENT
DTSTAMP:20210826T223025Z
UID:0C9039D2-52F3-406C-A6A3-482C3833EC87
DTSTART;TZID=Canada/Central:20210505T180000
DTEND;TZID=Canada/Central:20210505T190000
DESCRIPTION:Join Women in Engineering Winnipeg for a virtual AMA (ask me an
 ything) event featuring recent University of Manitoba engineering grads wh
 o are now working in industry. Guest panellists include:\n\n- Prabodini Se
 masinghe\, Senior Firmware Developer at AGCO Winnipeg\n\n- Rong Guo\, Powe
 r Systems Engineer at Hatch\n\n- Azin Khafipour\, Research Technician at C
 hildren&#39;s Hospital Research Institute of Manitoba\n\n- Nydia Xu\, Electric
 al Engineering Consultant at Power Systems Consultants\n\nHear about their
  current jobs\, resume-writing and network-building tips and the job-seeki
 ng process!\n\nAll are welcome!\n\nVirtual: https://events.vtools.ieee.org
 /m/270728
LOCATION:Virtual: https://events.vtools.ieee.org/m/270728
ORGANIZER:fogelh@myumanitoba.ca
SEQUENCE:5
SUMMARY:WIE Winnipeg Career AMA
URL;VALUE=URI:https://events.vtools.ieee.org/m/270728
X-ALT-DESC:Description: &lt;br /&gt;&lt;p&gt;Join Women in Engineering Winnipeg for a v
 irtual AMA (ask me anything) event featuring recent University of Manitoba
  engineering grads who are now working in industry. Guest panellists inclu
 de:&lt;/p&gt;\n&lt;p&gt;- Prabodini Semasinghe\, Senior Firmware Developer at AGCO Win
 nipeg&lt;/p&gt;\n&lt;p&gt;- Rong Guo\, Power Systems Engineer at Hatch&lt;/p&gt;\n&lt;p&gt;- Azin 
 Khafipour\, Research Technician at Children&#39;s Hospital Research Institute 
 of Manitoba&lt;/p&gt;\n&lt;p&gt;- Nydia Xu\, Electrical Engineering Consultant at Powe
 r Systems Consultants&amp;nbsp\;&lt;/p&gt;\n&lt;p&gt;Hear about their current jobs\, resum
 e-writing and network-building tips and the job-seeking process!&lt;/p&gt;\n&lt;p&gt;A
 ll are welcome!&lt;/p&gt;
END:VEVENT
END:VCALENDAR

