BEGIN:VCALENDAR
VERSION:2.0
PRODID:IEEE vTools.Events//EN
CALSCALE:GREGORIAN
BEGIN:VTIMEZONE
TZID:US/Arizona
BEGIN:STANDARD
DTSTART:19671029T010000
TZOFFSETFROM:-0600
TZOFFSETTO:-0700
TZNAME:MST
END:STANDARD
END:VTIMEZONE
BEGIN:VEVENT
DTSTAMP:20210526T150033Z
UID:53D88009-F23A-4BEE-A29C-29E0A347A078
DTSTART;TZID=US/Arizona:20210524T120000
DTEND;TZID=US/Arizona:20210524T130000
DESCRIPTION:A discussion on cybersecurity\, keeping products safe from vuln
 erabilities and how it requires careful consideration\, planning and execu
 tion from a variety of roles in an organization.\n\nSpeaker(s): Behzad Mot
 tahed\, Ph.D.\, \n\nAgenda: \nWelcome and opening\n\nIntroduction to the S
 peaker\n\nPresentation\n\nQ&amp;A\n\nMeeting link: https://ieeemeetings.webex.
 com/ieeemeetings/j.php?MTID=mc31bfe1e268dfae25569c4e6babae04d\, Phoenix\, 
 Arizona\, United States\, Virtual: https://events.vtools.ieee.org/m/270832
LOCATION:Meeting link: https://ieeemeetings.webex.com/ieeemeetings/j.php?MT
 ID=mc31bfe1e268dfae25569c4e6babae04d\, Phoenix\, Arizona\, United States\,
  Virtual: https://events.vtools.ieee.org/m/270832
ORGANIZER:embs.phx@ieee.org
SEQUENCE:6
SUMMARY:EMBS Webinar: Cybersecurity - Product Security is Everyone&#39;s Respon
 sibility
URL;VALUE=URI:https://events.vtools.ieee.org/m/270832
X-ALT-DESC:Description: &lt;br /&gt;&lt;p&gt;A discussion on cybersecurity\, keeping pr
 oducts safe from vulnerabilities and how it requires careful consideration
 \, planning and execution from a variety of roles in an organization.&lt;/p&gt;&lt;
 br /&gt;&lt;br /&gt;Agenda: &lt;br /&gt;&lt;p&gt;Welcome and opening&lt;/p&gt;\n&lt;p&gt;Introduction to th
 e Speaker&lt;/p&gt;\n&lt;p&gt;Presentation&lt;/p&gt;\n&lt;p&gt;Q&amp;amp\;A&lt;/p&gt;
END:VEVENT
END:VCALENDAR

