BEGIN:VCALENDAR
VERSION:2.0
PRODID:IEEE vTools.Events//EN
CALSCALE:GREGORIAN
BEGIN:VTIMEZONE
TZID:America/Vancouver
BEGIN:DAYLIGHT
DTSTART:20210314T030000
TZOFFSETFROM:-0800
TZOFFSETTO:-0700
RRULE:FREQ=YEARLY;BYDAY=2SU;BYMONTH=3
TZNAME:PDT
END:DAYLIGHT
BEGIN:STANDARD
DTSTART:20211107T010000
TZOFFSETFROM:-0700
TZOFFSETTO:-0800
RRULE:FREQ=YEARLY;BYDAY=1SU;BYMONTH=11
TZNAME:PST
END:STANDARD
END:VTIMEZONE
BEGIN:VEVENT
DTSTAMP:20211001T223259Z
UID:CE018F2E-7CFE-4AA4-AE23-75B1251E436C
DTSTART;TZID=America/Vancouver:20210514T110000
DTEND;TZID=America/Vancouver:20210514T123000
DESCRIPTION:The impressive improvements of radiation detectors have led to 
 an exponential increase in the data rate they provide. To relieve the pres
 sure on data acquisition systems\, we are working on adding distributed an
 alyses on the data acquisition path. This talk will explore why machine le
 arning techniques offer lightweight\, low-latency opportunities to reduce 
 data at the source for several physics and medical imaging applications an
 d will highlight the main implementation challenges that must be overcome.
 \n\nThis talk is still new and a work in progress so feedback is very welc
 ome!\n\nCo-sponsored by: TRIUMF\n\nSpeaker(s): Audrey Corbeil Therrien\, \
 n\nVirtual: https://events.vtools.ieee.org/m/270840
LOCATION:Virtual: https://events.vtools.ieee.org/m/270840
ORGANIZER:ahmed.hussein@unbc.ca
SEQUENCE:10
SUMMARY:From particles to bits: The journey of information (Edge computing 
 for radiation detectors)
URL;VALUE=URI:https://events.vtools.ieee.org/m/270840
X-ALT-DESC:Description: &lt;br /&gt;&lt;p&gt;The impressive improvements of radiation d
 etectors have led to an exponential increase in the data rate they provide
 . To relieve the pressure on data acquisition systems\, we are working on 
 adding distributed analyses on the data acquisition path. This talk will e
 xplore why machine learning techniques offer lightweight\, low-latency opp
 ortunities to reduce data at the source for several physics and medical im
 aging applications and will highlight the main implementation challenges t
 hat must be overcome. &amp;nbsp\;&amp;nbsp\;&lt;br /&gt;&lt;br /&gt;This talk is still new and
  a work in progress so feedback is very welcome!&lt;br /&gt;&lt;br /&gt;&lt;/p&gt;
END:VEVENT
END:VCALENDAR

