BEGIN:VCALENDAR
VERSION:2.0
PRODID:IEEE vTools.Events//EN
CALSCALE:GREGORIAN
BEGIN:VTIMEZONE
TZID:US/Pacific
BEGIN:DAYLIGHT
DTSTART:20210314T030000
TZOFFSETFROM:-0800
TZOFFSETTO:-0700
RRULE:FREQ=YEARLY;BYDAY=2SU;BYMONTH=3
TZNAME:PDT
END:DAYLIGHT
BEGIN:STANDARD
DTSTART:20211107T010000
TZOFFSETFROM:-0700
TZOFFSETTO:-0800
RRULE:FREQ=YEARLY;BYDAY=1SU;BYMONTH=11
TZNAME:PST
END:STANDARD
END:VTIMEZONE
BEGIN:VEVENT
DTSTAMP:20220715T195339Z
UID:B297D4D5-ABA1-486F-975C-55553CBF4BF0
DTSTART;TZID=US/Pacific:20210520T180000
DTEND;TZID=US/Pacific:20210520T200000
DESCRIPTION:Meeting Description:\n\nPlease plan to attend this virtual meet
 ing of the Industry Applications Society. The speaker will be Bob Salter\,
  Engineering Advisor\, Equinix.\n\nThe meeting will cover:\n\n- 30 second 
 history\n- What does Amateur Radio look like today?\n-  As means of global
  social media\n-  Lifeline in times of need\n-  Other: Talking to satellit
 es\, digital communication\, weak signal communication\, ham radio with in
 ternet\, software defined radio\n-  How do I send an email even if the int
 ernet is down?\n- What are the elements of a station?\n- How do I get a st
 ation for under $50?\n- How do I get a license? Morse Code NOT required!\n
 - Where can I learn more?\n- We will likely do some live demos.\n\nSpeaker
 (s): Bob Salter\, Engineering Advisor\, Equinix\, \n\nAgenda: \nDate: Thur
 sday\, May 20\, 2021\n\nTime: Presentation will be from 6:00 to 8:00 pm\n\
 nPlace: Virtual Technical Meeting via WebEx\n\nRSVP: Please make reservati
 ons by May 19 by registering via vTools for WebEx Login information.\n\nCo
 st: Registration is Free\n\nVirtual: https://events.vtools.ieee.org/m/2711
 92
LOCATION:Virtual: https://events.vtools.ieee.org/m/271192
ORGANIZER:lmsq@pge.com
SEQUENCE:10
SUMMARY:Amateur Radio in 2021
URL;VALUE=URI:https://events.vtools.ieee.org/m/271192
X-ALT-DESC:Description: &lt;br /&gt;&lt;p&gt;&lt;strong&gt;&lt;u&gt;Meeting Description:&lt;/u&gt;&lt;/stron
 g&gt;&lt;/p&gt;\n&lt;p&gt;Please plan to attend this virtual meeting of the Industry Appl
 ications Society. The speaker will be Bob Salter\, Engineering Advisor\, E
 quinix.&lt;/p&gt;\n&lt;p&gt;The meeting will cover:&lt;/p&gt;\n&lt;ul&gt;\n&lt;li&gt;30 second history&lt;/
 li&gt;\n&lt;li&gt;What does Amateur Radio look like today?&lt;/li&gt;\n&lt;li&gt;&amp;nbsp\; As mea
 ns of global social media&lt;/li&gt;\n&lt;li&gt;&amp;nbsp\; Lifeline in times of need&lt;/li&gt;
 \n&lt;li&gt;&amp;nbsp\; Other: Talking to satellites\, digital communication\, weak 
 signal communication\, ham radio with internet\, software defined radio&lt;/l
 i&gt;\n&lt;li&gt;&amp;nbsp\; How do I send an email even if the internet is down?&lt;/li&gt;\
 n&lt;li&gt;What are the elements of a station?&lt;/li&gt;\n&lt;li&gt;How do I get a station 
 for under $50?&lt;/li&gt;\n&lt;li&gt;How do I get a license? Morse Code NOT required!&lt;
 /li&gt;\n&lt;li&gt;Where can I learn more?&lt;/li&gt;\n&lt;li&gt;We will likely do some live de
 mos.&lt;/li&gt;\n&lt;/ul&gt;&lt;br /&gt;&lt;br /&gt;Agenda: &lt;br /&gt;&lt;p&gt;Date: Thursday\, May 20\, 202
 1&lt;/p&gt;\n&lt;p&gt;Time: Presentation will be from 6:00 to 8:00 pm&lt;/p&gt;\n&lt;p&gt;Place: V
 irtual Technical Meeting via WebEx&lt;/p&gt;\n&lt;p&gt;RSVP: Please make reservations 
 by May 19 by registering via vTools&amp;nbsp\;for WebEx Login information.&lt;/p&gt;
 \n&lt;p&gt;Cost: Registration is Free&lt;/p&gt;
END:VEVENT
END:VCALENDAR

