BEGIN:VCALENDAR
VERSION:2.0
PRODID:IEEE vTools.Events//EN
CALSCALE:GREGORIAN
BEGIN:VTIMEZONE
TZID:America/Costa_Rica
BEGIN:STANDARD
DTSTART:19920314T230000
TZOFFSETFROM:-0500
TZOFFSETTO:-0600
TZNAME:CST
END:STANDARD
END:VTIMEZONE
BEGIN:VEVENT
DTSTAMP:20210504T000732Z
UID:12C78932-DAB9-4AAA-94E9-DBCE3AD39A08
DTSTART;TZID=America/Costa_Rica:20210503T170000
DTEND;TZID=America/Costa_Rica:20210503T173000
DESCRIPTION:Reunión para revisar y presentación de avances de talleres de
  los grupos de trabajos STEM de la Rama Estudiantil IEEE TEC.\n\nVirtual: 
 https://events.vtools.ieee.org/m/271440
LOCATION:Virtual: https://events.vtools.ieee.org/m/271440
ORGANIZER:ieee.tec.rama@gmail.com
SEQUENCE:1
SUMMARY:Reunión Planeación STEM General
URL;VALUE=URI:https://events.vtools.ieee.org/m/271440
X-ALT-DESC:Description: &lt;br /&gt;&lt;p&gt;Reuni&amp;oacute\;n para revisar y presentaci&amp;
 oacute\;n de avances de talleres de los grupos de trabajos STEM de la Rama
  Estudiantil IEEE TEC.&lt;/p&gt;
END:VEVENT
END:VCALENDAR

