BEGIN:VCALENDAR
VERSION:2.0
PRODID:IEEE vTools.Events//EN
CALSCALE:GREGORIAN
BEGIN:VTIMEZONE
TZID:US/Eastern
BEGIN:DAYLIGHT
DTSTART:20210314T030000
TZOFFSETFROM:-0500
TZOFFSETTO:-0400
RRULE:FREQ=YEARLY;BYDAY=2SU;BYMONTH=3
TZNAME:EDT
END:DAYLIGHT
BEGIN:STANDARD
DTSTART:20211107T010000
TZOFFSETFROM:-0400
TZOFFSETTO:-0500
RRULE:FREQ=YEARLY;BYDAY=1SU;BYMONTH=11
TZNAME:EST
END:STANDARD
END:VTIMEZONE
BEGIN:VEVENT
DTSTAMP:20210511T184320Z
UID:468B2151-AF3F-4ED6-81B0-087FA483C8C0
DTSTART;TZID=US/Eastern:20210511T120000
DTEND;TZID=US/Eastern:20210511T133000
DESCRIPTION:Winner of the IEEE Northern Virginia Chapter of the Year 2017\n
 Winner of the IEEE Northern Virginia Chapter of the Year 2018\n\nTHE REGUL
 ARLY SCHEDULED VTS MEETING WILL BE HELD ONLINE\n\nYou will need a computer
  with speakers to watch the presentation. A microphone and webcam are opti
 onal but encouraged.\n\nCost:  Free!\n\nPlease register by 5 pm Monday\, M
 ay 10\n\nWebinar login details will be provided by 10 am Tuesday\, May 11.
 \n\nCheck the Chapter website for updates:\nhttps://r2.ieee.org/dcnova-vts
 /\n\nSpeaker: David Zaidain\, Urban Planning and Transportation Practice A
 rea Leader\, Gensler\n\nTopic: Transforming the Capital Region’s Rail Sy
 stem\n\nNote: You only need to provide the required information (noted wit
 h a red *) on the registration weblink\, BUT please help us out and let us
  know if you are an IEEE or VTS member. Everyone is always welcome at our 
 meetings and membership is NOT required\, but when we send meeting reports
  to IEEE\, we need to list the number of IEEE/VTS members who participate.
 \n\nSpeaker(s): David Zaidain\, \n\nAgenda: \n- 12:00 am - Social conversa
 tion\n- 12:30 pm - Technical presentation &amp; discussion\n- 01:30 pm - Adjou
 rn\n\n-----------------------------------------------\n\nIEEE VTS CHAPTER 
 OFFICERS:\n\n- Chair: David (DJ) Johnson\n- Vice-Chair: Reg Mitchell\n- Se
 cretary: Karl Berger\, PE\n- Treasurer: Steve Bezner\, PE\n- Cashier: Ken 
 Briers\n- Program Committee: Heather Roman\, Matt Nawn\n\nPlease help your
  VTS Chapter: If you would like to speak or have contact information for a
  speaker\, please contact Heather Roman &lt;hroman at [omni-strategy dot com]
 (http://omni-strategy.com/)&gt; or Matt Nawn &lt;matthew.nawn at dot.gov&gt;\n\nOnl
 ine meeting / webinar\, Washington\, District of Columbia\, United States\
 , Virtual: https://events.vtools.ieee.org/m/271632
LOCATION:Online meeting / webinar\, Washington\, District of Columbia\, Uni
 ted States\, Virtual: https://events.vtools.ieee.org/m/271632
ORGANIZER:ieee.vts.dc@gmail.com
SEQUENCE:3
SUMMARY:VTS: Transforming the Capital Region’s Rail System
URL;VALUE=URI:https://events.vtools.ieee.org/m/271632
X-ALT-DESC:Description: &lt;br /&gt;&lt;div&gt;&lt;span style=&quot;color: #0000ff\; background
 -color: #ffff00\;&quot;&gt;&lt;strong&gt;Winner of the IEEE Northern Virginia Chapter of
  the Year 2017&lt;/strong&gt;&lt;/span&gt;&lt;/div&gt;\n&lt;div&gt;&lt;span style=&quot;color: #0000ff\; b
 ackground-color: #ff9900\;&quot;&gt;&lt;strong&gt;Winner of the IEEE Northern Virginia C
 hapter of the Year 2018&lt;/strong&gt;&lt;/span&gt;&lt;/div&gt;\n&lt;div&gt;&amp;nbsp\;&lt;/div&gt;\n&lt;div&gt;&lt;s
 pan style=&quot;text-decoration: underline\;&quot;&gt;&lt;strong&gt;&lt;span style=&quot;background-c
 olor: #ffffff\;&quot;&gt;THE REGULARLY SCHEDULED VTS MEETING WILL BE HELD ONLINE&lt;/
 span&gt;&lt;/strong&gt;&lt;/span&gt;&lt;/div&gt;\n&lt;div&gt;\n&lt;p&gt;You will need a computer with speak
 ers to watch the presentation.&amp;nbsp\; A microphone and webcam are optional
  but encouraged.&lt;/p&gt;\n&lt;/div&gt;\n&lt;div&gt;\n&lt;div&gt;&amp;nbsp\;&lt;/div&gt;\n&lt;div&gt;&lt;strong&gt;Cost
 :&amp;nbsp\;&lt;/strong&gt; Free!&lt;/div&gt;\n&lt;div&gt;&amp;nbsp\;&lt;/div&gt;\n&lt;div&gt;\n&lt;p&gt;&lt;span style=&quot;
 text-decoration: underline\;&quot;&gt;&lt;strong&gt;Please register by 5 pm Monday\, May
  10&lt;/strong&gt;&lt;/span&gt;&lt;/p&gt;\n&lt;/div&gt;\n&lt;div&gt;Webinar login details will be provid
 ed by 10 am Tuesday\, May 11.&lt;/div&gt;\n&lt;div&gt;&amp;nbsp\;&lt;/div&gt;\n&lt;div&gt;&lt;strong&gt;Chec
 k the Chapter website for updates:&lt;/strong&gt;&lt;/div&gt;\n&lt;div&gt;&lt;a href=&quot;https://r
 2.ieee.org/dcnova-vts/&quot; target=&quot;_blank&quot; rel=&quot;noopener&quot;&gt;https://r2.ieee.org
 /dcnova-vts/&lt;/a&gt;&lt;/div&gt;\n&lt;/div&gt;\n&lt;div&gt;&amp;nbsp\;&lt;/div&gt;\n&lt;div&gt;\n&lt;p&gt;&lt;strong&gt;Spea
 ker:&lt;/strong&gt; &amp;nbsp\;David Zaidain\, Urban Planning and Transportation Pra
 ctice Area Leader\, Gensler&lt;/p&gt;\n&lt;p&gt;&lt;strong&gt;Topic:&lt;/strong&gt; &amp;nbsp\; Transf
 orming the Capital Region&amp;rsquo\;s Rail System&lt;/p&gt;\n&lt;p&gt;&lt;strong&gt;Note:&lt;/stro
 ng&gt;&amp;nbsp\;You only need to provide the required information (noted with a 
 red *) on&amp;nbsp\;the registration weblink\, BUT please help us out and let 
 us know if&amp;nbsp\;you are an IEEE or VTS member.&amp;nbsp\; Everyone is always 
 welcome at our&amp;nbsp\;meetings and membership is NOT required\, but when we
  send meeting&amp;nbsp\;reports to IEEE\, we need to list the number of IEEE/V
 TS members who&amp;nbsp\;participate.&amp;nbsp\;&amp;nbsp\;&lt;/p&gt;\n&lt;/div&gt;&lt;br /&gt;&lt;br /&gt;Age
 nda: &lt;br /&gt;&lt;ul&gt;\n&lt;li&gt;12:00 am - Social conversation&lt;/li&gt;\n&lt;li&gt;12:30 pm - T
 echnical presentation &amp;amp\; discussion&lt;/li&gt;\n&lt;li&gt;01:30 pm - Adjourn&lt;/li&gt;\
 n&lt;/ul&gt;\n&lt;p&gt;-----------------------------------------------&lt;/p&gt;\n&lt;p&gt;&lt;span s
 tyle=&quot;color: #ff9900\;&quot;&gt;&lt;strong&gt;IEEE VTS CHAPTER OFFICERS:&lt;/strong&gt;&lt;br /&gt;&lt;
 br /&gt;&lt;/span&gt;&lt;/p&gt;\n&lt;ul&gt;\n&lt;li&gt;Chair: David (DJ) Johnson&lt;/li&gt;\n&lt;li&gt;Vice-Chair
 : Reg Mitchell&lt;/li&gt;\n&lt;li&gt;Secretary: Karl Berger\, PE&lt;/li&gt;\n&lt;li&gt;Treasurer: 
 Steve Bezner\, PE&lt;/li&gt;\n&lt;li&gt;Cashier: Ken Briers&lt;/li&gt;\n&lt;li&gt;Program Committe
 e: Heather Roman\, Matt Nawn&lt;/li&gt;\n&lt;/ul&gt;\n&lt;p&gt;&lt;strong&gt;&lt;span style=&quot;color: #
 ff9900\;&quot;&gt;&lt;span style=&quot;color: #000000\;&quot;&gt;&lt;span style=&quot;text-decoration: und
 erline\;&quot;&gt;Please help your VTS Chapter:&lt;/span&gt; If you would like to speak 
 or have contact information for a speaker\,&amp;nbsp\;please contact&amp;nbsp\; He
 ather Roman&amp;nbsp\;&amp;lt\;hroman at&amp;nbsp\;&lt;a href=&quot;http://omni-strategy.com/&quot;
  target=&quot;_blank&quot; rel=&quot;noopener noreferrer&quot; data-saferedirecturl=&quot;https://w
 ww.google.com/url?q=http://omni-strategy.com&amp;amp\;source=gmail&amp;amp\;ust=15
 86649713004000&amp;amp\;usg=AFQjCNEdJGLl4xfp1uW0i0c9GWSLNQ30Eg&quot;&gt;omni-strategy 
 dot com&lt;/a&gt;&amp;gt\; or&lt;/span&gt;&lt;/span&gt;&amp;nbsp\;Matt Nawn &amp;lt\;matthew.nawn at dot
 .gov&amp;gt\;&lt;/strong&gt;&lt;/p&gt;
END:VEVENT
END:VCALENDAR

