BEGIN:VCALENDAR
VERSION:2.0
PRODID:IEEE vTools.Events//EN
CALSCALE:GREGORIAN
BEGIN:VTIMEZONE
TZID:America/Chicago
BEGIN:DAYLIGHT
DTSTART:20210314T030000
TZOFFSETFROM:-0600
TZOFFSETTO:-0500
RRULE:FREQ=YEARLY;BYDAY=2SU;BYMONTH=3
TZNAME:CDT
END:DAYLIGHT
BEGIN:STANDARD
DTSTART:20211107T010000
TZOFFSETFROM:-0500
TZOFFSETTO:-0600
RRULE:FREQ=YEARLY;BYDAY=1SU;BYMONTH=11
TZNAME:CST
END:STANDARD
END:VTIMEZONE
BEGIN:VEVENT
DTSTAMP:20210525T122437Z
UID:BED4F5B2-6511-4752-985A-8BC9A4ED7B9D
DTSTART;TZID=America/Chicago:20210520T120000
DTEND;TZID=America/Chicago:20210520T130000
DESCRIPTION:As the landscape of distribution systems continues to increase 
 in complexity due to increased Distributed Energy Resource penetration\, i
 ncreased Electric Vehicle adoptions\, new advanced technologies and increa
 sed customer demands\, the design of the system needs to be considered as 
 a whole. Distribution Automation\, Voltage Optimization\, or Distributed E
 nergy Resource deployments cannot be introduced in isolation. Rather\, see
 mingly competing technologies need to be integrated together to continue a
 dvancing the reliability and resiliency of the grid. Utilities need to dev
 elop new technologies to accommodate the changing grid.\n\nSpeaker(s): Mar
 ina Mondello\, Mike Freeman\n\nAgenda: \n12:00 pm Introductions\n\n12:05 p
 m Presentation\n\n12:45 pm Q &amp; A\n\n1:00 pm Adjourn\n\nVirtual: https://ev
 ents.vtools.ieee.org/m/271813
LOCATION:Virtual: https://events.vtools.ieee.org/m/271813
ORGANIZER:dgnmopac@gmail.com
SEQUENCE:1
SUMMARY:The Changing Distribution System
URL;VALUE=URI:https://events.vtools.ieee.org/m/271813
X-ALT-DESC:Description: &lt;br /&gt;&lt;p&gt;As the landscape of distribution systems c
 ontinues to increase in complexity due to increased Distributed Energy Res
 ource penetration\, increased Electric Vehicle adoptions\, new advanced te
 chnologies and increased customer demands\, the design of the system needs
  to be considered as a whole. Distribution Automation\, Voltage Optimizati
 on\, or Distributed Energy Resource deployments cannot be introduced in is
 olation. Rather\, seemingly competing technologies need to be integrated t
 ogether to continue advancing the reliability and resiliency of the grid. 
 Utilities need to develop new technologies to accommodate the changing gri
 d.&lt;/p&gt;&lt;br /&gt;&lt;br /&gt;Agenda: &lt;br /&gt;&lt;p&gt;12:00 pm Introductions&lt;/p&gt;\n&lt;p&gt;12:05 pm
  Presentation&lt;/p&gt;\n&lt;p&gt;12:45 pm Q &amp;amp\; A&amp;nbsp\;&lt;/p&gt;\n&lt;p&gt;1:00 pm Adjourn&lt;/
 p&gt;
END:VEVENT
END:VCALENDAR

