BEGIN:VCALENDAR
VERSION:2.0
PRODID:IEEE vTools.Events//EN
CALSCALE:GREGORIAN
BEGIN:VTIMEZONE
TZID:Israel
BEGIN:DAYLIGHT
DTSTART:20210326T030000
TZOFFSETFROM:+0200
TZOFFSETTO:+0300
RRULE:FREQ=YEARLY;BYDAY=-1FR;BYMONTH=3
TZNAME:IDT
END:DAYLIGHT
BEGIN:STANDARD
DTSTART:20211031T010000
TZOFFSETFROM:+0300
TZOFFSETTO:+0200
RRULE:FREQ=YEARLY;BYDAY=-1SU;BYMONTH=10
TZNAME:IST
END:STANDARD
END:VTIMEZONE
BEGIN:VEVENT
DTSTAMP:20210508T163452Z
UID:4D78BBEA-27F5-4500-89B8-F56823258625
DTSTART;TZID=Israel:20210506T200000
DTEND;TZID=Israel:20210507T133000
DESCRIPTION:[RiscV and AI hackathon](https://www.ruppin.ac.il/אירועי
 ם/Pages/האקתון-מעבד-RICE-V-ומאיץ-בינה-מלאכותית
 .aspx)\n\nCo-sponsored by: Freddy Gabbay\n\nVirtual: https://events.vtools
 .ieee.org/m/271846
LOCATION:Virtual: https://events.vtools.ieee.org/m/271846
ORGANIZER:freddyg@ruppin.ac.il
SEQUENCE:0
SUMMARY:RiscV and AI hackathon
URL;VALUE=URI:https://events.vtools.ieee.org/m/271846
X-ALT-DESC:Description: &lt;br /&gt;&lt;p&gt;&lt;a title=&quot;RiscV and AI hackathon&quot; href=&quot;ht
 tps://www.ruppin.ac.il/אירועים/Pages/האקתון-מעבד-RICE-V-
 ומאיץ-בינה-מלאכותית.aspx&quot;&gt;RiscV and AI hackathon&lt;/a&gt;&lt;/p&gt;
END:VEVENT
END:VCALENDAR

