BEGIN:VCALENDAR
VERSION:2.0
PRODID:IEEE vTools.Events//EN
CALSCALE:GREGORIAN
BEGIN:VTIMEZONE
TZID:US/Eastern
BEGIN:DAYLIGHT
DTSTART:20210314T030000
TZOFFSETFROM:-0500
TZOFFSETTO:-0400
RRULE:FREQ=YEARLY;BYDAY=2SU;BYMONTH=3
TZNAME:EDT
END:DAYLIGHT
BEGIN:STANDARD
DTSTART:20211107T010000
TZOFFSETFROM:-0400
TZOFFSETTO:-0500
RRULE:FREQ=YEARLY;BYDAY=1SU;BYMONTH=11
TZNAME:EST
END:STANDARD
END:VTIMEZONE
BEGIN:VEVENT
DTSTAMP:20220110T153048Z
UID:B1035054-7FCC-4C79-AA41-A81C4B905139
DTSTART;TZID=US/Eastern:20210601T090000
DTEND;TZID=US/Eastern:20210602T124500
DESCRIPTION:Que ça soit l’optimisation des tests de protections\, l’é
 tablissement des postes numériques comme nouveau standard ou les menaces 
 de cybersécurité\, les changements et défis pour les intervenants sur l
 es réseaux électriques sont nombreux. Des conférenciers renommés d’h
 orizons différents (fournisseurs d’énergie\, prestataires de service e
 t établissements d’enseignement supérieure) présenteront des cas d’
 études et des solutions mises en place face à ces nouvelles situations.\
 n\nCo-sponsored by: OMICRON\n\nSpeaker(s): Chris Larrivée\, \n\nVirtual: 
 https://events.vtools.ieee.org/m/272133
LOCATION:Virtual: https://events.vtools.ieee.org/m/272133
ORGANIZER: info@omicronenergy.com 
SEQUENCE:18
SUMMARY:CONFÉRENCE FRANCOPHONE OMICRON: Test des protections | Sous-statio
 ns CEI 61850 | Cybersécurité. Link to complete Registration:https://eu.e
 ventscloud.com/website/4616/accueil/
URL;VALUE=URI:https://events.vtools.ieee.org/m/272133
X-ALT-DESC:Description: &lt;br /&gt;&lt;p&gt;Que &amp;ccedil\;a soit l&amp;rsquo\;optimisation 
 des tests de protections\, l&amp;rsquo\;&amp;eacute\;tablissement des postes num&amp;e
 acute\;riques comme nouveau standard ou les menaces de cybers&amp;eacute\;curi
 t&amp;eacute\;\, les changements et d&amp;eacute\;fis pour les intervenants sur le
 s r&amp;eacute\;seaux &amp;eacute\;lectriques sont nombreux. Des conf&amp;eacute\;renc
 iers renomm&amp;eacute\;s d&amp;rsquo\;horizons diff&amp;eacute\;rents (fournisseurs d
 &amp;rsquo\;&amp;eacute\;nergie\, prestataires de service et &amp;eacute\;tablissement
 s d&amp;rsquo\;enseignement sup&amp;eacute\;rieure) pr&amp;eacute\;senteront des cas d
 &amp;rsquo\;&amp;eacute\;tudes et des solutions mises en place face &amp;agrave\; ces 
 nouvelles situations.&lt;/p&gt;
END:VEVENT
END:VCALENDAR

