BEGIN:VCALENDAR
VERSION:2.0
PRODID:IEEE vTools.Events//EN
CALSCALE:GREGORIAN
BEGIN:VTIMEZONE
TZID:US/Pacific
BEGIN:DAYLIGHT
DTSTART:20210314T030000
TZOFFSETFROM:-0800
TZOFFSETTO:-0700
RRULE:FREQ=YEARLY;BYDAY=2SU;BYMONTH=3
TZNAME:PDT
END:DAYLIGHT
BEGIN:STANDARD
DTSTART:20211107T010000
TZOFFSETFROM:-0700
TZOFFSETTO:-0800
RRULE:FREQ=YEARLY;BYDAY=1SU;BYMONTH=11
TZNAME:PST
END:STANDARD
END:VTIMEZONE
BEGIN:VEVENT
DTSTAMP:20220316T014638Z
UID:CAE068E9-38B0-4DD4-B2B2-C2430F8DF714
DTSTART;TZID=US/Pacific:20210519T180000
DTEND;TZID=US/Pacific:20210519T210000
DESCRIPTION:SDIEEE EXCOM Meeting\n\nExecutive Committee meeting to discuss 
 upcoming San Diego IEEE activities.\n\nAll IEEE members welcome to attend.
  Please RSVP.\n\nAgenda for 05/19/2021:\nIntroduction\napproval of the age
 nda\napproval of last month&#39;s meeting minutes\nstudent branches report\nre
 ports from the Section\nLarge Section Award submission (Gabe submitted on 
 5/12\, great job!)\nSUSTECH (Doug)\nSD Section website --google search (Om
 ar and Upkar)\nNo information on SWA meeting\nMILCOM 21 (to be held in Nov
 /Dec in SD)\, SD/Chapter involvement\n\nOthers?\n\n- TBD\n\nTo add to the 
 agenda\, please email zhenshengz@gmail.com.\n\nAgenda: \n\n\nSan diego\, C
 alifornia\, United States\, 92121\, Virtual: https://events.vtools.ieee.or
 g/m/272230
LOCATION:San diego\, California\, United States\, 92121\, Virtual: https://
 events.vtools.ieee.org/m/272230
ORGANIZER:kathyh@ieee.org
SEQUENCE:3
SUMMARY:2021 Virtual Monthly San Diego IEEE EXCOM- May Meeting
URL;VALUE=URI:https://events.vtools.ieee.org/m/272230
X-ALT-DESC:Description: &lt;br /&gt;&lt;table style=&quot;height: 283px\;&quot; width=&quot;979&quot;&gt;\n
 &lt;tbody&gt;\n&lt;tr&gt;\n&lt;td&gt;\n&lt;p&gt;&amp;nbsp\;&lt;strong&gt;SDIEEE EXCOM Meeting&lt;/strong&gt;&lt;/p&gt;\n
 &lt;/td&gt;\n&lt;/tr&gt;\n&lt;tr&gt;\n&lt;td&gt;\n&lt;p&gt;Executive Committee meeting to discuss upcomi
 ng San Diego IEEE activities.&amp;nbsp\;&lt;/p&gt;\n&lt;p&gt;All IEEE members welcome to a
 ttend.&amp;nbsp\;Please RSVP.&amp;nbsp\;&lt;/p&gt;\n&lt;p&gt;Agenda for 05/19/2021:&lt;/p&gt;\n&lt;div&gt;
 Introduction&lt;/div&gt;\n&lt;div&gt;approval of the agenda&lt;/div&gt;\n&lt;div&gt;approval of la
 st month&#39;s meeting minutes&lt;/div&gt;\n&lt;div&gt;student branches&amp;nbsp\;report&lt;/div&gt;
 \n&lt;div&gt;reports from the Section&lt;/div&gt;\n&lt;div&gt;&amp;nbsp\; &amp;nbsp\; &amp;nbsp\;Large S
 ection Award submission&amp;nbsp\; &amp;nbsp\;(Gabe submitted on 5/12\,&amp;nbsp\; gre
 at job!)&lt;/div&gt;\n&lt;div&gt;&amp;nbsp\; &amp;nbsp\; &amp;nbsp\;SUSTECH&amp;nbsp\; &amp;nbsp\;(Doug)&lt;/
 div&gt;\n&lt;div&gt;&amp;nbsp\; &amp;nbsp\; &amp;nbsp\;SD Section website&amp;nbsp\;--google search
 &amp;nbsp\; (Omar and Upkar)&lt;/div&gt;\n&lt;div&gt;&amp;nbsp\; &amp;nbsp\; &amp;nbsp\;No information
 &amp;nbsp\;on SWA meeting&lt;/div&gt;\n&lt;div&gt;&amp;nbsp\; &amp;nbsp\; &amp;nbsp\;MILCOM 21 (to be 
 held in Nov/Dec in SD)\,&amp;nbsp\; &amp;nbsp\; SD/Chapter involvement&lt;/div&gt;\n&lt;div
 &gt;&amp;nbsp\;&lt;/div&gt;\n&lt;div&gt;Others?&lt;/div&gt;\n&lt;ol&gt;\n&lt;li&gt;TBD&lt;/li&gt;\n&lt;/ol&gt;\n&lt;/td&gt;\n&lt;/tr
 &gt;\n&lt;tr&gt;\n&lt;td&gt;\n&lt;p&gt;&amp;nbsp\;To add to the agenda\, please email zhenshengz@gm
 ail.com.&amp;nbsp\; &amp;nbsp\;&lt;/p&gt;\n&lt;/td&gt;\n&lt;/tr&gt;\n&lt;/tbody&gt;\n&lt;/table&gt;&lt;br /&gt;&lt;br /&gt;A
 genda: &lt;br /&gt;&lt;p&gt;&amp;nbsp\;&lt;/p&gt;\n&lt;p&gt;&amp;nbsp\;&lt;/p&gt;
END:VEVENT
END:VCALENDAR

