BEGIN:VCALENDAR
VERSION:2.0
PRODID:IEEE vTools.Events//EN
CALSCALE:GREGORIAN
BEGIN:VTIMEZONE
TZID:Asia/Kolkata
BEGIN:STANDARD
DTSTART:19451014T230000
TZOFFSETFROM:+0630
TZOFFSETTO:+0530
TZNAME:IST
END:STANDARD
END:VTIMEZONE
BEGIN:VEVENT
DTSTAMP:20210515T090938Z
UID:B4B00FC4-2A84-4CB5-93B5-2FF9106BFF47
DTSTART;TZID=Asia/Kolkata:20210412T110000
DTEND;TZID=Asia/Kolkata:20210412T120000
DESCRIPTION:IEEE BIT Execom meeting hosted by Dr jalaja S Branch Counselor 
 on 12th April 2021. In that meeting complete year events of calender and f
 uture membership drive is discussed.\n\nBangalore\, Karnataka\, India\, Vi
 rtual: https://events.vtools.ieee.org/m/272301
LOCATION:Bangalore\, Karnataka\, India\, Virtual: https://events.vtools.iee
 e.org/m/272301
ORGANIZER:jalajas@ieee.org
SEQUENCE:0
SUMMARY:IEEE BIT Execom Meeting
URL;VALUE=URI:https://events.vtools.ieee.org/m/272301
X-ALT-DESC:Description: &lt;br /&gt;&lt;p&gt;IEEE BIT Execom meeting hosted by Dr jalaj
 a S Branch Counselor on 12th April 2021. In that meeting complete year eve
 nts of calender and future membership drive is discussed.&lt;/p&gt;
END:VEVENT
END:VCALENDAR

